BEGIN:VCALENDAR
VERSION:2.0
PRODID:-//San Martín de Valdeiglesias - ECPv6.15.20//NONSGML v1.0//EN
CALSCALE:GREGORIAN
METHOD:PUBLISH
X-WR-CALNAME:San Martín de Valdeiglesias
X-ORIGINAL-URL:https://www.sanmartindevaldeiglesias.es
X-WR-CALDESC:Eventos para San Martín de Valdeiglesias
REFRESH-INTERVAL;VALUE=DURATION:PT1H
X-Robots-Tag:noindex
X-PUBLISHED-TTL:PT1H
BEGIN:VTIMEZONE
TZID:Europe/Madrid
BEGIN:DAYLIGHT
TZOFFSETFROM:+0100
TZOFFSETTO:+0200
TZNAME:CEST
DTSTART:20220327T010000
END:DAYLIGHT
BEGIN:STANDARD
TZOFFSETFROM:+0200
TZOFFSETTO:+0100
TZNAME:CET
DTSTART:20221030T010000
END:STANDARD
BEGIN:DAYLIGHT
TZOFFSETFROM:+0100
TZOFFSETTO:+0200
TZNAME:CEST
DTSTART:20230326T010000
END:DAYLIGHT
BEGIN:STANDARD
TZOFFSETFROM:+0200
TZOFFSETTO:+0100
TZNAME:CET
DTSTART:20231029T010000
END:STANDARD
BEGIN:DAYLIGHT
TZOFFSETFROM:+0100
TZOFFSETTO:+0200
TZNAME:CEST
DTSTART:20240331T010000
END:DAYLIGHT
BEGIN:STANDARD
TZOFFSETFROM:+0200
TZOFFSETTO:+0100
TZNAME:CET
DTSTART:20241027T010000
END:STANDARD
BEGIN:DAYLIGHT
TZOFFSETFROM:+0100
TZOFFSETTO:+0200
TZNAME:CEST
DTSTART:20250330T010000
END:DAYLIGHT
BEGIN:STANDARD
TZOFFSETFROM:+0200
TZOFFSETTO:+0100
TZNAME:CET
DTSTART:20251026T010000
END:STANDARD
BEGIN:DAYLIGHT
TZOFFSETFROM:+0100
TZOFFSETTO:+0200
TZNAME:CEST
DTSTART:20260329T010000
END:DAYLIGHT
BEGIN:STANDARD
TZOFFSETFROM:+0200
TZOFFSETTO:+0100
TZNAME:CET
DTSTART:20261025T010000
END:STANDARD
END:VTIMEZONE
BEGIN:VEVENT
DTSTART;TZID=Europe/Madrid:20231202T100000
DTEND;TZID=Europe/Madrid:20231202T140000
DTSTAMP:20260420T101908
CREATED:20231122T134820Z
LAST-MODIFIED:20231122T134820Z
UID:24611-1701511200-1701525600@www.sanmartindevaldeiglesias.es
SUMMARY:Torneo palas solidarias
DESCRIPTION:
URL:https://www.sanmartindevaldeiglesias.es/evento/torneo-palas-solidarias/
LOCATION:Patronato municipal de deportes\, Calle salamanca 17\, San Martín de valdeiglesias\, Madrid\, 28680\, España
CATEGORIES:Deportes
END:VEVENT
BEGIN:VEVENT
DTSTART;TZID=Europe/Madrid:20231202T180000
DTEND;TZID=Europe/Madrid:20231202T200000
DTSTAMP:20260420T101908
CREATED:20231122T134959Z
LAST-MODIFIED:20231122T134959Z
UID:24613-1701540000-1701547200@www.sanmartindevaldeiglesias.es
SUMMARY:Brazadas solidarias
DESCRIPTION:
URL:https://www.sanmartindevaldeiglesias.es/evento/brazadas-solidarias/
LOCATION:Piscina Climatizada\, C/ Salamanca\, 17\, San Martín de Valdeiglesias\, Comunidad de Madrid\, 28680\, España
CATEGORIES:Deportes
END:VEVENT
BEGIN:VEVENT
DTSTART;TZID=Europe/Madrid:20231216T110000
DTEND;TZID=Europe/Madrid:20231216T130000
DTSTAMP:20260420T101908
CREATED:20231213T101540Z
LAST-MODIFIED:20231213T101540Z
UID:24677-1702724400-1702731600@www.sanmartindevaldeiglesias.es
SUMMARY:Ruta Mtb solidaria
DESCRIPTION:Ruta Solidaria: «Juguetes para todos».  Dona un juguete para los niños más necesitados y participa en la ruta. \nSábado 16 de diciembre. 11 horas. Salida desde la Plaza del Ayuntamiento.
URL:https://www.sanmartindevaldeiglesias.es/evento/ruta-mtb-solidaria/
LOCATION:Ayuntamiento
CATEGORIES:Deportes
END:VEVENT
BEGIN:VEVENT
DTSTART;TZID=Europe/Madrid:20231223T120000
DTEND;TZID=Europe/Madrid:20231223T133000
DTSTAMP:20260420T101908
CREATED:20231222T114649Z
LAST-MODIFIED:20231222T114649Z
UID:24765-1703332800-1703338200@www.sanmartindevaldeiglesias.es
SUMMARY:Chapas por juguetes
DESCRIPTION:Torneo solidario de Chapas.  Para participar es necesario aportar un juguete nuevo. \n 
URL:https://www.sanmartindevaldeiglesias.es/evento/chapas-por-juguetes/
LOCATION:Plaza del Rucero\, Plaza del Rucero\, San Martín de Valdeiglesias\, Madrid\, 28680\, España
CATEGORIES:Bienestar social,Deportes
END:VEVENT
BEGIN:VEVENT
DTSTART;TZID=Europe/Madrid:20231224T080000
DTEND;TZID=Europe/Madrid:20231224T140000
DTSTAMP:20260420T101908
CREATED:20231214T121325Z
LAST-MODIFIED:20231214T121325Z
UID:24703-1703404800-1703426400@www.sanmartindevaldeiglesias.es
SUMMARY:Torneo de futsal
DESCRIPTION:Torneo de Futsal benéfico para 4º de la ESO. \nInscripciones hasta el 19 de diciembre.  Inscripción: 20 € por equipo.\nCategoría cadete.\nMáximo 8 equipos.\nInscripciones: 699843305. \n 
URL:https://www.sanmartindevaldeiglesias.es/evento/torneo-de-futsal/
CATEGORIES:Deportes
END:VEVENT
BEGIN:VEVENT
DTSTART;TZID=Europe/Madrid:20240104T190000
DTEND;TZID=Europe/Madrid:20240104T203000
DTSTAMP:20260420T101908
CREATED:20240103T102307Z
LAST-MODIFIED:20240103T102307Z
UID:24789-1704394800-1704400200@www.sanmartindevaldeiglesias.es
SUMMARY:Charla-coloquio: "43 años construyendo futuro"
DESCRIPTION:El Club de Atletismo Valdeiglesias Martín-Berlanas\, les invita el día 4 de enero\, a las 19 h\, en el Salón de Plenos del Ayuntamiento de San Martín de Valdeiglesias a la charla-coloquio: «43 años construyendo futuro» \nContaremos con la presencia de destacados atletas internacionales formados en el club: \n\nLuis Miguel Martín Berlanas: Diploma olímpico y medallista internacional.\nLaura Luengo Caselles: Plusmarquista nacional de media maratón.\nJuanlu Bravo Recio: Saltador de pértiga\, varias veces internacional.\n\nY además\, jóvenes promesas del atletismo español actual que forman parte de nuestro club como son: Esteban Patiño\, Alejandro Luengo y Guillermo Sánchez.
URL:https://www.sanmartindevaldeiglesias.es/evento/charla-coloquio-43-anos-construyendo-futuro/
LOCATION:Ayuntamiento
CATEGORIES:Deportes
END:VEVENT
BEGIN:VEVENT
DTSTART;TZID=Europe/Madrid:20240225T100000
DTEND;TZID=Europe/Madrid:20240225T140000
DTSTAMP:20260420T101908
CREATED:20240221T123727Z
LAST-MODIFIED:20240221T131548Z
UID:25129-1708855200-1708869600@www.sanmartindevaldeiglesias.es
SUMMARY:Prueba ciclista Supercup
DESCRIPTION:Prueba ciclista\, tanto de escuelas como de adultos\, organizada por el Club Ciclista Valdeiglesias y el Club MTB Valdeiglesias\,  puntuable para la Supercup. \nLa carrera cuenta con la colaboración del Ayuntamiento de San Martín de Valdeiglesias y se realizará en el paraje de la Virgen de la Nueva. \nMás información
URL:https://www.sanmartindevaldeiglesias.es/evento/prueba-ciclista-supercup/
LOCATION:Paraje Virgen de la Nueva\, San Martín de Valdeiglesias\, Madrid\, 28680\, España
CATEGORIES:Deportes
END:VEVENT
BEGIN:VEVENT
DTSTART;TZID=Europe/Madrid:20240504T093000
DTEND;TZID=Europe/Madrid:20240504T170000
DTSTAMP:20260420T101908
CREATED:20240422T090828Z
LAST-MODIFIED:20240422T090854Z
UID:25497-1714815000-1714842000@www.sanmartindevaldeiglesias.es
SUMMARY:Marcha de la mujer MTB
DESCRIPTION:Marcha de la Mujer en  MTB\, organizada por el Club Ciclista Valdeiglesias\, el Club MTB Valdeiglesias y el Ayuntamiento de San Martín de Valdeiglesias. \nSalida desde el Castillo de la Coracera para realizar la Ruta Camino del Boquerón. 9:30 h.
URL:https://www.sanmartindevaldeiglesias.es/evento/marcha-de-la-mujer-mtb/
CATEGORIES:Deportes
END:VEVENT
BEGIN:VEVENT
DTSTART;TZID=Europe/Madrid:20240511T080000
DTEND;TZID=Europe/Madrid:20240511T170000
DTSTAMP:20260420T101908
CREATED:20240419T085524Z
LAST-MODIFIED:20240508T110742Z
UID:25474-1715414400-1715446800@www.sanmartindevaldeiglesias.es
SUMMARY:X Rally Sprint y concentración de clásicos
DESCRIPTION:Salida a las  14 h. desde la Plaza de Toros.\nLlegada prevista a las 19:30 h. en la Plaza de Toros.\nTrofeo: Álvarez Competición. \nDesde las 15 h. hasta las 19:00 h.\, habrá cuna concentración de coches clásicos en la Plaza de Toros. \n 
URL:https://www.sanmartindevaldeiglesias.es/evento/x-rally-sprint/
LOCATION:Plaza de toros
CATEGORIES:Deportes
END:VEVENT
BEGIN:VEVENT
DTSTART;TZID=Europe/Madrid:20240518T090000
DTEND;TZID=Europe/Madrid:20240518T150000
DTSTAMP:20260420T101908
CREATED:20240517T111933Z
LAST-MODIFIED:20240517T112512Z
UID:25625-1716022800-1716044400@www.sanmartindevaldeiglesias.es
SUMMARY:Baloncesto: fase zonal.
DESCRIPTION:
URL:https://www.sanmartindevaldeiglesias.es/evento/25625/
LOCATION:Patronato municipal de deportes\, Calle salamanca 17\, San Martín de valdeiglesias\, Madrid\, 28680\, España
CATEGORIES:Deportes
END:VEVENT
BEGIN:VEVENT
DTSTART;TZID=Europe/Madrid:20240619T190000
DTEND;TZID=Europe/Madrid:20240619T200000
DTSTAMP:20260420T101908
CREATED:20240619T080221Z
LAST-MODIFIED:20240619T080221Z
UID:25897-1718823600-1718827200@www.sanmartindevaldeiglesias.es
SUMMARY:Día del Yoga
DESCRIPTION:Naciones Unidas ha declarado el día 21 de junio como el Día Internacional del Yoga\, una práctica transformadora que representa la armonía de la mente y el cuerpo\, el equilibrio entre el pensamiento y la acción\, y la unidad de la moderación y la plenitud. \nEn San Martín de Valdeiglesias lo celebramos un poco antes\, el día 19\, con una clase abierta a todas las personas que deseen participar. \nEntrada libre.  19 de junio. 19 h. Piscina municipal. \nEsta actividad está organizada por el Centro Adauro.
URL:https://www.sanmartindevaldeiglesias.es/evento/dia-del-yoga-2/
LOCATION:Piscina Municipal\, Plaza de los deportes\, San Martín de Valdeiglesias\, Madrid\, 28680\, España
CATEGORIES:Deportes,Salud
END:VEVENT
BEGIN:VEVENT
DTSTART;TZID=Europe/Madrid:20240622T090000
DTEND;TZID=Europe/Madrid:20240622T141500
DTSTAMP:20260420T101908
CREATED:20240614T104618Z
LAST-MODIFIED:20240614T104618Z
UID:25862-1719046800-1719065700@www.sanmartindevaldeiglesias.es
SUMMARY:Jornada Padres e Hijos
DESCRIPTION:La concejalía de Deportes finaliza el curso deportivo con la tradicional jornada de padres e hijos para disfrutar del deporte en familia. \nLas actividades deportivas se realizarán de 9 a 12:30 h. La piscina de 12:30 a 14:15 h. \nEspecialidades deportivas: fútbol\, pádel\, natación\, baloncesto\, juegos predeportivos\, atletismo y patinaje.
URL:https://www.sanmartindevaldeiglesias.es/evento/jornada-padres-e-hijos-2/
LOCATION:Patronato municipal de deportes\, Calle salamanca 17\, San Martín de valdeiglesias\, Madrid\, 28680\, España
CATEGORIES:Deportes
END:VEVENT
BEGIN:VEVENT
DTSTART;TZID=Europe/Madrid:20240624T163000
DTEND;TZID=Europe/Madrid:20240624T200000
DTSTAMP:20260420T101908
CREATED:20240621T095810Z
LAST-MODIFIED:20240621T095810Z
UID:25954-1719246600-1719259200@www.sanmartindevaldeiglesias.es
SUMMARY:Fiesta del agua
DESCRIPTION:Fiesta con hinchables para celebrar la apertura de la piscina municipal de verano. \n16:30 h. \n 
URL:https://www.sanmartindevaldeiglesias.es/evento/fiesta-del-agua-2/
LOCATION:Piscina Municipal\, Plaza de los deportes\, San Martín de Valdeiglesias\, Madrid\, 28680\, España
CATEGORIES:Deportes
END:VEVENT
BEGIN:VEVENT
DTSTART;VALUE=DATE:20240712
DTEND;VALUE=DATE:20240715
DTSTAMP:20260420T101908
CREATED:20240621T112649Z
LAST-MODIFIED:20240621T112649Z
UID:25960-1720742400-1721001599@www.sanmartindevaldeiglesias.es
SUMMARY:Maratón fútbol 7
DESCRIPTION:Organizado por el club de fútbol Atlético Valdeiglesias. \nCampo municipal de fútbol «José Rodríguez». \n 
URL:https://www.sanmartindevaldeiglesias.es/evento/maraton-futbol-7-2/
LOCATION:Campo de fútbol
CATEGORIES:Deportes
END:VEVENT
BEGIN:VEVENT
DTSTART;VALUE=DATE:20240719
DTEND;VALUE=DATE:20240722
DTSTAMP:20260420T101908
CREATED:20240621T114236Z
LAST-MODIFIED:20240621T114236Z
UID:25966-1721347200-1721606399@www.sanmartindevaldeiglesias.es
SUMMARY:Maratón deportivo
DESCRIPTION:Maratón deportivo en las instalaciones municipales. \nVer programación a parte. \n 
URL:https://www.sanmartindevaldeiglesias.es/evento/maraton-deportivo-5/
LOCATION:Patronato municipal de deportes\, Calle salamanca 17\, San Martín de valdeiglesias\, Madrid\, 28680\, España
CATEGORIES:Deportes
END:VEVENT
BEGIN:VEVENT
DTSTART;TZID=Europe/Madrid:20240723T180000
DTEND;TZID=Europe/Madrid:20240723T210000
DTSTAMP:20260420T101908
CREATED:20240621T121713Z
LAST-MODIFIED:20240716T122646Z
UID:25974-1721757600-1721768400@www.sanmartindevaldeiglesias.es
SUMMARY:Torneo petanca mixto
DESCRIPTION:Con motivo de la Semana del Mayor el Ayuntamiento\, en colaboración con el club de petanca\, organiza un torneo de petanca mixto. \nParque de La Estación. \nVer programación completa de la Semana del Mayor.
URL:https://www.sanmartindevaldeiglesias.es/evento/torneo-petanca-mixto/
LOCATION:Parque de La Estación\, Avda. del Ferrocarril 14C\, San Martín de Valdeiglesias\, Madrid\, 28680\, España
CATEGORIES:Bienestar social,Deportes
END:VEVENT
BEGIN:VEVENT
DTSTART;TZID=Europe/Madrid:20240828T200000
DTEND;TZID=Europe/Madrid:20240828T220000
DTSTAMP:20260420T101908
CREATED:20240826T122613Z
LAST-MODIFIED:20240826T122613Z
UID:26193-1724875200-1724882400@www.sanmartindevaldeiglesias.es
SUMMARY:fútbol veteranos
DESCRIPTION:Tradicional partido de la Peña de Veteranos de Fútbol\,  con motivo de las Fiestas Patronales. \n28 de agosto 2024.  20 h. Campo municipal José Rodríguez.
URL:https://www.sanmartindevaldeiglesias.es/evento/futbol-veteranos/
LOCATION:Campo de fútbol
CATEGORIES:Deportes,Fiestas
END:VEVENT
BEGIN:VEVENT
DTSTART;TZID=Europe/Madrid:20240901T100000
DTEND;TZID=Europe/Madrid:20240901T130000
DTSTAMP:20260420T101908
CREATED:20240828T074530Z
LAST-MODIFIED:20240828T074530Z
UID:26200-1725184800-1725195600@www.sanmartindevaldeiglesias.es
SUMMARY:II Ruta MTB
DESCRIPTION:Ruta no competitiva para disfrutar del entorno natural del municipio. \nApta para todas las edades y niveles.  Habrá gymkana\, premios\, sorteos y avituallamiento para los participantes. \nSalida a las 10 de la mañana\, desde el Castillo de la Coracera. \nActividad gratuita\, organizada por el club MTB Valdeiglesias y club Ciclista Valdeiglesias. \nNo es necesaria inscripción previa.
URL:https://www.sanmartindevaldeiglesias.es/evento/ii-ruta-mtb/
CATEGORIES:Deportes,Fiestas
END:VEVENT
BEGIN:VEVENT
DTSTART;TZID=Europe/Madrid:20240921T110000
DTEND;TZID=Europe/Madrid:20240921T210000
DTSTAMP:20260420T101908
CREATED:20240917T073130Z
LAST-MODIFIED:20240917T073130Z
UID:26284-1726916400-1726952400@www.sanmartindevaldeiglesias.es
SUMMARY:Rally coches clásicos
DESCRIPTION:  \n \nRally 50 aniversario\, organizado por la Asociación Española de Clásicos Deportivos \nSábado 21 de septiembre \nSalida del Rally a las 11 de la mañana desde la Plaza de toros\, con cuatro tramos cronometrados a carretera abierta. \n\nTamo 1: Almorox-Cadalso de los Vidrios.\nTramo 2: Subida a Casillas (Cadalso Casillas).\nTramo 3:  Cenicientos – Cadalso.\nTramo 4: La Bizca (Cadalso – Pelayos).\n\n \n  \nDescargar Dossier informativo (.pdf) 1\,3 MB
URL:https://www.sanmartindevaldeiglesias.es/evento/rally-coches-clasicos/
LOCATION:Plaza de toros
CATEGORIES:Deportes
END:VEVENT
BEGIN:VEVENT
DTSTART;TZID=Europe/Madrid:20240925T103000
DTEND;TZID=Europe/Madrid:20240925T193000
DTSTAMP:20260420T101908
CREATED:20240919T093458Z
LAST-MODIFIED:20240919T093458Z
UID:26341-1727260200-1727292600@www.sanmartindevaldeiglesias.es
SUMMARY:Master class Pilates
DESCRIPTION:Clase demostrativa de Pilates\, gratuita\, para mostrar cómo se van a realizar las nuevas clases del Patronato Municipal de Deportes. \nHorarios: 10:30 h. y 19 h. Polideportivo municipal.   \nClases impartidas por Ara Brassó. \nDurante la temporada deportiva 24/25 está previsto que se impartan las clases de pilates lunes y miércoles de 10:30 a 11:15 h.  o de 19 a 19:45 h. Precio: 35 € /mes. \nMás información en el teléfono 649 42 74 61.
URL:https://www.sanmartindevaldeiglesias.es/evento/master-class-pilates/
LOCATION:Polideportivo municipal\, C/ Salamanca\, 17\, San Martín de Valdeiglesias\, Madrid\, 28680\, España
CATEGORIES:Deportes
END:VEVENT
BEGIN:VEVENT
DTSTART;TZID=Europe/Madrid:20240925T110000
DTEND;TZID=Europe/Madrid:20240925T173000
DTSTAMP:20260420T101908
CREATED:20240919T094007Z
LAST-MODIFIED:20240919T094007Z
UID:26346-1727262000-1727285400@www.sanmartindevaldeiglesias.es
SUMMARY:Master class hipopresivos
DESCRIPTION:Clase demostrativa de Hipopresivos\, gratuita\, para mostrar cómo se van a realizar las nuevas clases del Patronato Municipal de Deportes. \nHorarios: 11:15 h. y 17 h. Polideportivo municipal.   \nDurante la temporada deportiva 24/25 está previsto que se impartan las clases de pilates lunes y miércoles de 11:15 a 12 h.  o de  17 a 17:45 h.  Precio: 40 €/mes. \nMás información en el teléfono 649 42 74 61.
URL:https://www.sanmartindevaldeiglesias.es/evento/master-class-pilates-duplicate-1/
LOCATION:Polideportivo municipal\, C/ Salamanca\, 17\, San Martín de Valdeiglesias\, Madrid\, 28680\, España
CATEGORIES:Deportes
END:VEVENT
BEGIN:VEVENT
DTSTART;TZID=Europe/Madrid:20240926T200000
DTEND;TZID=Europe/Madrid:20240926T204500
DTSTAMP:20260420T101908
CREATED:20240919T094303Z
LAST-MODIFIED:20240919T095431Z
UID:26348-1727380800-1727383500@www.sanmartindevaldeiglesias.es
SUMMARY:Master class Fuerza Mujer
DESCRIPTION:Clase demostrativa de Fuerza Mujer\, gratuita\, para mostrar cómo se van a realizar las nuevas clases del Patronato Municipal de Deportes. \nJueves 26 de septiembre.  20 h.  Polideportivo municipal.   \nDurante la temporada deportiva 24/25 está previsto que se impartan las clases de Fuerza Mujer se impartirán los martes y jueves de 20 a 20:45 h. Precio: 35 €/mes. \nMás información en el teléfono 649 42 74 61.
URL:https://www.sanmartindevaldeiglesias.es/evento/master-class-hipopresivos-duplicate-1/
LOCATION:Polideportivo municipal\, C/ Salamanca\, 17\, San Martín de Valdeiglesias\, Madrid\, 28680\, España
CATEGORIES:Deportes
END:VEVENT
BEGIN:VEVENT
DTSTART;TZID=Europe/Madrid:20241027T090000
DTEND;TZID=Europe/Madrid:20241027T153000
DTSTAMP:20260420T101908
CREATED:20241024T162607Z
LAST-MODIFIED:20241024T162640Z
UID:26683-1730019600-1730043000@www.sanmartindevaldeiglesias.es
SUMMARY:Ciclomarcha MTB
DESCRIPTION:
URL:https://www.sanmartindevaldeiglesias.es/evento/ciclomarcha-mtb/
CATEGORIES:Deportes
END:VEVENT
BEGIN:VEVENT
DTSTART;TZID=Europe/Madrid:20241203T113000
DTEND;TZID=Europe/Madrid:20241203T133000
DTSTAMP:20260420T101908
CREATED:20241203T112243Z
LAST-MODIFIED:20241203T112449Z
UID:26947-1733225400-1733232600@www.sanmartindevaldeiglesias.es
SUMMARY:Carrera por la inclusión
DESCRIPTION:  \nCarrera por la inclusión. \n11:30 h. Presentación. \n12:00 h. Inicio de relevos. \n12:30 h. Cierre. \nPista de atletismo del polideportivo municipal\, con la participación de Asociación Talismán\, Centro Reina Sofía. \n 
URL:https://www.sanmartindevaldeiglesias.es/evento/carrera-por-la-inclusion/
LOCATION:Polideportivo municipal\, C/ Salamanca\, 17\, San Martín de Valdeiglesias\, Madrid\, 28680\, España
CATEGORIES:Deportes,Igualdad
END:VEVENT
BEGIN:VEVENT
DTSTART;TZID=Europe/Madrid:20241228T110000
DTEND;TZID=Europe/Madrid:20241228T130000
DTSTAMP:20260420T101908
CREATED:20241128T120915Z
LAST-MODIFIED:20241128T120915Z
UID:26884-1735383600-1735390800@www.sanmartindevaldeiglesias.es
SUMMARY:Carrera San Silvestre
DESCRIPTION:El Ayuntamiento de San Martín de Valdeiglesias organiza la Carrera San Silvestre\,  con el objetivo de fomentar la actividad física\, la inclusión y el deporte con una actividad abierta y accesible para corredores de todas las edades y niveles. \nEdad: Mayores de 16 años. \nCategorías:  \n\nAbsoluta: Participantes entre los 16 y los 39 años (ambos inclusive)\nVeteranos I:  Participantes entre los 40 y los 54 años (ambos inclusive).\nVeteranos II: Participantes a partir de 55 años.\n\nPremios:  \nCategorías absolutas (Tanto femenino como masculino) \n\n1º clasificado: 150 €  (Patrocinado por Valdeiglesias Real State y Farmacia Julio Álvarez)\n2º clasificado: 100 € (Patrocinado por Schuko Electric S.L. y Montalunas S.L.)\n3º clasificado: 50 € (Patrocinado por Pin Up Estilistas y Rehalas El Barraqueño)\n\nCategorías Veteranos: Trofeo (Patrocinados por el IES Pedro de Tolosa). \nCuota de inscripción: 6 € + 0\,56 de gastos de gestión. \nInscripciones a través de la página comprarudorsal.com – https://inscripciones.compratudorsal.com/inscripcion/san-silvestre-pinche-2024/  Recogida de dorsal: 1 hora antes del evento.
URL:https://www.sanmartindevaldeiglesias.es/evento/carrera-san-silvestre/
LOCATION:Plaza de la Corredera\, Plaza de la Corredera\, San Martín de Valdeiglesias\, Madrid\, 28680\, España
CATEGORIES:Deportes
END:VEVENT
BEGIN:VEVENT
DTSTART;TZID=Europe/Madrid:20250222T100000
DTEND;TZID=Europe/Madrid:20250222T130000
DTSTAMP:20260420T101908
CREATED:20250219T092611Z
LAST-MODIFIED:20250219T092611Z
UID:27567-1740218400-1740229200@www.sanmartindevaldeiglesias.es
SUMMARY:Competición de Gimnasia rítmica
DESCRIPTION:Competición de Gimnasia rítmica\,  1º fase en la modalidad individual\, dentro del calendario de la  Federación Madrileña de Gimnasia.
URL:https://www.sanmartindevaldeiglesias.es/evento/competicion-de-gimnasia-ritmica/
LOCATION:Polideportivo municipal\, C/ Salamanca\, 17\, San Martín de Valdeiglesias\, Madrid\, 28680\, España
CATEGORIES:Deportes
END:VEVENT
BEGIN:VEVENT
DTSTART;TZID=Europe/Madrid:20250223T100000
DTEND;TZID=Europe/Madrid:20250223T140000
DTSTAMP:20260420T101908
CREATED:20250213T125754Z
LAST-MODIFIED:20250213T125754Z
UID:27525-1740304800-1740319200@www.sanmartindevaldeiglesias.es
SUMMARY:Carrera ciclista
DESCRIPTION:El club ciclista Valdeiglesias y el club MTB Valdeiglesias\, organizan una carrera dentro del calendario de la Federación Madrileña de Ciclismo. \n23 de Febrero 2025. 10 h. \nParaje de la Virgen de la Nueva.
URL:https://www.sanmartindevaldeiglesias.es/evento/carrera-ciclista/
LOCATION:Paraje Virgen de la Nueva\, San Martín de Valdeiglesias\, Madrid\, 28680\, España
CATEGORIES:Deportes
END:VEVENT
BEGIN:VEVENT
DTSTART;VALUE=DATE:20250412
DTEND;VALUE=DATE:20250413
DTSTAMP:20260420T101908
CREATED:20250320T123825Z
LAST-MODIFIED:20250320T123825Z
UID:27763-1744416000-1744502399@www.sanmartindevaldeiglesias.es
SUMMARY:Torneo Fútbol 7 benjamín
DESCRIPTION:Torneo de fútbol 7\, categoría benjamín\, organizado por el Club de Fútbol Atlético Valdeiglesias. \nEquipos participantes: Trival Valderas\,  Escuela de Fútbol de Carabanchel\,  Club Deportivo Móstoles\, Club Deportivo Móstoles\, Club Deportivo Colegios Diocesanos\, Getafe Club de Fútbol\, Real Ávila\, Club Élite Talavera\, Club de Fútbol de Fuenlabrada\, Rayo Majadahonda… \nEn el campo de Fútbol José Rodríguez. \nComienzo del torneo: 9:30 h. \n 
URL:https://www.sanmartindevaldeiglesias.es/evento/torneo-futbol-7-benjamin/
LOCATION:Campo de fútbol
CATEGORIES:Deportes
END:VEVENT
BEGIN:VEVENT
DTSTART;TZID=Europe/Madrid:20250412T090000
DTEND;TZID=Europe/Madrid:20250412T160000
DTSTAMP:20260420T101908
CREATED:20250305T114934Z
LAST-MODIFIED:20250305T114934Z
UID:27674-1744448400-1744473600@www.sanmartindevaldeiglesias.es
SUMMARY:Trasierra Trail. Carrera
DESCRIPTION:  \n \nCarrera de montaña organizada por la concejalía de Deportes del Ayuntamiento de San Martin de Valdeiglesias. \nHay dos modalidades: carrera de 22 kms. para los más preparados\, y de 12 Kms. \nLas inscripciones se realizan  través de la web compratudorsal.com\,  tienen un coste de 22 € y 18 €\, dependiendo de la modalidad\, aunque\, a partir del 15 marzo\, subirán de precio hasta los 30 € y los 26 €\, respectivamente. \nEl precio incluye: Avituallamiento durante la carrera y al finalizar la misma\, asistencia médica\, bolsa de corredor\, servicio de piscina y sauna durante el día siguiente a la carrera\, reportaje aéreo de la carrera\, vídeos y fotos. \nHay premios en metálico para la 1º\, 2º y 3º categoría. \n Mapa del recorrido: \nRecorrido. Tramo de 20 kms. Ver en Wikiloc. \nRecorrido 12 Kms.
URL:https://www.sanmartindevaldeiglesias.es/evento/trasierra-trail-carrera/
CATEGORIES:Deportes
END:VEVENT
END:VCALENDAR