BEGIN:VCALENDAR
VERSION:2.0
PRODID:-//San Martín de Valdeiglesias - ECPv6.15.20//NONSGML v1.0//EN
CALSCALE:GREGORIAN
METHOD:PUBLISH
X-WR-CALNAME:San Martín de Valdeiglesias
X-ORIGINAL-URL:https://www.sanmartindevaldeiglesias.es
X-WR-CALDESC:Eventos para San Martín de Valdeiglesias
REFRESH-INTERVAL;VALUE=DURATION:PT1H
X-Robots-Tag:noindex
X-PUBLISHED-TTL:PT1H
BEGIN:VTIMEZONE
TZID:Europe/Madrid
BEGIN:DAYLIGHT
TZOFFSETFROM:+0100
TZOFFSETTO:+0200
TZNAME:CEST
DTSTART:20160327T010000
END:DAYLIGHT
BEGIN:STANDARD
TZOFFSETFROM:+0200
TZOFFSETTO:+0100
TZNAME:CET
DTSTART:20161030T010000
END:STANDARD
BEGIN:DAYLIGHT
TZOFFSETFROM:+0100
TZOFFSETTO:+0200
TZNAME:CEST
DTSTART:20170326T010000
END:DAYLIGHT
BEGIN:STANDARD
TZOFFSETFROM:+0200
TZOFFSETTO:+0100
TZNAME:CET
DTSTART:20171029T010000
END:STANDARD
BEGIN:DAYLIGHT
TZOFFSETFROM:+0100
TZOFFSETTO:+0200
TZNAME:CEST
DTSTART:20180325T010000
END:DAYLIGHT
BEGIN:STANDARD
TZOFFSETFROM:+0200
TZOFFSETTO:+0100
TZNAME:CET
DTSTART:20181028T010000
END:STANDARD
END:VTIMEZONE
BEGIN:VEVENT
DTSTART;TZID=Europe/Madrid:20170902T100000
DTEND;TZID=Europe/Madrid:20170902T180000
DTSTAMP:20260422T043232
CREATED:20170901T110701Z
LAST-MODIFIED:20170901T110701Z
UID:9792-1504346400-1504375200@www.sanmartindevaldeiglesias.es
SUMMARY:Torneo infantil de pádel
DESCRIPTION:
URL:https://www.sanmartindevaldeiglesias.es/evento/torneo-infantil-de-padel-2/
LOCATION:Patronato municipal de deportes\, Calle salamanca 17\, San Martín de valdeiglesias\, Madrid\, 28680\, España
CATEGORIES:Deportes,Fiestas
END:VEVENT
BEGIN:VEVENT
DTSTART;TZID=Europe/Madrid:20170902T110000
DTEND;TZID=Europe/Madrid:20170902T140000
DTSTAMP:20260422T043232
CREATED:20170901T110938Z
LAST-MODIFIED:20170901T110938Z
UID:9794-1504350000-1504360800@www.sanmartindevaldeiglesias.es
SUMMARY:XI Carrera Popular L.M. Martín Berlanas
DESCRIPTION:
URL:https://www.sanmartindevaldeiglesias.es/evento/xi-carrera-popular-l-m-martin-berlanas/
LOCATION:Plaza de la Corredera\, Plaza de la Corredera\, San Martín de Valdeiglesias\, Madrid\, 28680\, España
CATEGORIES:Deportes,Fiestas
END:VEVENT
BEGIN:VEVENT
DTSTART;TZID=Europe/Madrid:20170902T170000
DTEND;TZID=Europe/Madrid:20170902T190000
DTSTAMP:20260422T043232
CREATED:20170901T111122Z
LAST-MODIFIED:20170901T111122Z
UID:9796-1504371600-1504378800@www.sanmartindevaldeiglesias.es
SUMMARY:Triangular frontenis
DESCRIPTION:
URL:https://www.sanmartindevaldeiglesias.es/evento/triangular-frontenis/
LOCATION:Patronato municipal de deportes\, Calle salamanca 17\, San Martín de valdeiglesias\, Madrid\, 28680\, España
CATEGORIES:Deportes,Fiestas
END:VEVENT
BEGIN:VEVENT
DTSTART;TZID=Europe/Madrid:20170902T183000
DTEND;TZID=Europe/Madrid:20170902T200000
DTSTAMP:20260422T043232
CREATED:20170901T111445Z
LAST-MODIFIED:20170901T111445Z
UID:9797-1504377000-1504382400@www.sanmartindevaldeiglesias.es
SUMMARY:Fútbol 11 veteranos
DESCRIPTION:
URL:https://www.sanmartindevaldeiglesias.es/evento/futbol-11-veteranos/
LOCATION:Patronato municipal de deportes\, Calle salamanca 17\, San Martín de valdeiglesias\, Madrid\, 28680\, España
CATEGORIES:Deportes,Fiestas
END:VEVENT
BEGIN:VEVENT
DTSTART;TZID=Europe/Madrid:20170902T190000
DTEND;TZID=Europe/Madrid:20170902T200000
DTSTAMP:20260422T043232
CREATED:20170821T073921Z
LAST-MODIFIED:20170827T112132Z
UID:9731-1504378800-1504382400@www.sanmartindevaldeiglesias.es
SUMMARY:Carrera de autos locos
DESCRIPTION:
URL:https://www.sanmartindevaldeiglesias.es/evento/carrera-de-autos-locos/
LOCATION:Madrid
END:VEVENT
BEGIN:VEVENT
DTSTART;TZID=Europe/Madrid:20170902T220000
DTEND;TZID=Europe/Madrid:20170903T060000
DTSTAMP:20260422T043232
CREATED:20170901T111944Z
LAST-MODIFIED:20170901T111944Z
UID:9798-1504389600-1504418400@www.sanmartindevaldeiglesias.es
SUMMARY:Concierto: I Tributada
DESCRIPTION:
URL:https://www.sanmartindevaldeiglesias.es/evento/concierto-i-tributada/
LOCATION:Plaza de toros
CATEGORIES:Conciertos,Fiestas
END:VEVENT
BEGIN:VEVENT
DTSTART;TZID=Europe/Madrid:20170903T110000
DTEND;TZID=Europe/Madrid:20170903T140000
DTSTAMP:20260422T043232
CREATED:20170901T112752Z
LAST-MODIFIED:20170901T112752Z
UID:9800-1504436400-1504447200@www.sanmartindevaldeiglesias.es
SUMMARY:Jornada multiaventura
DESCRIPTION:Con tirolina\, tiro con arco\, puentes elevados y juegos cooperativos.  Colabora COADECU SL
URL:https://www.sanmartindevaldeiglesias.es/evento/jornada-multiaventura-2/
LOCATION:Parque de la Bola\, Avda. Félix Rodríguez de la Fuente\, San Martín de Valdeiglesias\, Madrid\, 28680\, España
CATEGORIES:Deportes,Fiestas
END:VEVENT
BEGIN:VEVENT
DTSTART;TZID=Europe/Madrid:20170903T210000
DTEND;TZID=Europe/Madrid:20170903T210000
DTSTAMP:20260422T043232
CREATED:20170901T113404Z
LAST-MODIFIED:20170901T113404Z
UID:9802-1504472400-1504472400@www.sanmartindevaldeiglesias.es
SUMMARY:XXXVI Festival de Danza y Folclore
DESCRIPTION:
URL:https://www.sanmartindevaldeiglesias.es/evento/xxxvi-festival-de-danza-y-folclore/
LOCATION:Madrid
CATEGORIES:Danza,Fiestas
END:VEVENT
BEGIN:VEVENT
DTSTART;TZID=Europe/Madrid:20170904T203000
DTEND;TZID=Europe/Madrid:20170904T203000
DTSTAMP:20260422T043232
CREATED:20170901T113710Z
LAST-MODIFIED:20170901T113710Z
UID:9804-1504557000-1504557000@www.sanmartindevaldeiglesias.es
SUMMARY:Fútbol 11 juvenil
DESCRIPTION:Torneo Fiestas Patronales \, con la participación de At. Valdeigleisas – Colmenar en el campo José Rodríguez. \n 
URL:https://www.sanmartindevaldeiglesias.es/evento/futbol-11-juvenil/
LOCATION:Patronato municipal de deportes\, Calle salamanca 17\, San Martín de valdeiglesias\, Madrid\, 28680\, España
CATEGORIES:Deportes
END:VEVENT
BEGIN:VEVENT
DTSTART;TZID=Europe/Madrid:20170905T173000
DTEND;TZID=Europe/Madrid:20170905T173000
DTSTAMP:20260422T043232
CREATED:20170901T114045Z
LAST-MODIFIED:20170901T114045Z
UID:9805-1504632600-1504632600@www.sanmartindevaldeiglesias.es
SUMMARY:Clase abierta de balonmano
DESCRIPTION:
URL:https://www.sanmartindevaldeiglesias.es/evento/clase-abierta-de-balonmano/
LOCATION:Patronato municipal de deportes\, Calle salamanca 17\, San Martín de valdeiglesias\, Madrid\, 28680\, España
CATEGORIES:Deportes,Fiestas
END:VEVENT
BEGIN:VEVENT
DTSTART;TZID=Europe/Madrid:20170905T203000
DTEND;TZID=Europe/Madrid:20170905T203000
DTSTAMP:20260422T043232
CREATED:20170901T114300Z
LAST-MODIFIED:20170901T114300Z
UID:9807-1504643400-1504643400@www.sanmartindevaldeiglesias.es
SUMMARY:Fútbol 11 aficionado
DESCRIPTION:
URL:https://www.sanmartindevaldeiglesias.es/evento/futbol-11-aficionado/
LOCATION:Patronato municipal de deportes\, Calle salamanca 17\, San Martín de valdeiglesias\, Madrid\, 28680\, España
CATEGORIES:Deportes,Fiestas
END:VEVENT
BEGIN:VEVENT
DTSTART;TZID=Europe/Madrid:20170905T203000
DTEND;TZID=Europe/Madrid:20170905T203000
DTSTAMP:20260422T043232
CREATED:20170901T114530Z
LAST-MODIFIED:20170901T114530Z
UID:9808-1504643400-1504643400@www.sanmartindevaldeiglesias.es
SUMMARY:Merienda para los mayores
DESCRIPTION:
URL:https://www.sanmartindevaldeiglesias.es/evento/merienda-para-los-mayores/
LOCATION:Centro de ocio de la Tercera Edad\, Avda. Félix Rodríguez de la Fuente\,\, San Martín de Valdeiglesias\, Madrid\, 28680\, España
CATEGORIES:Bienestar social,Fiestas
END:VEVENT
BEGIN:VEVENT
DTSTART;TZID=Europe/Madrid:20170906T180000
DTEND;TZID=Europe/Madrid:20170906T180000
DTSTAMP:20260422T043232
CREATED:20170901T114810Z
LAST-MODIFIED:20170901T114810Z
UID:9809-1504720800-1504720800@www.sanmartindevaldeiglesias.es
SUMMARY:Fútbol infantil
DESCRIPTION:Fútbol infantil entre los equipos  At. Valdeigleisas «A» – Zona norte Ávila.
URL:https://www.sanmartindevaldeiglesias.es/evento/futbol-infantil/
LOCATION:Patronato municipal de deportes\, Calle salamanca 17\, San Martín de valdeiglesias\, Madrid\, 28680\, España
CATEGORIES:Deportes,Fiestas
END:VEVENT
BEGIN:VEVENT
DTSTART;TZID=Europe/Madrid:20170906T193000
DTEND;TZID=Europe/Madrid:20170906T193000
DTSTAMP:20260422T043232
CREATED:20170901T115050Z
LAST-MODIFIED:20170901T115050Z
UID:9810-1504726200-1504726200@www.sanmartindevaldeiglesias.es
SUMMARY:Fútbol cadete
DESCRIPTION:Fútbol cadete entre los equipos At. Valdeiglesias B – Zona Norte Ávila.
URL:https://www.sanmartindevaldeiglesias.es/evento/futbol-cadete-2/
LOCATION:Patronato municipal de deportes\, Calle salamanca 17\, San Martín de valdeiglesias\, Madrid\, 28680\, España
CATEGORIES:Deportes,Fiestas
END:VEVENT
BEGIN:VEVENT
DTSTART;TZID=Europe/Madrid:20170914T103000
DTEND;TZID=Europe/Madrid:20170914T113000
DTSTAMP:20260422T043232
CREATED:20170531T104953Z
LAST-MODIFIED:20170531T104953Z
UID:9204-1505385000-1505388600@www.sanmartindevaldeiglesias.es
SUMMARY:Bibliobús Septiembre 2017
DESCRIPTION:
URL:https://www.sanmartindevaldeiglesias.es/evento/bibliobus-septiembre-2017/
LOCATION:Frente al Castillo de la Coracera\, Avda. Félix Rodríguez de la Fuente\, San Martín de Valdeiglesias\, 28680
END:VEVENT
BEGIN:VEVENT
DTSTART;TZID=Europe/Madrid:20170928T103000
DTEND;TZID=Europe/Madrid:20170928T113000
DTSTAMP:20260422T043232
CREATED:20170531T105134Z
LAST-MODIFIED:20170531T105134Z
UID:9206-1506594600-1506598200@www.sanmartindevaldeiglesias.es
SUMMARY:Bibliobús Septiembre 2017
DESCRIPTION:
URL:https://www.sanmartindevaldeiglesias.es/evento/bibliobus-septiembre-2017-2/
LOCATION:Frente al Castillo de la Coracera\, Avda. Félix Rodríguez de la Fuente\, San Martín de Valdeiglesias\, 28680
END:VEVENT
BEGIN:VEVENT
DTSTART;TZID=Europe/Madrid:20170929T200000
DTEND;TZID=Europe/Madrid:20170929T230000
DTSTAMP:20260422T043232
CREATED:20170927T093731Z
LAST-MODIFIED:20170927T093731Z
UID:9908-1506715200-1506726000@www.sanmartindevaldeiglesias.es
SUMMARY:Pleno ordinario
DESCRIPTION:
URL:https://www.sanmartindevaldeiglesias.es/evento/pleno-ordinario-8/
LOCATION:Ayuntamiento
END:VEVENT
BEGIN:VEVENT
DTSTART;TZID=Europe/Madrid:20171001T100000
DTEND;TZID=Europe/Madrid:20171001T130000
DTSTAMP:20260422T043232
CREATED:20170919T095712Z
LAST-MODIFIED:20170919T100128Z
UID:9853-1506852000-1506862800@www.sanmartindevaldeiglesias.es
SUMMARY:Marcha solidaria
DESCRIPTION:
URL:https://www.sanmartindevaldeiglesias.es/evento/marcha-solidaria-2/
LOCATION:Madrid
CATEGORIES:Bienestar social,Deportes
END:VEVENT
BEGIN:VEVENT
DTSTART;TZID=Europe/Madrid:20171007T200000
DTEND;TZID=Europe/Madrid:20171007T213000
DTSTAMP:20260422T043232
CREATED:20170927T103922Z
LAST-MODIFIED:20170927T104116Z
UID:9909-1507406400-1507411800@www.sanmartindevaldeiglesias.es
SUMMARY:Teatro solidario: ayuda a refugiados
DESCRIPTION:
URL:https://www.sanmartindevaldeiglesias.es/evento/teatro-solidario-ayuda-a-refugiados/
LOCATION:Teatro municipal\, Calle Fuente 4\, San Martín de Valdeiglesias\, Madrid\, 28680\, España
CATEGORIES:Bienestar social,Teatro
END:VEVENT
BEGIN:VEVENT
DTSTART;TZID=Europe/Madrid:20171009T180000
DTEND;TZID=Europe/Madrid:20171009T200000
DTSTAMP:20260422T043232
CREATED:20170928T101005Z
LAST-MODIFIED:20170928T102253Z
UID:9919-1507572000-1507579200@www.sanmartindevaldeiglesias.es
SUMMARY:Mesa trabajo: sector turistico
DESCRIPTION:
URL:https://www.sanmartindevaldeiglesias.es/evento/mesa-trabajo-sector-turistico/
LOCATION:Ayuntamiento
CATEGORIES:Desarrollo económico
END:VEVENT
BEGIN:VEVENT
DTSTART;TZID=Europe/Madrid:20171010T103000
DTEND;TZID=Europe/Madrid:20171010T133000
DTSTAMP:20260422T043232
CREATED:20171004T093058Z
LAST-MODIFIED:20171004T093058Z
UID:9945-1507631400-1507642200@www.sanmartindevaldeiglesias.es
SUMMARY:Taller jurídico para mayores
DESCRIPTION:
URL:https://www.sanmartindevaldeiglesias.es/evento/taller-juridico-para-mayores/
LOCATION:Ayuntamiento
CATEGORIES:Bienestar social
END:VEVENT
BEGIN:VEVENT
DTSTART;TZID=Europe/Madrid:20171011T103000
DTEND;TZID=Europe/Madrid:20171011T130000
DTSTAMP:20260422T043232
CREATED:20171004T093325Z
LAST-MODIFIED:20171004T093325Z
UID:9946-1507717800-1507726800@www.sanmartindevaldeiglesias.es
SUMMARY:Taller Smartphone
DESCRIPTION:
URL:https://www.sanmartindevaldeiglesias.es/evento/taller-smartphone/
LOCATION:Ayuntamiento
CATEGORIES:Bienestar social
END:VEVENT
BEGIN:VEVENT
DTSTART;TZID=Europe/Madrid:20171013T203000
DTEND;TZID=Europe/Madrid:20171013T213000
DTSTAMP:20260422T043232
CREATED:20171010T102153Z
LAST-MODIFIED:20171010T112146Z
UID:9987-1507926600-1507930200@www.sanmartindevaldeiglesias.es
SUMMARY:Presentación de libro
DESCRIPTION:
URL:https://www.sanmartindevaldeiglesias.es/evento/presentacion-de-libro-2/
LOCATION:Castillo de la Coracera\, Calle Castillo\, San Martín de Valdeiglesias\, Madrid\, 28680\, España
END:VEVENT
BEGIN:VEVENT
DTSTART;TZID=Europe/Madrid:20171014T200000
DTEND;TZID=Europe/Madrid:20171014T200000
DTSTAMP:20260422T043232
CREATED:20171004T095831Z
LAST-MODIFIED:20171004T095831Z
UID:9947-1508011200-1508011200@www.sanmartindevaldeiglesias.es
SUMMARY:Teatro solidario
DESCRIPTION:
URL:https://www.sanmartindevaldeiglesias.es/evento/teatro-solidario/
LOCATION:Castillo de la Coracera\, Calle Castillo\, San Martín de Valdeiglesias\, Madrid\, 28680\, España
CATEGORIES:Bienestar social,Teatro
END:VEVENT
BEGIN:VEVENT
DTSTART;VALUE=DATE:20171016
DTEND;VALUE=DATE:20171111
DTSTAMP:20260422T043232
CREATED:20171010T113117Z
LAST-MODIFIED:20171025T113221Z
UID:9990-1508112000-1510358399@www.sanmartindevaldeiglesias.es
SUMMARY:Exposición de pintura
DESCRIPTION:
URL:https://www.sanmartindevaldeiglesias.es/evento/exposicion-de-pintura/
LOCATION:Centro cultural «La Estación»\, Av. del Ferrocarril\, 14B\,\, San Martín de Valdeiglesias\, Madrid\, 28680\, España
CATEGORIES:Exposiciones
END:VEVENT
BEGIN:VEVENT
DTSTART;TZID=Europe/Madrid:20171017T190000
DTEND;TZID=Europe/Madrid:20171017T210000
DTSTAMP:20260422T043232
CREATED:20171017T121154Z
LAST-MODIFIED:20171017T121154Z
UID:10004-1508266800-1508274000@www.sanmartindevaldeiglesias.es
SUMMARY:Taller de camisetas
DESCRIPTION:
URL:https://www.sanmartindevaldeiglesias.es/evento/taller-de-camisetas/
LOCATION:Centro cultural Santa Catalina\, Calle de Santa Catalina\, 6\, San Martín de Valdeiglesias\, Madrid\, 28680\, España
CATEGORIES:Salud
END:VEVENT
BEGIN:VEVENT
DTSTART;TZID=Europe/Madrid:20171018T190000
DTEND;TZID=Europe/Madrid:20171018T190000
DTSTAMP:20260422T043232
CREATED:20171017T121443Z
LAST-MODIFIED:20171017T121443Z
UID:10005-1508353200-1508353200@www.sanmartindevaldeiglesias.es
SUMMARY:Taller de baile
DESCRIPTION:
URL:https://www.sanmartindevaldeiglesias.es/evento/taller-de-baile/
LOCATION:Centro cultural Santa Catalina\, Calle de Santa Catalina\, 6\, San Martín de Valdeiglesias\, Madrid\, 28680\, España
CATEGORIES:Salud
END:VEVENT
BEGIN:VEVENT
DTSTART;TZID=Europe/Madrid:20171019T180000
DTEND;TZID=Europe/Madrid:20171019T200000
DTSTAMP:20260422T043232
CREATED:20171017T121731Z
LAST-MODIFIED:20171017T121731Z
UID:10006-1508436000-1508443200@www.sanmartindevaldeiglesias.es
SUMMARY:Prevención del cáncer de mama
DESCRIPTION:
URL:https://www.sanmartindevaldeiglesias.es/evento/prevencion-del-cancer-de-mama/
LOCATION:Ayuntamiento
CATEGORIES:Salud
END:VEVENT
BEGIN:VEVENT
DTSTART;TZID=Europe/Madrid:20171020T173000
DTEND;TZID=Europe/Madrid:20171020T201500
DTSTAMP:20260422T043232
CREATED:20170927T123503Z
LAST-MODIFIED:20170927T123503Z
UID:9917-1508520600-1508530500@www.sanmartindevaldeiglesias.es
SUMMARY:Donación de sangre
DESCRIPTION:
URL:https://www.sanmartindevaldeiglesias.es/evento/donacion-de-sangre-2/
LOCATION:Plaza de la Corredera\, Plaza de la Corredera\, San Martín de Valdeiglesias\, Madrid\, 28680\, España
CATEGORIES:Salud
END:VEVENT
BEGIN:VEVENT
DTSTART;TZID=Europe/Madrid:20171021T180000
DTEND;TZID=Europe/Madrid:20171021T190000
DTSTAMP:20260422T043232
CREATED:20171020T073525Z
LAST-MODIFIED:20171020T073525Z
UID:10018-1508608800-1508612400@www.sanmartindevaldeiglesias.es
SUMMARY:Encuentro con la pintora
DESCRIPTION:La pintora Mª Ángeles D. Vico\, mantendrá un encuentro con todas las personas que lo deseen para explicar su obra. \nMª Ángeles\, expone su obra en el centro cultural  La Estación hasta el 30 de octubre.
URL:https://www.sanmartindevaldeiglesias.es/evento/encuentro-con-la-pintora/
LOCATION:Centro cultural «La Estación»\, Av. del Ferrocarril\, 14B\,\, San Martín de Valdeiglesias\, Madrid\, 28680\, España
CATEGORIES:Exposiciones
END:VEVENT
END:VCALENDAR