BEGIN:VCALENDAR
VERSION:2.0
PRODID:-//San Martín de Valdeiglesias - ECPv6.15.20//NONSGML v1.0//EN
CALSCALE:GREGORIAN
METHOD:PUBLISH
X-WR-CALNAME:San Martín de Valdeiglesias
X-ORIGINAL-URL:https://www.sanmartindevaldeiglesias.es
X-WR-CALDESC:Eventos para San Martín de Valdeiglesias
REFRESH-INTERVAL;VALUE=DURATION:PT1H
X-Robots-Tag:noindex
X-PUBLISHED-TTL:PT1H
BEGIN:VTIMEZONE
TZID:Europe/Madrid
BEGIN:DAYLIGHT
TZOFFSETFROM:+0100
TZOFFSETTO:+0200
TZNAME:CEST
DTSTART:20190331T010000
END:DAYLIGHT
BEGIN:STANDARD
TZOFFSETFROM:+0200
TZOFFSETTO:+0100
TZNAME:CET
DTSTART:20191027T010000
END:STANDARD
BEGIN:DAYLIGHT
TZOFFSETFROM:+0100
TZOFFSETTO:+0200
TZNAME:CEST
DTSTART:20200329T010000
END:DAYLIGHT
BEGIN:STANDARD
TZOFFSETFROM:+0200
TZOFFSETTO:+0100
TZNAME:CET
DTSTART:20201025T010000
END:STANDARD
BEGIN:DAYLIGHT
TZOFFSETFROM:+0100
TZOFFSETTO:+0200
TZNAME:CEST
DTSTART:20210328T010000
END:DAYLIGHT
BEGIN:STANDARD
TZOFFSETFROM:+0200
TZOFFSETTO:+0100
TZNAME:CET
DTSTART:20211031T010000
END:STANDARD
END:VTIMEZONE
BEGIN:VEVENT
DTSTART;TZID=Europe/Madrid:20200301T180000
DTEND;TZID=Europe/Madrid:20200301T230000
DTSTAMP:20260423T174753
CREATED:20200205T085612Z
LAST-MODIFIED:20200205T085612Z
UID:16170-1583085600-1583103600@www.sanmartindevaldeiglesias.es
SUMMARY:Desfile y concurso de disfraces
DESCRIPTION:
URL:https://www.sanmartindevaldeiglesias.es/evento/desfile-y-concurso-de-disfraces-2/
LOCATION:Plaza de toros
CATEGORIES:Carnaval
END:VEVENT
BEGIN:VEVENT
DTSTART;TZID=Europe/Madrid:20200302T120000
DTEND;TZID=Europe/Madrid:20200302T133000
DTSTAMP:20260423T174753
CREATED:20200302T082357Z
LAST-MODIFIED:20200302T082357Z
UID:16317-1583150400-1583155800@www.sanmartindevaldeiglesias.es
SUMMARY:Taller de teatro
DESCRIPTION:
URL:https://www.sanmartindevaldeiglesias.es/evento/taller-de-teatro/
LOCATION:Centro cultural Santa Catalina\, Calle de Santa Catalina\, 6\, San Martín de Valdeiglesias\, Madrid\, 28680\, España
CATEGORIES:Igualdad
END:VEVENT
BEGIN:VEVENT
DTSTART;TZID=Europe/Madrid:20200303T173000
DTEND;TZID=Europe/Madrid:20200303T183000
DTSTAMP:20260423T174753
CREATED:20200302T082535Z
LAST-MODIFIED:20200302T082535Z
UID:16320-1583256600-1583260200@www.sanmartindevaldeiglesias.es
SUMMARY:Taller Mindfuness
DESCRIPTION:
URL:https://www.sanmartindevaldeiglesias.es/evento/taller-mindfuness/
LOCATION:Centro «Los Lavaderos»\, Plaza de Teodoro Bravo\, 15\, San Martín de Valdeiglesias\, Madrid\, 28680\, España
END:VEVENT
BEGIN:VEVENT
DTSTART;TZID=Europe/Madrid:20200304T143000
DTEND;TZID=Europe/Madrid:20200304T160000
DTSTAMP:20260423T174753
CREATED:20200302T082754Z
LAST-MODIFIED:20200302T082754Z
UID:16322-1583332200-1583337600@www.sanmartindevaldeiglesias.es
SUMMARY:Cocido
DESCRIPTION:
URL:https://www.sanmartindevaldeiglesias.es/evento/cocido/
LOCATION:Casa de la Cultura (antiguas escuelas)\, C/ Fuente\, 4\, San Martín de Valdeiglesias\, Madrid\, 28680\, España
CATEGORIES:Igualdad
END:VEVENT
BEGIN:VEVENT
DTSTART;TZID=Europe/Madrid:20200305T170000
DTEND;TZID=Europe/Madrid:20200305T180000
DTSTAMP:20260423T174753
CREATED:20200302T083041Z
LAST-MODIFIED:20200302T083109Z
UID:16324-1583427600-1583431200@www.sanmartindevaldeiglesias.es
SUMMARY:Clase de yoga
DESCRIPTION:
URL:https://www.sanmartindevaldeiglesias.es/evento/clase-de-yoga/
LOCATION:Patronato municipal de deportes\, Calle salamanca 17\, San Martín de valdeiglesias\, Madrid\, 28680\, España
CATEGORIES:Igualdad
END:VEVENT
BEGIN:VEVENT
DTSTART;TZID=Europe/Madrid:20200306T110000
DTEND;TZID=Europe/Madrid:20200306T123000
DTSTAMP:20260423T174753
CREATED:20200302T083307Z
LAST-MODIFIED:20200302T083307Z
UID:16326-1583492400-1583497800@www.sanmartindevaldeiglesias.es
SUMMARY:Conferencia: Aprende de tus emociones
DESCRIPTION:
URL:https://www.sanmartindevaldeiglesias.es/evento/conferencia-aprende-de-tus-emociones/
LOCATION:Ayuntamiento
CATEGORIES:Igualdad
END:VEVENT
BEGIN:VEVENT
DTSTART;TZID=Europe/Madrid:20200306T213000
DTEND;TZID=Europe/Madrid:20200306T230000
DTSTAMP:20260423T174753
CREATED:20200302T083437Z
LAST-MODIFIED:20200302T083437Z
UID:16329-1583530200-1583535600@www.sanmartindevaldeiglesias.es
SUMMARY:Cena homenaje a la mujer
DESCRIPTION:
URL:https://www.sanmartindevaldeiglesias.es/evento/cena-homenaje-a-la-mujer-3/
LOCATION:jardín de Azahar\, Ctra. M501 Km.57\, San Martín de Valdeiglesias\, Madrid\, 28680\, España
CATEGORIES:Igualdad
END:VEVENT
BEGIN:VEVENT
DTSTART;TZID=Europe/Madrid:20200307T110000
DTEND;TZID=Europe/Madrid:20200307T123000
DTSTAMP:20260423T174753
CREATED:20200302T083628Z
LAST-MODIFIED:20200302T083628Z
UID:16331-1583578800-1583584200@www.sanmartindevaldeiglesias.es
SUMMARY:Yoga aéreo
DESCRIPTION:
URL:https://www.sanmartindevaldeiglesias.es/evento/yoga-aereo/
LOCATION:Patronato municipal de deportes\, Calle salamanca 17\, San Martín de valdeiglesias\, Madrid\, 28680\, España
CATEGORIES:Igualdad
END:VEVENT
BEGIN:VEVENT
DTSTART;TZID=Europe/Madrid:20200308T100000
DTEND;TZID=Europe/Madrid:20200308T113000
DTSTAMP:20260423T174753
CREATED:20200302T083844Z
LAST-MODIFIED:20200302T083844Z
UID:16333-1583661600-1583667000@www.sanmartindevaldeiglesias.es
SUMMARY:Marcha por la mujer
DESCRIPTION:
URL:https://www.sanmartindevaldeiglesias.es/evento/marcha-por-la-mujer/
LOCATION:Plaza Real\, Plaza Real Nº1\, San Martín de Valdeiglesias\, Madrid\, 28680\, España
CATEGORIES:Igualdad
END:VEVENT
BEGIN:VEVENT
DTSTART;TZID=Europe/Madrid:20200308T120000
DTEND;TZID=Europe/Madrid:20200308T130000
DTSTAMP:20260423T174753
CREATED:20200302T084045Z
LAST-MODIFIED:20200302T084045Z
UID:16335-1583668800-1583672400@www.sanmartindevaldeiglesias.es
SUMMARY:Aperitivo y limonada
DESCRIPTION:
URL:https://www.sanmartindevaldeiglesias.es/evento/aperitivo-y-limonada/
LOCATION:Plaza de toros
CATEGORIES:Igualdad
END:VEVENT
BEGIN:VEVENT
DTSTART;TZID=Europe/Madrid:20200404T203000
DTEND;TZID=Europe/Madrid:20200404T213000
DTSTAMP:20260423T174753
CREATED:20200130T083556Z
LAST-MODIFIED:20200330T112638Z
UID:16120-1586032200-1586035800@www.sanmartindevaldeiglesias.es
SUMMARY:Tributo a Michael Jackson (cancelado)
DESCRIPTION:
URL:https://www.sanmartindevaldeiglesias.es/evento/tributo-a-michael-jackson/
LOCATION:Teatro municipal\, Calle Fuente 4\, San Martín de Valdeiglesias\, Madrid\, 28680\, España
CATEGORIES:Conciertos
END:VEVENT
BEGIN:VEVENT
DTSTART;VALUE=DATE:20200424
DTEND;VALUE=DATE:20200427
DTSTAMP:20260423T174753
CREATED:20200206T111514Z
LAST-MODIFIED:20200206T111514Z
UID:16172-1587686400-1587945599@www.sanmartindevaldeiglesias.es
SUMMARY:Feria de abril
DESCRIPTION:
URL:https://www.sanmartindevaldeiglesias.es/evento/feria-de-abril/
LOCATION:Plaza de toros
CATEGORIES:Fiestas
END:VEVENT
BEGIN:VEVENT
DTSTART;TZID=Europe/Madrid:20200528T200000
DTEND;TZID=Europe/Madrid:20200528T220000
DTSTAMP:20260423T174753
CREATED:20200526T071538Z
LAST-MODIFIED:20200526T071538Z
UID:18611-1590696000-1590703200@www.sanmartindevaldeiglesias.es
SUMMARY:Pleno ordinario
DESCRIPTION:
URL:https://www.sanmartindevaldeiglesias.es/evento/pleno-ordinario-22/
LOCATION:Ayuntamiento
CATEGORIES:Pleno
END:VEVENT
BEGIN:VEVENT
DTSTART;TZID=Europe/Madrid:20200710T210000
DTEND;TZID=Europe/Madrid:20200710T223000
DTSTAMP:20260423T174753
CREATED:20200706T102610Z
LAST-MODIFIED:20200706T111029Z
UID:18753-1594414800-1594420200@www.sanmartindevaldeiglesias.es
SUMMARY:Concierto: The Cuban Jazz Syndicate
DESCRIPTION:
URL:https://www.sanmartindevaldeiglesias.es/evento/concierto-the-cuban-jazz-syndicate/
LOCATION:Plaza de la Corredera\, Plaza de la Corredera\, San Martín de Valdeiglesias\, Madrid\, 28680\, España
CATEGORIES:Conciertos,Música
END:VEVENT
BEGIN:VEVENT
DTSTART;TZID=Europe/Madrid:20200713T100000
DTEND;TZID=Europe/Madrid:20200713T123000
DTSTAMP:20260423T174753
CREATED:20200619T121133Z
LAST-MODIFIED:20200619T121133Z
UID:18682-1594634400-1594643400@www.sanmartindevaldeiglesias.es
SUMMARY:Renovación DNI
DESCRIPTION:
URL:https://www.sanmartindevaldeiglesias.es/evento/renovacion-dni-3/
LOCATION:Ayuntamiento
END:VEVENT
BEGIN:VEVENT
DTSTART;TZID=Europe/Madrid:20200717T100000
DTEND;TZID=Europe/Madrid:20200717T110000
DTSTAMP:20260423T174753
CREATED:20200715T072602Z
LAST-MODIFIED:20200715T072602Z
UID:18812-1594980000-1594983600@www.sanmartindevaldeiglesias.es
SUMMARY:Pleno extraordinario
DESCRIPTION:
URL:https://www.sanmartindevaldeiglesias.es/evento/pleno-extraordinario-19/
LOCATION:Ayuntamiento
CATEGORIES:Pleno
END:VEVENT
BEGIN:VEVENT
DTSTART;TZID=Europe/Madrid:20200724T220000
DTEND;TZID=Europe/Madrid:20200724T233000
DTSTAMP:20260423T174753
CREATED:20200706T105503Z
LAST-MODIFIED:20200720T134403Z
UID:18760-1595628000-1595633400@www.sanmartindevaldeiglesias.es
SUMMARY:Concierto: Myriam Latrece Cuarteto
DESCRIPTION:
URL:https://www.sanmartindevaldeiglesias.es/evento/concierto-myriam-latrece-cuarteto/
LOCATION:Calle Corredera Alta
CATEGORIES:Conciertos
END:VEVENT
BEGIN:VEVENT
DTSTART;TZID=Europe/Madrid:20200730T200000
DTEND;TZID=Europe/Madrid:20200730T220000
DTSTAMP:20260423T174753
CREATED:20200727T121045Z
LAST-MODIFIED:20200727T122625Z
UID:18874-1596139200-1596146400@www.sanmartindevaldeiglesias.es
SUMMARY:Pleno ordinario
DESCRIPTION:El Ayuntamiento de San Martín de Valdeiglesias celebrará SESIÓN ORDINARIA del pleno\, a las 20\,00 horas del día 30 de julio de 2020\, con el siguiente ORDEN DEL DÍA \n1. Aprobación del acta de la sesión ordinaria celebrada el 28 de mayo de 2020.  (Expte PNL 2020/5) \n2. PARTE DE RESOLUCIÓN \n2.1.- Asuntos dictaminados. \n2.1.1.- Expte. 2772/2020: Modificación de ordenanzas fiscales. Nº 1\, 2\, 8 y 34.\n2.1.2.- Expte. 2934/2020: MC 05/2020 – Suplemento de crédito financiado con remanente de tesorería para financiación REC.\n2.1.3.- Expte. 2935/2020: REC 004/2020 – Gastos ejercicios anteriores aplicados al presupuesto.\n2.1.4.- Expte 2636/2020: Convenio oficina del Catastro.\n2.1.5.- Expte. 2757/2020:  Cese y nombramiento de representantes del Ayuntamiento en otros organismos y entidades. Julio 2020.\n2.1.6.- Expte. 2955/2020: Encomienda de gestión al Ayuntamiento de Torrelodones para la emisión de informes urbanísticos.\n2.1.7.- Expte 2755/2020:  Suspensión de la celebración de las Fiestas Patronales 2020. \n2.2.- Asuntos pendientes de dictaminar. \n2.2.1.- Expte. 939/2019: Que contiene la propuesta de resolución para la declarar desierta la licitación del contrato del aprovechamiento cinegético del coto de caza M-10.845 «Las Viñas» (Expte. 3/2019 en la plataforma de contratación del estado). \n3. PARTE DE INFORMACIÓN Y CONTROL \n3.1.- Dación de cuenta de las resoluciones y decretos dictados por la alcaldesa y concejales delegados del día 25 de mayo de 2020 al 26 de julio de 2020.   (Nº 2020-1221 AL 2020-1529). \n4. RUEGOS Y PREGUNTAS
URL:https://www.sanmartindevaldeiglesias.es/evento/pleno-ordinario-23/
LOCATION:Ayuntamiento
CATEGORIES:Pleno
END:VEVENT
BEGIN:VEVENT
DTSTART;TZID=Europe/Madrid:20200814T220000
DTEND;TZID=Europe/Madrid:20200814T233000
DTSTAMP:20260423T174753
CREATED:20200706T105742Z
LAST-MODIFIED:20200720T134329Z
UID:18763-1597442400-1597447800@www.sanmartindevaldeiglesias.es
SUMMARY:Concierto: Travis Birds
DESCRIPTION:
URL:https://www.sanmartindevaldeiglesias.es/evento/concierto-travis-birds/
LOCATION:Plaza de la Corredera\, Plaza de la Corredera\, San Martín de Valdeiglesias\, Madrid\, 28680\, España
CATEGORIES:Conciertos
END:VEVENT
BEGIN:VEVENT
DTSTART;TZID=Europe/Madrid:20200828T220000
DTEND;TZID=Europe/Madrid:20200828T230000
DTSTAMP:20260423T174753
CREATED:20200706T110807Z
LAST-MODIFIED:20200807T114406Z
UID:18766-1598652000-1598655600@www.sanmartindevaldeiglesias.es
SUMMARY:Concierto: Sheila Blanco
DESCRIPTION:
URL:https://www.sanmartindevaldeiglesias.es/evento/concierto-sheila-blanco/
LOCATION:C/Corredera Alta
CATEGORIES:Conciertos
END:VEVENT
BEGIN:VEVENT
DTSTART;TZID=Europe/Madrid:20200924T200000
DTEND;TZID=Europe/Madrid:20200924T233000
DTSTAMP:20260423T174753
CREATED:20200928T080236Z
LAST-MODIFIED:20200928T080236Z
UID:19041-1600977600-1600990200@www.sanmartindevaldeiglesias.es
SUMMARY:Pleno ordinario
DESCRIPTION:El Ayuntamiento de San Martín de Valdeiglesias\ncelebrará Pleno ordinario\nel jueves 24 de septiembre\, a las 20 horas\,\ncon el siguiente ORDEN DEL DÍA\n1. APROBACIÓN DE ACTAS \n1.1.-  Aprobación del acta de la sesión extraordinaria celebrada el día 17 de julio de 2020.  (EXPEDIENTE PLN 2020/7)\n1.2- Aprobación del acta de la sesión ordinaria celebrada el día 30 de julio de 2020. (EXPEDIENTE PLN 2020/8) \n2. PARTE DE RESOLUCIÓN \n2.1.- ASUNTOS DICTAMINADOS \n2.1.1-EXPEDIENTE 2934/2020: MC 05/2020 – Suplemento de crédito financiado con remanente de tesorería para financiación REC -Subcarpeta: MC 5/2020- Suplemento de Crédito para Financiación REC 004/2020. \n2.1.2-EXPEDIENTE 2935/2020: REC 004/2020 Gastos ejercicios anteriores aplicados al presupuesto-  Subcarpeta R.E.C. 004/2020. \n2.1.3-EXPEDIENTE 3630/2020: Modificación de crédito número 8/2020 para pago de sentencias. \n2.1.4.- EXPEDIENTE 2955/2020: Encomienda de gestión al Ayuntamiento de Torrelodones para la emisión de informes urbanísticos. \n3. PARTE DE INFORMACIÓN Y CONTROL \n3.1.- Dación de cuentas de las resoluciones y decretos dictados por alcaldesa y concejales delegados del día 28 de julio de 2020 al 20 de septiembre de 2020. (Nº 2020-1530 AL 2020-1891). \n3.2.-EXPEDIENTE 3871/2020: Avocación y delegación de atribuciones de la alcaldesa en la Junta de Gobierno Local. \n3.3.-EXPEDIENTE 3872/2020: Nuevas áreas de Gobierno-Septiembre 2020. \n3.4-EXPEDIENTE 3889/2020: Delegación de atribuciones de la alcaldía en concejales  – Septiembre 2020 \n4. RUEGOS Y PREGUNTAS
URL:https://www.sanmartindevaldeiglesias.es/evento/pleno-ordinario-24/
LOCATION:Ayuntamiento
CATEGORIES:Pleno
END:VEVENT
BEGIN:VEVENT
DTSTART;TZID=Europe/Madrid:20200926T120000
DTEND;TZID=Europe/Madrid:20200926T133000
DTSTAMP:20260423T174753
CREATED:20200921T102659Z
LAST-MODIFIED:20200921T102659Z
UID:19028-1601121600-1601127000@www.sanmartindevaldeiglesias.es
SUMMARY:Concierto: A Villa Voz
DESCRIPTION:Concierto del Coro de la Comunidad de Madrid\, dentro del Ciclo «A Villa Voz»\, para dinamizar las actividades culturales en los once municipios que forman parte del programa Villas de Madrid.  Entrada gratuita hasta completar aforo. \nPrograma:\nCarlos Guastavino\nINDIANAS\n· Gala del día\n· Una de dos \nPaul Ben Haim\nCANCIONES SEFARDITAS\n· La rosa enflorece\n· Punxa\, punxa la rosa \nErnesto Lecuona\nGITANERÍAS (piano solo) \nAlejandro Yagüe\nROMANCE DE LA LUNA \nMario Castelnuovo-Tedesco\nLA GUITARRA\nEL CRÓTALO \nXavier Montsalvatge\nCANCIONES NEGRAS\n· Punto de habanera\n· Canto negro \nToldrà/Domenech\nDESPUÉS QUE TE CONOCÍ \nEnrique Granados\nGoyescas No 7 “EL PELELE” (piano solo) \nFrancisco Asenjo Barbieri\nDICEN QUE EN EL PARDO (El Barberillo de Lavapiés) \nRuperto Chapí\nCORO DE DOCTORES (El Rey que Rabió) \nFederico Chueca\nCORO DE NIÑERAS (Agua\, azucarillos y aguardiente) \nPablo Sorozábal\nENSALADA MADRILEÑA (Don Manolito) \n 
URL:https://www.sanmartindevaldeiglesias.es/evento/concierto-a-villa-voz-2/
LOCATION:Iglesia Parroquial\, Plaza Real\, s/n\, San Martín de Valdeiglesias\, Madrid\, 28680\, España
CATEGORIES:Conciertos
END:VEVENT
BEGIN:VEVENT
DTSTART;TZID=Europe/Madrid:20201003T200000
DTEND;TZID=Europe/Madrid:20201003T213000
DTSTAMP:20260423T174753
CREATED:20200113T090546Z
LAST-MODIFIED:20200504T092557Z
UID:16000-1601755200-1601760600@www.sanmartindevaldeiglesias.es
SUMMARY:Teatro: Hombres que escriben...
DESCRIPTION:
URL:https://www.sanmartindevaldeiglesias.es/evento/teatro-ciudados-intensivos/
LOCATION:Teatro municipal\, Calle Fuente 4\, San Martín de Valdeiglesias\, Madrid\, 28680\, España
CATEGORIES:Teatro
END:VEVENT
BEGIN:VEVENT
DTSTART;TZID=Europe/Madrid:20201024T200000
DTEND;TZID=Europe/Madrid:20201024T220000
DTSTAMP:20260423T174753
CREATED:20201020T130022Z
LAST-MODIFIED:20201020T130409Z
UID:19148-1603569600-1603576800@www.sanmartindevaldeiglesias.es
SUMMARY:Teatro: Yllana
DESCRIPTION:
URL:https://www.sanmartindevaldeiglesias.es/evento/teatro-yllana/
LOCATION:Teatro municipal\, Calle Fuente 4\, San Martín de Valdeiglesias\, Madrid\, 28680\, España
CATEGORIES:Teatro
END:VEVENT
BEGIN:VEVENT
DTSTART;TZID=Europe/Madrid:20201030T120000
DTEND;TZID=Europe/Madrid:20201030T130000
DTSTAMP:20260423T174753
CREATED:20201030T131156Z
LAST-MODIFIED:20201103T095021Z
UID:19186-1604059200-1604062800@www.sanmartindevaldeiglesias.es
SUMMARY:Pleno
DESCRIPTION:El Ayuntamiento de San Martín de Valdeiglesias celebrará\nSESIÓN EXTRAORDINARIA\ndel pleno a las 12\,00 horas del día 30 de octubre de 2020 \n  \nCon el siguiente ORDEN DEL DÍA: \n1.- EXPEDIENTE 2935/2020: REC 004/2020 GASTOS EJERCICIOS ANTERIORES APLICADOS AL PRESUPUESTO – Subcarpeta R.E.C. 004/2020. \n2.- CREACIÓN DE COMISIÓN ESPECIAL SOBRE LA “DESAPARICIÓN” DEL CÉSPED ARTIFICIAL RETIRADO DEL CAMPO DE FÚTBOL Y DE LAS PISTAS DE PADEL.
URL:https://www.sanmartindevaldeiglesias.es/evento/pleno-ordinario-25/
LOCATION:Ayuntamiento
CATEGORIES:Pleno
END:VEVENT
BEGIN:VEVENT
DTSTART;TZID=Europe/Madrid:20201031T120000
DTEND;TZID=Europe/Madrid:20201031T150000
DTSTAMP:20260423T174753
CREATED:20201030T132017Z
LAST-MODIFIED:20201030T132355Z
UID:19188-1604145600-1604156400@www.sanmartindevaldeiglesias.es
SUMMARY:Concierto: "Sesión Vermú"
DESCRIPTION:
URL:https://www.sanmartindevaldeiglesias.es/evento/concierto-sesion-vermu/
LOCATION:Plaza de la Corredera\, Plaza de la Corredera\, San Martín de Valdeiglesias\, Madrid\, 28680\, España
CATEGORIES:Conciertos
END:VEVENT
BEGIN:VEVENT
DTSTART;TZID=Europe/Madrid:20201114T201500
DTEND;TZID=Europe/Madrid:20201114T213000
DTSTAMP:20260423T174753
CREATED:20201023T104708Z
LAST-MODIFIED:20201023T104708Z
UID:19175-1605384900-1605389400@www.sanmartindevaldeiglesias.es
SUMMARY:Teatro: El barbero de Sevilla
DESCRIPTION:
URL:https://www.sanmartindevaldeiglesias.es/evento/teatro-el-barbero-de-sevilla/
LOCATION:Teatro municipal\, Calle Fuente 4\, San Martín de Valdeiglesias\, Madrid\, 28680\, España
CATEGORIES:Conciertos,Teatro
END:VEVENT
BEGIN:VEVENT
DTSTART;TZID=Europe/Madrid:20201117T090000
DTEND;TZID=Europe/Madrid:20201119T210000
DTSTAMP:20260423T174753
CREATED:20201116T141239Z
LAST-MODIFIED:20201116T141239Z
UID:19254-1605603600-1605819600@www.sanmartindevaldeiglesias.es
SUMMARY:Tests de antígenos
DESCRIPTION:
URL:https://www.sanmartindevaldeiglesias.es/evento/tests-de-antigenos/
LOCATION:Patronato municipal de deportes\, Calle salamanca 17\, San Martín de valdeiglesias\, Madrid\, 28680\, España
CATEGORIES:Salud
END:VEVENT
BEGIN:VEVENT
DTSTART;TZID=Europe/Madrid:20201201T090000
DTEND;TZID=Europe/Madrid:20201201T123000
DTSTAMP:20260423T174753
CREATED:20201110T095143Z
LAST-MODIFIED:20201110T095157Z
UID:19239-1606813200-1606825800@www.sanmartindevaldeiglesias.es
SUMMARY:Renovación del DNI
DESCRIPTION:
URL:https://www.sanmartindevaldeiglesias.es/evento/renovacion-del-dni/
LOCATION:Ayuntamiento
END:VEVENT
BEGIN:VEVENT
DTSTART;TZID=Europe/Madrid:20201203T190000
DTEND;TZID=Europe/Madrid:20201203T220000
DTSTAMP:20260423T174753
CREATED:20201201T085630Z
LAST-MODIFIED:20201201T085630Z
UID:19295-1607022000-1607032800@www.sanmartindevaldeiglesias.es
SUMMARY:Pleno ordinario
DESCRIPTION:El Ayuntamiento de San Martín de Valdeiglesias\ncelebrará sesión del pleno ordinaria\,\nel 3 de diciembre de 2020\, a las 19 h. con el siguiente\nORDEN DEL DÍA:\n1. APROBACIÓN DE ACTAS \n1.1.- Aprobación del acta de la sesión ordinaria celebrada el día 24 de septiembre de 2020 (PNL 2020/9) \n1.2- Aprobación del acta de la sesión extraordinaria celebrada el día 30 de octubre de 2020 (PNL 2020/10) \n2. PARTE DE RESOLUCIÓN \n2.1.- ASUNTOS DICTAMINADOS \n2.1.1.- EXPEDIENTE 5585/2020: Aprobación de la valoración y relación de puestos de trabajo del Ayuntamiento de San Martín de Valdeiglesias. \n2.1.2.- EXPEDIENTE 2955/2020: Encomienda de gestión al Ayuntamiento de Torrelodones para la emisión de informes urbanísticos. \n2.1.3.- EXPEDIENTE 5751/2020: Aprobación del acuerdo regulador del régimen especial de condiciones de trabajo del Cuerpo de Policía Local de este Ayuntamiento. \n2.1.4.- EXPEDIENTE 5712/2020. Aprobación del Plan Municipal de Protección Civil del municipio de San Martín de Valdeiglesias (PLATESANMAR) \n2.1.5.- EXPEDIENTE 4158/2020. Aprobación de las fiestas locales laborales para el año 2021. \n2.1.6.- EXPEDIENTE 3326/2020: Elección del cargo de juez de paz titular. \n3. PARTE DE INFORMACIÓN Y CONTROL \n3.1.- Dación de cuenta de las resoluciones y decretos dictados por alcaldesa y concejales delegados del día 21 de septiembre de 2020 al 29 de noviembre de 2020 (Nº 2020-1892 AL 2020-3008). \n3.2.- Dación de cuenta de los informes  trimestrales de morosidad 2 trimestre 2020 (EXPEDIENTE 3046/2020) \n3.3.- Dación de cuenta de los informes trimestrales de morosidad 3 trimestre 2020 (EXPEDIENTE 4337/2020) \n3.4.- Dación de cuenta de la ejecución trimestral del presupuesto 4 trimestre 2019 (EXPEDIENTE 590/2019) \n3.5.- Dación de cuentas de la ejecución trimestral del presupuesto 2 trimestre 2020 (EXPEDIENTE 3048/2020) \n3.6.- Dación de cuentas de la ejecución trimestral del presupuesto 3 trimestre 2020 (EXPEDIENTE 4386/2020) \n3.7.- Dación de cuentas seguimiento plan de ajuste 2 trimestre 2020 (EXPEDIENTE 3049/2020) \n3.8.- Dación de cuentas seguimiento plan de ajuste 3 trimestre 2020 (EXPEDIENTE 4384/2020) \n3.9.- Dación de cuentas del informe anual de intervención relativo al cumplimiento del Plan de Reducción de deuda 2015-2019 (EXPEDIENTE 5820/2020). \n4. RUEGOS Y PREGUNTAS
URL:https://www.sanmartindevaldeiglesias.es/evento/pleno-ordinario-26/
LOCATION:Ayuntamiento
CATEGORIES:Pleno
END:VEVENT
END:VCALENDAR