BEGIN:VCALENDAR
VERSION:2.0
PRODID:-//San Martín de Valdeiglesias - ECPv6.15.20//NONSGML v1.0//EN
CALSCALE:GREGORIAN
METHOD:PUBLISH
X-WR-CALNAME:San Martín de Valdeiglesias
X-ORIGINAL-URL:https://www.sanmartindevaldeiglesias.es
X-WR-CALDESC:Eventos para San Martín de Valdeiglesias
REFRESH-INTERVAL;VALUE=DURATION:PT1H
X-Robots-Tag:noindex
X-PUBLISHED-TTL:PT1H
BEGIN:VTIMEZONE
TZID:Europe/Madrid
BEGIN:DAYLIGHT
TZOFFSETFROM:+0100
TZOFFSETTO:+0200
TZNAME:CEST
DTSTART:20200329T010000
END:DAYLIGHT
BEGIN:STANDARD
TZOFFSETFROM:+0200
TZOFFSETTO:+0100
TZNAME:CET
DTSTART:20201025T010000
END:STANDARD
BEGIN:DAYLIGHT
TZOFFSETFROM:+0100
TZOFFSETTO:+0200
TZNAME:CEST
DTSTART:20210328T010000
END:DAYLIGHT
BEGIN:STANDARD
TZOFFSETFROM:+0200
TZOFFSETTO:+0100
TZNAME:CET
DTSTART:20211031T010000
END:STANDARD
BEGIN:DAYLIGHT
TZOFFSETFROM:+0100
TZOFFSETTO:+0200
TZNAME:CEST
DTSTART:20220327T010000
END:DAYLIGHT
BEGIN:STANDARD
TZOFFSETFROM:+0200
TZOFFSETTO:+0100
TZNAME:CET
DTSTART:20221030T010000
END:STANDARD
END:VTIMEZONE
BEGIN:VEVENT
DTSTART;TZID=Europe/Madrid:20210807T210000
DTEND;TZID=Europe/Madrid:20210807T223000
DTSTAMP:20260420T201639
CREATED:20210802T100620Z
LAST-MODIFIED:20210802T100620Z
UID:20081-1628370000-1628375400@www.sanmartindevaldeiglesias.es
SUMMARY:Festival de bandas
DESCRIPTION:
URL:https://www.sanmartindevaldeiglesias.es/evento/festival-de-bandas/
LOCATION:Plaza de toros
CATEGORIES:Conciertos
END:VEVENT
BEGIN:VEVENT
DTSTART;TZID=Europe/Madrid:20210812T150000
DTEND;TZID=Europe/Madrid:20210812T180000
DTSTAMP:20260420T201639
CREATED:20210713T115730Z
LAST-MODIFIED:20210713T115730Z
UID:19963-1628780400-1628791200@www.sanmartindevaldeiglesias.es
SUMMARY:Atención al consumidor
DESCRIPTION:Servicio de atención e información al consumidor. \nJueves\, 12 de agosto de 15 a 18 h.  \nPara acceder a este servicio es necesario concertar cita previa en el teléfono 91 861 18 10 – desarrollo@sanmartindevaldeiglesias.es. \nTambién se pueden realizar consultas de forma telemática a través del mail euroconsumo2@gmail.com
URL:https://www.sanmartindevaldeiglesias.es/evento/atencion-al-consumidor-duplicate-1-8/
LOCATION:Centro de Formación y Desarrollo\, Ctra. de Toledo\, s/n\, San Martín de Valdeiglesias\, Madrid\, 28680\, España
CATEGORIES:Servicios a la ciudadanía
END:VEVENT
BEGIN:VEVENT
DTSTART;TZID=Europe/Madrid:20210814T220000
DTEND;TZID=Europe/Madrid:20210814T235900
DTSTAMP:20260420T201639
CREATED:20210713T121703Z
LAST-MODIFIED:20210715T120820Z
UID:19967-1628978400-1628985540@www.sanmartindevaldeiglesias.es
SUMMARY:Concierto: Medina Azahara
DESCRIPTION:
URL:https://www.sanmartindevaldeiglesias.es/evento/concierto-medina-azahara/
LOCATION:Plaza de toros
CATEGORIES:Conciertos
END:VEVENT
BEGIN:VEVENT
DTSTART;TZID=Europe/Madrid:20210819T220000
DTEND;TZID=Europe/Madrid:20210819T233000
DTSTAMP:20260420T201639
CREATED:20210813T091104Z
LAST-MODIFIED:20210813T091104Z
UID:20115-1629410400-1629415800@www.sanmartindevaldeiglesias.es
SUMMARY:Cine de verano
DESCRIPTION:¡Shazam!\nDuración: 120 minutos.\nGénero: Fantasía\, comedia\, acción.\nEdad: No recomendada a menores de 7 años. \n \n¡AFORO LIMITADO!
URL:https://www.sanmartindevaldeiglesias.es/evento/cine-de-verano-8/
LOCATION:Plaza de toros
CATEGORIES:Cine
END:VEVENT
BEGIN:VEVENT
DTSTART;TZID=Europe/Madrid:20210820T213000
DTEND;TZID=Europe/Madrid:20210820T231500
DTSTAMP:20260420T201639
CREATED:20210810T114007Z
LAST-MODIFIED:20210816T125221Z
UID:20100-1629495000-1629501300@www.sanmartindevaldeiglesias.es
SUMMARY:Espectáculo infantil
DESCRIPTION:  \n \nVenta de entradas anticipadas en bar La Parrilla. Precio 10 € \nEntradas en taquilla\, el mismo día del espectáculo: Precio 12 €.
URL:https://www.sanmartindevaldeiglesias.es/evento/espectaculo-infantil-5/
LOCATION:Plaza de toros
CATEGORIES:Conciertos
END:VEVENT
BEGIN:VEVENT
DTSTART;TZID=Europe/Madrid:20210821T210000
DTEND;TZID=Europe/Madrid:20210821T220000
DTSTAMP:20260420T201639
CREATED:20210820T090506Z
LAST-MODIFIED:20210820T090506Z
UID:20147-1629579600-1629583200@www.sanmartindevaldeiglesias.es
SUMMARY:Presentación programa cultural
DESCRIPTION:Apertura de puertas a las 20:30 h. \nAforo máximo: 600 personas
URL:https://www.sanmartindevaldeiglesias.es/evento/presentacion-programa-cultural/
LOCATION:Plaza de toros
CATEGORIES:Fiestas
END:VEVENT
BEGIN:VEVENT
DTSTART;TZID=Europe/Madrid:20210826T150000
DTEND;TZID=Europe/Madrid:20210826T180000
DTSTAMP:20260420T201639
CREATED:20210713T120358Z
LAST-MODIFIED:20210713T120358Z
UID:19965-1629990000-1630000800@www.sanmartindevaldeiglesias.es
SUMMARY:Atención al consumidor
DESCRIPTION:Servicio de atención e información al consumidor. \nJueves\, 26 de agosto de 15 a 18 h.  \nPara acceder a este servicio es necesario concertar cita previa en el teléfono 91 861 18 10 – desarrollo@sanmartindevaldeiglesias.es. \nTambién se pueden realizar consultas de forma telemática a través del mail euroconsumo2@gmail.com
URL:https://www.sanmartindevaldeiglesias.es/evento/atencion-al-consumidor-duplicate-1-9/
LOCATION:Centro de Formación y Desarrollo\, Ctra. de Toledo\, s/n\, San Martín de Valdeiglesias\, Madrid\, 28680\, España
CATEGORIES:Servicios a la ciudadanía
END:VEVENT
BEGIN:VEVENT
DTSTART;TZID=Europe/Madrid:20210827T223000
DTEND;TZID=Europe/Madrid:20210828T000000
DTSTAMP:20260420T201639
CREATED:20210824T095719Z
LAST-MODIFIED:20210824T100124Z
UID:20180-1630103400-1630108800@www.sanmartindevaldeiglesias.es
SUMMARY:Concierto: SFC
DESCRIPTION:
URL:https://www.sanmartindevaldeiglesias.es/evento/concierto-sfc-2/
LOCATION:Plaza de toros
CATEGORIES:Conciertos
END:VEVENT
BEGIN:VEVENT
DTSTART;TZID=Europe/Madrid:20210828T223000
DTEND;TZID=Europe/Madrid:20210829T000000
DTSTAMP:20260420T201639
CREATED:20210824T100504Z
LAST-MODIFIED:20210824T100504Z
UID:20188-1630189800-1630195200@www.sanmartindevaldeiglesias.es
SUMMARY:Concierto: Desastre
DESCRIPTION:
URL:https://www.sanmartindevaldeiglesias.es/evento/concierto-desastre/
LOCATION:Madrid
CATEGORIES:Conciertos
END:VEVENT
BEGIN:VEVENT
DTSTART;TZID=Europe/Madrid:20210829T110000
DTEND;TZID=Europe/Madrid:20210829T130000
DTSTAMP:20260420T201639
CREATED:20210824T101402Z
LAST-MODIFIED:20210824T101402Z
UID:20194-1630234800-1630242000@www.sanmartindevaldeiglesias.es
SUMMARY:Fiesta de la burbuja
DESCRIPTION:
URL:https://www.sanmartindevaldeiglesias.es/evento/fiesta-de-la-burbuja/
LOCATION:Plaza de toros
CATEGORIES:Fiestas
END:VEVENT
BEGIN:VEVENT
DTSTART;TZID=Europe/Madrid:20210902T200000
DTEND;TZID=Europe/Madrid:20210902T210000
DTSTAMP:20260420T201639
CREATED:20210824T100940Z
LAST-MODIFIED:20210824T100940Z
UID:20192-1630612800-1630616400@www.sanmartindevaldeiglesias.es
SUMMARY:Espectáculo de Magia
DESCRIPTION:
URL:https://www.sanmartindevaldeiglesias.es/evento/espectaculo-de-magia-5/
LOCATION:Plaza de toros
CATEGORIES:Fiestas,Teatro
END:VEVENT
BEGIN:VEVENT
DTSTART;TZID=Europe/Madrid:20210902T220000
DTEND;TZID=Europe/Madrid:20210902T233000
DTSTAMP:20260420T201639
CREATED:20210813T091722Z
LAST-MODIFIED:20210813T091722Z
UID:20118-1630620000-1630625400@www.sanmartindevaldeiglesias.es
SUMMARY:Cine de verano
DESCRIPTION:Spider-man: lejos de casa\nDuración: 129 minutos\nGénero: Acción\, superhéroes\nEdad: No recomendada para menores de 7 años. \n  \n \n¡AFORO LIMITADO!
URL:https://www.sanmartindevaldeiglesias.es/evento/cine-de-verano-9/
LOCATION:Madrid
CATEGORIES:Cine
END:VEVENT
BEGIN:VEVENT
DTSTART;TZID=Europe/Madrid:20210903T223000
DTEND;TZID=Europe/Madrid:20210904T000000
DTSTAMP:20260420T201639
CREATED:20210824T100657Z
LAST-MODIFIED:20210824T100657Z
UID:20190-1630708200-1630713600@www.sanmartindevaldeiglesias.es
SUMMARY:Espectáculo flamenco
DESCRIPTION:
URL:https://www.sanmartindevaldeiglesias.es/evento/espectaculo-flamenco/
LOCATION:Plaza de toros
CATEGORIES:Conciertos
END:VEVENT
BEGIN:VEVENT
DTSTART;TZID=Europe/Madrid:20210904T220000
DTEND;TZID=Europe/Madrid:20210905T000000
DTSTAMP:20260420T201639
CREATED:20210824T101552Z
LAST-MODIFIED:20210824T101626Z
UID:20196-1630792800-1630800000@www.sanmartindevaldeiglesias.es
SUMMARY:I Festival del humor
DESCRIPTION:
URL:https://www.sanmartindevaldeiglesias.es/evento/20196/
LOCATION:Plaza de toros
CATEGORIES:Fiestas
END:VEVENT
BEGIN:VEVENT
DTSTART;TZID=Europe/Madrid:20210905T223000
DTEND;TZID=Europe/Madrid:20210906T000000
DTSTAMP:20260420T201639
CREATED:20210824T100308Z
LAST-MODIFIED:20210824T100308Z
UID:20186-1630881000-1630886400@www.sanmartindevaldeiglesias.es
SUMMARY:Concierto: Lo mejor de la copla
DESCRIPTION:
URL:https://www.sanmartindevaldeiglesias.es/evento/concierto-lo-mejor-de-la-copla/
LOCATION:Plaza de toros
CATEGORIES:Conciertos
END:VEVENT
BEGIN:VEVENT
DTSTART;TZID=Europe/Madrid:20210906T200000
DTEND;TZID=Europe/Madrid:20210906T213000
DTSTAMP:20260420T201639
CREATED:20210824T102810Z
LAST-MODIFIED:20210824T102810Z
UID:20206-1630958400-1630963800@www.sanmartindevaldeiglesias.es
SUMMARY:Espectáculo "Duende Ecuestre"
DESCRIPTION:
URL:https://www.sanmartindevaldeiglesias.es/evento/espectaculo-duende-ecuestre/
LOCATION:Plaza de toros
END:VEVENT
BEGIN:VEVENT
DTSTART;TZID=Europe/Madrid:20210907T093000
DTEND;TZID=Europe/Madrid:20210907T123000
DTSTAMP:20260420T201639
CREATED:20210810T114208Z
LAST-MODIFIED:20210810T114208Z
UID:20102-1631007000-1631017800@www.sanmartindevaldeiglesias.es
SUMMARY:DNI (Expedición/renovación)
DESCRIPTION:
URL:https://www.sanmartindevaldeiglesias.es/evento/dni-expedicion-renovacion-duplicate-1/
LOCATION:Ayuntamiento
CATEGORIES:Servicios a la ciudadanía
END:VEVENT
BEGIN:VEVENT
DTSTART;TZID=Europe/Madrid:20210907T223000
DTEND;TZID=Europe/Madrid:20210908T000000
DTSTAMP:20260420T201639
CREATED:20210824T095324Z
LAST-MODIFIED:20210824T100058Z
UID:20178-1631053800-1631059200@www.sanmartindevaldeiglesias.es
SUMMARY:Concierto: Homenaje Rocío Durcan
DESCRIPTION:
URL:https://www.sanmartindevaldeiglesias.es/evento/concierto-homenaje-rocio-durcan/
LOCATION:Plaza de toros
CATEGORIES:Conciertos
END:VEVENT
BEGIN:VEVENT
DTSTART;TZID=Europe/Madrid:20210908T223000
DTEND;TZID=Europe/Madrid:20210909T000000
DTSTAMP:20260420T201639
CREATED:20210824T095146Z
LAST-MODIFIED:20210824T100036Z
UID:20176-1631140200-1631145600@www.sanmartindevaldeiglesias.es
SUMMARY:Concierto: tributo a Alenjandro Sanz
DESCRIPTION:
URL:https://www.sanmartindevaldeiglesias.es/evento/concierto-tributo-a-alenjandro-sanz/
LOCATION:Plaza de toros
CATEGORIES:Conciertos
END:VEVENT
BEGIN:VEVENT
DTSTART;TZID=Europe/Madrid:20210909T223000
DTEND;TZID=Europe/Madrid:20210910T000000
DTSTAMP:20260420T201639
CREATED:20210824T103830Z
LAST-MODIFIED:20210824T124608Z
UID:20215-1631226600-1631232000@www.sanmartindevaldeiglesias.es
SUMMARY:Concierto tributo a "El Canto del loco"
DESCRIPTION:
URL:https://www.sanmartindevaldeiglesias.es/evento/concierto-tributo-a-el-canto-del-loco/
LOCATION:Plaza de toros
CATEGORIES:Conciertos,Fiestas
END:VEVENT
BEGIN:VEVENT
DTSTART;TZID=Europe/Madrid:20210910T223000
DTEND;TZID=Europe/Madrid:20210911T000000
DTSTAMP:20260420T201639
CREATED:20210824T103449Z
LAST-MODIFIED:20210824T103449Z
UID:20212-1631313000-1631318400@www.sanmartindevaldeiglesias.es
SUMMARY:Circus
DESCRIPTION:
URL:https://www.sanmartindevaldeiglesias.es/evento/circus/
LOCATION:Plaza de toros
CATEGORIES:Fiestas
END:VEVENT
BEGIN:VEVENT
DTSTART;TZID=Europe/Madrid:20210911T210000
DTEND;TZID=Europe/Madrid:20210911T223000
DTSTAMP:20260420T201639
CREATED:20210824T102444Z
LAST-MODIFIED:20210824T102444Z
UID:20203-1631394000-1631399400@www.sanmartindevaldeiglesias.es
SUMMARY:Concurso de recortes
DESCRIPTION:
URL:https://www.sanmartindevaldeiglesias.es/evento/concurso-de-recortes/
LOCATION:Plaza de toros
CATEGORIES:Fiestas
END:VEVENT
BEGIN:VEVENT
DTSTART;TZID=Europe/Madrid:20210912T110000
DTEND;TZID=Europe/Madrid:20210912T133000
DTSTAMP:20260420T201639
CREATED:20210824T102129Z
LAST-MODIFIED:20210824T102129Z
UID:20200-1631444400-1631453400@www.sanmartindevaldeiglesias.es
SUMMARY:Fiesta del hinchable
DESCRIPTION:
URL:https://www.sanmartindevaldeiglesias.es/evento/fiesta-del-hinchable/
LOCATION:Avda\, Felix Rodriguez de la Fuente.
END:VEVENT
BEGIN:VEVENT
DTSTART;TZID=Europe/Madrid:20210912T180000
DTEND;TZID=Europe/Madrid:20210912T193000
DTSTAMP:20260420T201639
CREATED:20210824T103112Z
LAST-MODIFIED:20210824T103112Z
UID:20209-1631469600-1631475000@www.sanmartindevaldeiglesias.es
SUMMARY:Corrida de toros
DESCRIPTION:
URL:https://www.sanmartindevaldeiglesias.es/evento/corrida-de-toros/
LOCATION:Plaza de toros
CATEGORIES:Fiestas
END:VEVENT
BEGIN:VEVENT
DTSTART;TZID=Europe/Madrid:20210924T193000
DTEND;TZID=Europe/Madrid:20210924T210000
DTSTAMP:20260420T201639
CREATED:20210922T121304Z
LAST-MODIFIED:20210922T121304Z
UID:20279-1632511800-1632517200@www.sanmartindevaldeiglesias.es
SUMMARY:Presentación del libro: Historia ...
DESCRIPTION:
URL:https://www.sanmartindevaldeiglesias.es/evento/presentacion-del-libro-historia/
LOCATION:Teatro municipal\, Calle Fuente 4\, San Martín de Valdeiglesias\, Madrid\, 28680\, España
CATEGORIES:Bienestar social
END:VEVENT
BEGIN:VEVENT
DTSTART;TZID=Europe/Madrid:20210930T200000
DTEND;TZID=Europe/Madrid:20210930T230000
DTSTAMP:20260420T201639
CREATED:20210929T100226Z
LAST-MODIFIED:20210930T072641Z
UID:20334-1633032000-1633042800@www.sanmartindevaldeiglesias.es
SUMMARY:Pleno ordinario
DESCRIPTION:EL PLENO DEL AYUNTAMIENTO DE SAN MARTÍN DE VALDEIGLESIAS \ncelebrará sesión ordinaria del pleno \na las 20 h. del día 30 de septiembre de 2021 \nORDEN DEL DÍA: \n1.- PARTE DE RESOLUCIÓN. \n1.1 Aprobación del acta de la sesión anterior. \n1.2 Expediente 5132/2021. Solicitud de cese de cargo público. \n1.3 Expediente 4768/2021 Solicitud compatibilidad del arquitecto. \n1.4 Expediente 5053/2021 Modificación de créditos. \n1.5 Expediente 4427/2021. Juzgado de paz. \n1.6 Expediente 4193/2021 Información económico-financiera. 2 T- 2021. \n1.7 Expediente 4181/2021. Información económico-financiera. Ejecución trimestre 2 -2021 \n1.8 Expediente 4135/2021 Plan de tesorería. \n2.- PARTE DE INFORMACIÓN Y CONTROL. \n2.1.- Dación de cuenta de las resoluciones y decretos dictados por la alcaldesa y concejales delegados del día 26 de julio de 2021 al 26 de septiembre de 2021. \n  \n3.- RUEGOS Y PREGUNTAS. \n 
URL:https://www.sanmartindevaldeiglesias.es/evento/pleno-ordinario-29/
LOCATION:Madrid
CATEGORIES:Pleno
END:VEVENT
BEGIN:VEVENT
DTSTART;VALUE=DATE:20211001
DTEND;VALUE=DATE:20211015
DTSTAMP:20260420T201639
CREATED:20210927T102306Z
LAST-MODIFIED:20210927T102306Z
UID:20315-1633046400-1634255999@www.sanmartindevaldeiglesias.es
SUMMARY:Exposición: Rincones
DESCRIPTION:
URL:https://www.sanmartindevaldeiglesias.es/evento/exposicion-rincones/
LOCATION:Centro cultural «La Estación»\, Av. del Ferrocarril\, 14B\,\, San Martín de Valdeiglesias\, Madrid\, 28680\, España
CATEGORIES:Exposiciones
END:VEVENT
BEGIN:VEVENT
DTSTART;TZID=Europe/Madrid:20211002T083000
DTEND;TZID=Europe/Madrid:20211002T100000
DTSTAMP:20260420T201639
CREATED:20210929T093144Z
LAST-MODIFIED:20210929T093228Z
UID:20324-1633163400-1633168800@www.sanmartindevaldeiglesias.es
SUMMARY:Retrasmisión Cto Mundo XC
DESCRIPTION:
URL:https://www.sanmartindevaldeiglesias.es/evento/retrasmision-cto-mundo-xc/
LOCATION:Teatro municipal\, Calle Fuente 4\, San Martín de Valdeiglesias\, Madrid\, 28680\, España
CATEGORIES:Deportes
END:VEVENT
BEGIN:VEVENT
DTSTART;TZID=Europe/Madrid:20211003T100000
DTEND;TZID=Europe/Madrid:20211003T130000
DTSTAMP:20260420T201639
CREATED:20210929T093535Z
LAST-MODIFIED:20210929T093535Z
UID:20327-1633255200-1633266000@www.sanmartindevaldeiglesias.es
SUMMARY:Marcha solidaria
DESCRIPTION:
URL:https://www.sanmartindevaldeiglesias.es/evento/marcha-solidaria-5/
LOCATION:Plaza de la Corredera\, Plaza de la Corredera\, San Martín de Valdeiglesias\, Madrid\, 28680\, España
CATEGORIES:Bienestar social
END:VEVENT
BEGIN:VEVENT
DTSTART;TZID=Europe/Madrid:20211005T093000
DTEND;TZID=Europe/Madrid:20211005T123000
DTSTAMP:20260420T201639
CREATED:20210917T084142Z
LAST-MODIFIED:20210917T084142Z
UID:20269-1633426200-1633437000@www.sanmartindevaldeiglesias.es
SUMMARY:Expedición/renovación DNI
DESCRIPTION:
URL:https://www.sanmartindevaldeiglesias.es/evento/expedicion-renovacion-dni-duplicate-1/
LOCATION:Ayuntamiento
CATEGORIES:Servicios a la ciudadanía
END:VEVENT
END:VCALENDAR