BEGIN:VCALENDAR
VERSION:2.0
PRODID:-//San Martín de Valdeiglesias - ECPv6.15.20//NONSGML v1.0//EN
CALSCALE:GREGORIAN
METHOD:PUBLISH
X-ORIGINAL-URL:https://www.sanmartindevaldeiglesias.es
X-WR-CALDESC:Eventos para San Martín de Valdeiglesias
REFRESH-INTERVAL;VALUE=DURATION:PT1H
X-Robots-Tag:noindex
X-PUBLISHED-TTL:PT1H
BEGIN:VTIMEZONE
TZID:Europe/Madrid
BEGIN:DAYLIGHT
TZOFFSETFROM:+0100
TZOFFSETTO:+0200
TZNAME:CEST
DTSTART:20170326T010000
END:DAYLIGHT
BEGIN:STANDARD
TZOFFSETFROM:+0200
TZOFFSETTO:+0100
TZNAME:CET
DTSTART:20171029T010000
END:STANDARD
BEGIN:DAYLIGHT
TZOFFSETFROM:+0100
TZOFFSETTO:+0200
TZNAME:CEST
DTSTART:20180325T010000
END:DAYLIGHT
BEGIN:STANDARD
TZOFFSETFROM:+0200
TZOFFSETTO:+0100
TZNAME:CET
DTSTART:20181028T010000
END:STANDARD
BEGIN:DAYLIGHT
TZOFFSETFROM:+0100
TZOFFSETTO:+0200
TZNAME:CEST
DTSTART:20190331T010000
END:DAYLIGHT
BEGIN:STANDARD
TZOFFSETFROM:+0200
TZOFFSETTO:+0100
TZNAME:CET
DTSTART:20191027T010000
END:STANDARD
END:VTIMEZONE
BEGIN:VEVENT
DTSTART;TZID=Europe/Madrid:20180601T190000
DTEND;TZID=Europe/Madrid:20180601T190000
DTSTAMP:20260422T115130
CREATED:20180419T095543Z
LAST-MODIFIED:20180419T095543Z
UID:11427-1527879600-1527879600@www.sanmartindevaldeiglesias.es
SUMMARY:Audición saxofón
DESCRIPTION:
URL:https://www.sanmartindevaldeiglesias.es/evento/audicion-saxofon/
LOCATION:Escuela Municipal de Música y Danza «Maestro Joaquín Rodrigo»\, General Martinez Benito 4\, San Martín de Valdeiglesias\, Madrid\, 28680\, España
CATEGORIES:Conciertos
END:VEVENT
BEGIN:VEVENT
DTSTART;TZID=Europe/Madrid:20180604T150000
DTEND;TZID=Europe/Madrid:20180622T210000
DTSTAMP:20260422T115130
CREATED:20180607T115944Z
LAST-MODIFIED:20180607T120106Z
UID:11859-1528124400-1529701200@www.sanmartindevaldeiglesias.es
SUMMARY:Exposición
DESCRIPTION:  Exposición «Paseos fotográficos de Loty por la Comunidad de Madrid (1926-1936)» del 4 al 22 de junio. Centro cultural «La Estacion»\, horario de lunes a viernes de 15 a 21 h\, \nExposición dentro de la Red ITINER de la Comunidad de Madrid.
URL:https://www.sanmartindevaldeiglesias.es/evento/exposicion/
LOCATION:Centro cultural «La Estación»\, Av. del Ferrocarril\, 14B\,\, San Martín de Valdeiglesias\, Madrid\, 28680\, España
CATEGORIES:Exposiciones
END:VEVENT
BEGIN:VEVENT
DTSTART;VALUE=DATE:20180606
DTEND;VALUE=DATE:20180607
DTSTAMP:20260422T115130
CREATED:20180419T095745Z
LAST-MODIFIED:20180419T095745Z
UID:11429-1528243200-1528329599@www.sanmartindevaldeiglesias.es
SUMMARY:Concierto aula iniciación
DESCRIPTION:
URL:https://www.sanmartindevaldeiglesias.es/evento/concierto-aula-iniciacion/
LOCATION:Teatro municipal\, Calle Fuente 4\, San Martín de Valdeiglesias\, Madrid\, 28680\, España
CATEGORIES:Conciertos
END:VEVENT
BEGIN:VEVENT
DTSTART;TZID=Europe/Madrid:20180606T193000
DTEND;TZID=Europe/Madrid:20180606T210000
DTSTAMP:20260422T115130
CREATED:20180605T130401Z
LAST-MODIFIED:20180605T130401Z
UID:11840-1528313400-1528318800@www.sanmartindevaldeiglesias.es
SUMMARY:Asamblea de Barrio
DESCRIPTION:
URL:https://www.sanmartindevaldeiglesias.es/evento/asamblea-de-barrio/
LOCATION:Centro de ocio de la Tercera Edad\, Avda. Félix Rodríguez de la Fuente\,\, San Martín de Valdeiglesias\, Madrid\, 28680\, España
END:VEVENT
BEGIN:VEVENT
DTSTART;TZID=Europe/Madrid:20180607T093000
DTEND;TZID=Europe/Madrid:20180607T120000
DTSTAMP:20260422T115130
CREATED:20180522T094949Z
LAST-MODIFIED:20180522T094949Z
UID:11725-1528363800-1528372800@www.sanmartindevaldeiglesias.es
SUMMARY:Expedición DNI
DESCRIPTION:
URL:https://www.sanmartindevaldeiglesias.es/evento/expedicion-dni/
LOCATION:Ayuntamiento
END:VEVENT
BEGIN:VEVENT
DTSTART;TZID=Europe/Madrid:20180607T103000
DTEND;TZID=Europe/Madrid:20180607T183000
DTSTAMP:20260422T115130
CREATED:20180605T130022Z
LAST-MODIFIED:20180606T071913Z
UID:11836-1528367400-1528396200@www.sanmartindevaldeiglesias.es
SUMMARY:Encuentro internacional FMM
DESCRIPTION:
URL:https://www.sanmartindevaldeiglesias.es/evento/encuentro-internacional-fmm/
LOCATION:Castillo de la Coracera\, Calle Castillo\, San Martín de Valdeiglesias\, Madrid\, 28680\, España
CATEGORIES:Desarrollo económico
END:VEVENT
BEGIN:VEVENT
DTSTART;TZID=Europe/Madrid:20180607T193000
DTEND;TZID=Europe/Madrid:20180607T210000
DTSTAMP:20260422T115130
CREATED:20180605T130800Z
LAST-MODIFIED:20180605T130800Z
UID:11843-1528399800-1528405200@www.sanmartindevaldeiglesias.es
SUMMARY:Asamblea de barrio
DESCRIPTION:
URL:https://www.sanmartindevaldeiglesias.es/evento/asamblea-de-barrio-2/
LOCATION:Centro «Los Lavaderos»\, Plaza de Teodoro Bravo\, 15\, San Martín de Valdeiglesias\, Madrid\, 28680\, España
CATEGORIES:Desarrollo económico
END:VEVENT
BEGIN:VEVENT
DTSTART;VALUE=DATE:20180609
DTEND;VALUE=DATE:20180610
DTSTAMP:20260422T115130
CREATED:20180419T100004Z
LAST-MODIFIED:20180419T100004Z
UID:11431-1528502400-1528588799@www.sanmartindevaldeiglesias.es
SUMMARY:Muestra de danza
DESCRIPTION:
URL:https://www.sanmartindevaldeiglesias.es/evento/muestra-de-danza-3/
LOCATION:Teatro municipal\, Calle Fuente 4\, San Martín de Valdeiglesias\, Madrid\, 28680\, España
CATEGORIES:Conciertos
END:VEVENT
BEGIN:VEVENT
DTSTART;TZID=Europe/Madrid:20180611T080000
DTEND;TZID=Europe/Madrid:20180611T140000
DTSTAMP:20260422T115130
CREATED:20180522T092834Z
LAST-MODIFIED:20180522T092834Z
UID:11718-1528704000-1528725600@www.sanmartindevaldeiglesias.es
SUMMARY:Curso manipulador alimentos
DESCRIPTION:
URL:https://www.sanmartindevaldeiglesias.es/evento/curso-manipulador-alimentos-2/
LOCATION:Centro de Formación y Desarrollo\, Ctra. de Toledo\, s/n\, San Martín de Valdeiglesias\, Madrid\, 28680\, España
CATEGORIES:Desarrollo económico
END:VEVENT
BEGIN:VEVENT
DTSTART;TZID=Europe/Madrid:20180611T093000
DTEND;TZID=Europe/Madrid:20180611T120000
DTSTAMP:20260422T115130
CREATED:20180522T095252Z
LAST-MODIFIED:20180522T095252Z
UID:11727-1528709400-1528718400@www.sanmartindevaldeiglesias.es
SUMMARY:Recogida DNI
DESCRIPTION:
URL:https://www.sanmartindevaldeiglesias.es/evento/recogida-dni-2/
LOCATION:Ayuntamiento
END:VEVENT
BEGIN:VEVENT
DTSTART;TZID=Europe/Madrid:20180614T170000
DTEND;TZID=Europe/Madrid:20180615T200000
DTSTAMP:20260422T115130
CREATED:20180612T073629Z
LAST-MODIFIED:20180613T070106Z
UID:11917-1528995600-1529092800@www.sanmartindevaldeiglesias.es
SUMMARY:Laboratorio de ideas para envejecer feliz
DESCRIPTION:   Jueves 14 de junio de 17 a 18 horas y viernes 15 de 17 a 20 horas. Inscripciones en el centro cultural «La Estacion» de lunes a viernes de 15 a 21 h. \nPlazas limitadas \n 
URL:https://www.sanmartindevaldeiglesias.es/evento/laboratorio-de-idas-para-envejecer-feliz/
LOCATION:Centro de ocio de la Tercera Edad\, Avda. Félix Rodríguez de la Fuente\,\, San Martín de Valdeiglesias\, Madrid\, 28680\, España
CATEGORIES:Bienestar social
END:VEVENT
BEGIN:VEVENT
DTSTART;TZID=Europe/Madrid:20180615T101500
DTEND;TZID=Europe/Madrid:20180615T113000
DTSTAMP:20260422T115130
CREATED:20180614T101517Z
LAST-MODIFIED:20180614T101517Z
UID:11949-1529057700-1529062200@www.sanmartindevaldeiglesias.es
SUMMARY:Presentación dispositivo seguridad
DESCRIPTION:
URL:https://www.sanmartindevaldeiglesias.es/evento/presentacion-dispositivo-seguridad/
LOCATION:Playa de la Virgen de la Nueva
END:VEVENT
BEGIN:VEVENT
DTSTART;VALUE=DATE:20180616
DTEND;VALUE=DATE:20180617
DTSTAMP:20260422T115130
CREATED:20180419T100147Z
LAST-MODIFIED:20180419T100147Z
UID:11433-1529107200-1529193599@www.sanmartindevaldeiglesias.es
SUMMARY:Muestra de danza
DESCRIPTION:ducac
URL:https://www.sanmartindevaldeiglesias.es/evento/muestra-de-danza-4/
LOCATION:Teatro municipal\, Calle Fuente 4\, San Martín de Valdeiglesias\, Madrid\, 28680\, España
CATEGORIES:Danza
END:VEVENT
BEGIN:VEVENT
DTSTART;TZID=Europe/Madrid:20180616T100000
DTEND;TZID=Europe/Madrid:20180616T140000
DTSTAMP:20260422T115130
CREATED:20180612T074936Z
LAST-MODIFIED:20180612T074936Z
UID:11921-1529143200-1529157600@www.sanmartindevaldeiglesias.es
SUMMARY:Evento solidario
DESCRIPTION:  Evento solidario para recaudar fondos en beneficio a la Fundacion Josep Carreras en su lucha contra la leucemia. \nDe 10 a 14 h. en la Plaza de la Corredera
URL:https://www.sanmartindevaldeiglesias.es/evento/evento-solidario/
LOCATION:Plaza de la Corredera\, Plaza de la Corredera\, San Martín de Valdeiglesias\, Madrid\, 28680\, España
CATEGORIES:Bienestar social,Participacion ciudadana,Salud
END:VEVENT
BEGIN:VEVENT
DTSTART;TZID=Europe/Madrid:20180616T100000
DTEND;TZID=Europe/Madrid:20180617T160000
DTSTAMP:20260422T115130
CREATED:20180612T075437Z
LAST-MODIFIED:20180612T075437Z
UID:11924-1529143200-1529251200@www.sanmartindevaldeiglesias.es
SUMMARY:Feria de turismo Sierra Oeste
DESCRIPTION:
URL:https://www.sanmartindevaldeiglesias.es/evento/feria-de-turismo-sierra-oeste/
LOCATION:Monasterio Pelayos de la Presa
CATEGORIES:Exposiciones,Medio Ambiente,Mercado,Turismo
END:VEVENT
BEGIN:VEVENT
DTSTART;VALUE=DATE:20180617
DTEND;VALUE=DATE:20180618
DTSTAMP:20260422T115130
CREATED:20180607T122440Z
LAST-MODIFIED:20180607T122440Z
UID:11862-1529193600-1529279999@www.sanmartindevaldeiglesias.es
SUMMARY:Fiesta padres e hijos
DESCRIPTION:
URL:https://www.sanmartindevaldeiglesias.es/evento/fiesta-padres-e-hijos/
LOCATION:Patronato municipal de deportes\, Calle salamanca 17\, San Martín de valdeiglesias\, Madrid\, 28680\, España
CATEGORIES:Deportes,Fiestas
END:VEVENT
BEGIN:VEVENT
DTSTART;TZID=Europe/Madrid:20180617T173000
DTEND;TZID=Europe/Madrid:20180617T190000
DTSTAMP:20260422T115130
CREATED:20180607T124933Z
LAST-MODIFIED:20180607T124933Z
UID:11870-1529256600-1529262000@www.sanmartindevaldeiglesias.es
SUMMARY:Festival solidario de danza
DESCRIPTION:  Festival solidario de danza del AMPA Virgen de la Nueva.
URL:https://www.sanmartindevaldeiglesias.es/evento/festival-solidario-de-danza-2/
LOCATION:Teatro municipal\, Calle Fuente 4\, San Martín de Valdeiglesias\, Madrid\, 28680\, España
CATEGORIES:Danza
END:VEVENT
BEGIN:VEVENT
DTSTART;TZID=Europe/Madrid:20180619T180000
DTEND;TZID=Europe/Madrid:20180619T200000
DTSTAMP:20260422T115130
CREATED:20180606T101822Z
LAST-MODIFIED:20180606T101822Z
UID:11847-1529431200-1529438400@www.sanmartindevaldeiglesias.es
SUMMARY:"No te dejes para mañana"
DESCRIPTION:
URL:https://www.sanmartindevaldeiglesias.es/evento/no-te-dejes-para-manana/
LOCATION:Centro «Los Lavaderos»\, Plaza de Teodoro Bravo\, 15\, San Martín de Valdeiglesias\, Madrid\, 28680\, España
CATEGORIES:Bienestar social,Educación,Igualdad
END:VEVENT
BEGIN:VEVENT
DTSTART;VALUE=DATE:20180622
DTEND;VALUE=DATE:20180623
DTSTAMP:20260422T115130
CREATED:20180419T100322Z
LAST-MODIFIED:20180419T100322Z
UID:11435-1529625600-1529711999@www.sanmartindevaldeiglesias.es
SUMMARY:Concierto fin de curso
DESCRIPTION:
URL:https://www.sanmartindevaldeiglesias.es/evento/concierto-fin-de-curso-3/
LOCATION:Teatro municipal\, Calle Fuente 4\, San Martín de Valdeiglesias\, Madrid\, 28680\, España
CATEGORIES:Conciertos
END:VEVENT
BEGIN:VEVENT
DTSTART;TZID=Europe/Madrid:20180622T113000
DTEND;TZID=Europe/Madrid:20180622T203000
DTSTAMP:20260422T115130
CREATED:20180608T072210Z
LAST-MODIFIED:20180608T072210Z
UID:11874-1529667000-1529699400@www.sanmartindevaldeiglesias.es
SUMMARY:Apertura piscina de verano
DESCRIPTION:
URL:https://www.sanmartindevaldeiglesias.es/evento/apertura-piscina-de-verano-2/
LOCATION:Piscina Municipal\, Plaza de los deportes\, San Martín de Valdeiglesias\, Madrid\, 28680\, España
CATEGORIES:Deportes,Fiestas
END:VEVENT
BEGIN:VEVENT
DTSTART;TZID=Europe/Madrid:20180623T100000
DTEND;TZID=Europe/Madrid:20180623T123000
DTSTAMP:20260422T115130
CREATED:20180612T080539Z
LAST-MODIFIED:20180622T100043Z
UID:11929-1529748000-1529757000@www.sanmartindevaldeiglesias.es
SUMMARY:Dia del yoga
DESCRIPTION:Día del Yoga. Sábado 23 de junio a partir de las 10h. en el «Parque de la Bola» (zona hogar del pensionista) \nRecomendable llevar esterilla
URL:https://www.sanmartindevaldeiglesias.es/evento/dia-del-yoga/
LOCATION:Parque de la Bola\, Avda. Félix Rodríguez de la Fuente\, San Martín de Valdeiglesias\, Madrid\, 28680\, España
CATEGORIES:Deportes
END:VEVENT
BEGIN:VEVENT
DTSTART;TZID=Europe/Madrid:20180623T223000
DTEND;TZID=Europe/Madrid:20180623T223000
DTSTAMP:20260422T115130
CREATED:20180622T092613Z
LAST-MODIFIED:20180622T092613Z
UID:11987-1529793000-1529793000@www.sanmartindevaldeiglesias.es
SUMMARY:Visita Teatralizada
DESCRIPTION:    Visita teatraliza \nEste sábado 23 de junio\, a partir de las 20\,30h\, realizaremos una visita teatralizada al castillo de La Coracera. \n  \nPara la visita teatralizada\, grupo limitado\, reserva tu plaza en el tfo.: 686 623 829 \nAdultos 7\,- € \nMenores y pensionistas 5\,- €
URL:https://www.sanmartindevaldeiglesias.es/evento/visita-teatralizada-9/
LOCATION:Castillo de la Coracera\, Calle Castillo\, San Martín de Valdeiglesias\, Madrid\, 28680\, España
CATEGORIES:Teatro
END:VEVENT
BEGIN:VEVENT
DTSTART;TZID=Europe/Madrid:20180623T230000
DTEND;TZID=Europe/Madrid:20180623T230000
DTSTAMP:20260422T115130
CREATED:20180608T074146Z
LAST-MODIFIED:20180618T115416Z
UID:11877-1529794800-1529794800@www.sanmartindevaldeiglesias.es
SUMMARY:Fiesta fabrick
DESCRIPTION:Sábado 23 de junio a partir de las 23h.  Plaza de toros. \nEntradas anticipadas 12 euros\, en taquilla 15 euros. \nPuntos de venta: Pub Casper\, bar La Parrilla\, restaurante La Piscina\, Castillo de la Coracera
URL:https://www.sanmartindevaldeiglesias.es/evento/fiesta-fabrick/
LOCATION:Plaza de toros
CATEGORIES:Conciertos,Fiestas
END:VEVENT
BEGIN:VEVENT
DTSTART;TZID=Europe/Madrid:20180624T200000
DTEND;TZID=Europe/Madrid:20180624T200000
DTSTAMP:20260422T115130
CREATED:20180608T081305Z
LAST-MODIFIED:20180608T081305Z
UID:11884-1529870400-1529870400@www.sanmartindevaldeiglesias.es
SUMMARY:Batucada
DESCRIPTION:  Gran batucada para celebrar el fin de curso. Domingo 24 de junio a las 20 h. en la plaza de la corredera.
URL:https://www.sanmartindevaldeiglesias.es/evento/batucada-2/
LOCATION:Plaza de la Corredera\, Plaza de la Corredera\, San Martín de Valdeiglesias\, Madrid\, 28680\, España
CATEGORIES:Danza,Fiestas,Música
END:VEVENT
BEGIN:VEVENT
DTSTART;TZID=Europe/Madrid:20180625T080000
DTEND;TZID=Europe/Madrid:20180629T150000
DTSTAMP:20260422T115130
CREATED:20180608T085156Z
LAST-MODIFIED:20180608T085156Z
UID:11894-1529913600-1530284400@www.sanmartindevaldeiglesias.es
SUMMARY:Urban Summer Camp
DESCRIPTION:
URL:https://www.sanmartindevaldeiglesias.es/evento/urban-summer-camp/
LOCATION:Centro de Formación y Desarrollo\, Ctra. de Toledo\, s/n\, San Martín de Valdeiglesias\, Madrid\, 28680\, España
CATEGORIES:Educación
END:VEVENT
BEGIN:VEVENT
DTSTART;TZID=Europe/Madrid:20180627T083000
DTEND;TZID=Europe/Madrid:20180627T183000
DTSTAMP:20260422T115130
CREATED:20180521T111243Z
LAST-MODIFIED:20180522T110152Z
UID:11705-1530088200-1530124200@www.sanmartindevaldeiglesias.es
SUMMARY:Excursión infantil
DESCRIPTION:  MIÉRCOLES 27 DE MAYO\, DE 6 A 12 AÑOS. \nVisita al centro de recuperación de primates Rainfer + visita al Museo nacional de ciencia y tecnologia. \n22\,50 Euros por persona. Incluye:Transporte de ida y vuelta\, entrada a los centros y un taller educativo en cada uno de ellos (NO incluye comida) \nInscripciones en el ayuntamiento de 8 a 15 horas y jueves de 16:30 a 19:30 h ¡PLAZAS LIMITADAS!
URL:https://www.sanmartindevaldeiglesias.es/evento/excursion-infantil/
LOCATION:Madrid
CATEGORIES:Excursión
END:VEVENT
BEGIN:VEVENT
DTSTART;TZID=Europe/Madrid:20180628T103000
DTEND;TZID=Europe/Madrid:20180628T123000
DTSTAMP:20260422T115130
CREATED:20180627T093232Z
LAST-MODIFIED:20180627T093232Z
UID:11997-1530181800-1530189000@www.sanmartindevaldeiglesias.es
SUMMARY:Izado de la Bandera Azul
DESCRIPTION:Acto de izado de la Bandera Azul en la Playa de la Virgen de la Nueva\, la primera playa de Madrid que cuenta con este galardón internacional.  \nCoincidiendo con este acto\, Fundación Mapfre y Bandera Azul\, van a dar a conocer el informe de ahogamientos 2017 y realizarán una campaña de prevención  con talleres prácticos en los que niños y mayores aprenderán a identificar factores de riesgo\, saber actuar en caso de urgencia y aprender conocimientos básicos de primeros auxilios. 
URL:https://www.sanmartindevaldeiglesias.es/evento/izado-de-la-bandera-azul/
LOCATION:Playa de la Virgen de la Nueva
END:VEVENT
BEGIN:VEVENT
DTSTART;TZID=Europe/Madrid:20180628T160000
DTEND;TZID=Europe/Madrid:20180629T200000
DTSTAMP:20260422T115130
CREATED:20180608T084037Z
LAST-MODIFIED:20180612T085037Z
UID:11891-1530201600-1530302400@www.sanmartindevaldeiglesias.es
SUMMARY:Master class
DESCRIPTION:   Master class a cargo del trompetista Rubén Simeo. \nJueves 28  y viernes 29. Horario de 16 a 20 horas en el Teatro Municipal. \nPrecio: Alumnos de la Escuela Municipal de Musica\, miembros de la Union Musical y oyentes gratuito. Alumnos activos 25 euros. \nInscripciones en la secretaria de la Escuela Municipal de Musica de L-V de 16 a 20 h.
URL:https://www.sanmartindevaldeiglesias.es/evento/master-class/
LOCATION:Teatro municipal\, Calle Fuente 4\, San Martín de Valdeiglesias\, Madrid\, 28680\, España
CATEGORIES:Conciertos,Educación,Música
END:VEVENT
BEGIN:VEVENT
DTSTART;VALUE=DATE:20180630
DTEND;VALUE=DATE:20180701
DTSTAMP:20260422T115130
CREATED:20180419T100524Z
LAST-MODIFIED:20180629T105441Z
UID:11437-1530316800-1530403199@www.sanmartindevaldeiglesias.es
SUMMARY:Concierto aula de banda
DESCRIPTION:
URL:https://www.sanmartindevaldeiglesias.es/evento/concierto-aula-de-banda-3/
LOCATION:Teatro municipal\, Calle Fuente 4\, San Martín de Valdeiglesias\, Madrid\, 28680\, España
CATEGORIES:Conciertos
END:VEVENT
BEGIN:VEVENT
DTSTART;VALUE=DATE:20180701
DTEND;VALUE=DATE:20180702
DTSTAMP:20260422T115130
CREATED:20180419T100718Z
LAST-MODIFIED:20180419T100718Z
UID:11439-1530403200-1530489599@www.sanmartindevaldeiglesias.es
SUMMARY:Encuentro de corales
DESCRIPTION:
URL:https://www.sanmartindevaldeiglesias.es/evento/encuentro-de-corales/
LOCATION:Castillo de la Coracera\, Calle Castillo\, San Martín de Valdeiglesias\, Madrid\, 28680\, España
CATEGORIES:Conciertos
END:VEVENT
END:VCALENDAR