BEGIN:VCALENDAR
VERSION:2.0
PRODID:-//San Martín de Valdeiglesias - ECPv6.15.20//NONSGML v1.0//EN
CALSCALE:GREGORIAN
METHOD:PUBLISH
X-ORIGINAL-URL:https://www.sanmartindevaldeiglesias.es
X-WR-CALDESC:Eventos para San Martín de Valdeiglesias
REFRESH-INTERVAL;VALUE=DURATION:PT1H
X-Robots-Tag:noindex
X-PUBLISHED-TTL:PT1H
BEGIN:VTIMEZONE
TZID:Europe/Madrid
BEGIN:DAYLIGHT
TZOFFSETFROM:+0100
TZOFFSETTO:+0200
TZNAME:CEST
DTSTART:20180325T010000
END:DAYLIGHT
BEGIN:STANDARD
TZOFFSETFROM:+0200
TZOFFSETTO:+0100
TZNAME:CET
DTSTART:20181028T010000
END:STANDARD
BEGIN:DAYLIGHT
TZOFFSETFROM:+0100
TZOFFSETTO:+0200
TZNAME:CEST
DTSTART:20190331T010000
END:DAYLIGHT
BEGIN:STANDARD
TZOFFSETFROM:+0200
TZOFFSETTO:+0100
TZNAME:CET
DTSTART:20191027T010000
END:STANDARD
BEGIN:DAYLIGHT
TZOFFSETFROM:+0100
TZOFFSETTO:+0200
TZNAME:CEST
DTSTART:20200329T010000
END:DAYLIGHT
BEGIN:STANDARD
TZOFFSETFROM:+0200
TZOFFSETTO:+0100
TZNAME:CET
DTSTART:20201025T010000
END:STANDARD
END:VTIMEZONE
BEGIN:VEVENT
DTSTART;TZID=Europe/Madrid:20190102T160000
DTEND;TZID=Europe/Madrid:20190102T180000
DTSTAMP:20260422T220415
CREATED:20190102T092105Z
LAST-MODIFIED:20190102T092128Z
UID:13344-1546444800-1546452000@www.sanmartindevaldeiglesias.es
SUMMARY:Visita del Paje Real
DESCRIPTION:
URL:https://www.sanmartindevaldeiglesias.es/evento/visita-del-paje-real/
LOCATION:Plaza de la Corredera\, Plaza de la Corredera\, San Martín de Valdeiglesias\, Madrid\, 28680\, España
CATEGORIES:Fiestas
END:VEVENT
BEGIN:VEVENT
DTSTART;TZID=Europe/Madrid:20190102T180000
DTEND;TZID=Europe/Madrid:20190102T190000
DTSTAMP:20260422T220415
CREATED:20190102T092706Z
LAST-MODIFIED:20190102T092706Z
UID:13347-1546452000-1546455600@www.sanmartindevaldeiglesias.es
SUMMARY:Roscón con los mayores
DESCRIPTION:Celebramos los Reyes con los mayores. 
URL:https://www.sanmartindevaldeiglesias.es/evento/roscon-con-los-mayores/
LOCATION:Centro de ocio de la Tercera Edad\, Avda. Félix Rodríguez de la Fuente\,\, San Martín de Valdeiglesias\, Madrid\, 28680\, España
END:VEVENT
BEGIN:VEVENT
DTSTART;TZID=Europe/Madrid:20190103T180000
DTEND;TZID=Europe/Madrid:20190103T193000
DTSTAMP:20260422T220415
CREATED:20181221T121102Z
LAST-MODIFIED:20181221T121102Z
UID:13317-1546538400-1546543800@www.sanmartindevaldeiglesias.es
SUMMARY:Títeres: Titiricuentos
DESCRIPTION:OLYMPUS DIGITAL CAMERA
URL:https://www.sanmartindevaldeiglesias.es/evento/titeres-titiricuentos/
LOCATION:Centro Cultural Santa Catalina
CATEGORIES:Teatro
END:VEVENT
BEGIN:VEVENT
DTSTART;TZID=Europe/Madrid:20190104T113000
DTEND;TZID=Europe/Madrid:20190104T130000
DTSTAMP:20260422T220415
CREATED:20190103T083209Z
LAST-MODIFIED:20190103T083209Z
UID:13353-1546601400-1546606800@www.sanmartindevaldeiglesias.es
SUMMARY:Cine infantil
DESCRIPTION:
URL:https://www.sanmartindevaldeiglesias.es/evento/cine-infantil-2/
LOCATION:Biblioteca Municipal\, C/ Fuente\, 4\, San Martín de Valdeiglesias\, Madrid\, 28680\, España
CATEGORIES:Cine
END:VEVENT
BEGIN:VEVENT
DTSTART;TZID=Europe/Madrid:20190104T173000
DTEND;TZID=Europe/Madrid:20190104T190000
DTSTAMP:20260422T220415
CREATED:20190103T082810Z
LAST-MODIFIED:20190103T082810Z
UID:13350-1546623000-1546628400@www.sanmartindevaldeiglesias.es
SUMMARY:Teatro infantil
DESCRIPTION:
URL:https://www.sanmartindevaldeiglesias.es/evento/teatro-infantil-3/
LOCATION:Teatro municipal\, Calle Fuente 4\, San Martín de Valdeiglesias\, Madrid\, 28680\, España
CATEGORIES:Música,Teatro
END:VEVENT
BEGIN:VEVENT
DTSTART;TZID=Europe/Madrid:20190105T183000
DTEND;TZID=Europe/Madrid:20190105T193000
DTSTAMP:20260422T220415
CREATED:20190103T083828Z
LAST-MODIFIED:20190103T084812Z
UID:13356-1546713000-1546716600@www.sanmartindevaldeiglesias.es
SUMMARY:Cabalgata de Reyes
DESCRIPTION:Salida desde el Castillo de la Coracera hasta llegar a la Plaza Real\, donde Sus Majestades recibirán a todos los niños. 
URL:https://www.sanmartindevaldeiglesias.es/evento/cabalgata-de-reyes-2/
LOCATION:Castillo de la Coracera\, Calle Castillo\, San Martín de Valdeiglesias\, Madrid\, 28680\, España
CATEGORIES:Fiestas
END:VEVENT
BEGIN:VEVENT
DTSTART;TZID=Europe/Madrid:20190108T120000
DTEND;TZID=Europe/Madrid:20190108T123000
DTSTAMP:20260422T220415
CREATED:20190108T090540Z
LAST-MODIFIED:20190108T090540Z
UID:13417-1546948800-1546950600@www.sanmartindevaldeiglesias.es
SUMMARY:Sorteo: Regala Navidad
DESCRIPTION:Sorteo de dos vales descuento por valor de 320 euros\,  para  comprar en los establecimientos addheridos a la campaña.
URL:https://www.sanmartindevaldeiglesias.es/evento/sorteo-regala-navidad/
LOCATION:Plaza Real\, Plaza Real Nº1\, San Martín de Valdeiglesias\, Madrid\, 28680\, España
CATEGORIES:Desarrollo económico
END:VEVENT
BEGIN:VEVENT
DTSTART;TZID=Europe/Madrid:20190112T190000
DTEND;TZID=Europe/Madrid:20190112T200000
DTSTAMP:20260422T220415
CREATED:20190108T090150Z
LAST-MODIFIED:20190111T084214Z
UID:13414-1547319600-1547323200@www.sanmartindevaldeiglesias.es
SUMMARY:Concierto: Sonia Herrero
DESCRIPTION:
URL:https://www.sanmartindevaldeiglesias.es/evento/concierto-sonia-herrero/
LOCATION:Centro Cultural Santa Catalina
CATEGORIES:Conciertos
END:VEVENT
BEGIN:VEVENT
DTSTART;TZID=Europe/Madrid:20190126T200000
DTEND;TZID=Europe/Madrid:20190126T214000
DTSTAMP:20260422T220415
CREATED:20190111T095515Z
LAST-MODIFIED:20190121T125931Z
UID:13467-1548532800-1548538800@www.sanmartindevaldeiglesias.es
SUMMARY:Ópera: Madama Batterfly
DESCRIPTION:
URL:https://www.sanmartindevaldeiglesias.es/evento/opera-madama-battterfly/
LOCATION:Teatro municipal\, Calle Fuente 4\, San Martín de Valdeiglesias\, Madrid\, 28680\, España
CATEGORIES:Música,Teatro
END:VEVENT
BEGIN:VEVENT
DTSTART;TZID=Europe/Madrid:20190130T100000
DTEND;TZID=Europe/Madrid:20190130T113000
DTSTAMP:20260422T220415
CREATED:20190129T131112Z
LAST-MODIFIED:20190129T131112Z
UID:13593-1548842400-1548847800@www.sanmartindevaldeiglesias.es
SUMMARY:Día escolar de la paz
DESCRIPTION:
URL:https://www.sanmartindevaldeiglesias.es/evento/dia-escolar-de-la-paz/
LOCATION:Patronato municipal de deportes\, Calle salamanca 17\, San Martín de valdeiglesias\, Madrid\, 28680\, España
CATEGORIES:Deportes
END:VEVENT
BEGIN:VEVENT
DTSTART;TZID=Europe/Madrid:20190130T174000
DTEND;TZID=Europe/Madrid:20190130T201500
DTSTAMP:20260422T220415
CREATED:20190129T114854Z
LAST-MODIFIED:20190129T114854Z
UID:13581-1548870000-1548879300@www.sanmartindevaldeiglesias.es
SUMMARY:Donacion de sangre
DESCRIPTION:
URL:https://www.sanmartindevaldeiglesias.es/evento/donacion-de-sangre-4/
LOCATION:Plaza de la Corredera\, Plaza de la Corredera\, San Martín de Valdeiglesias\, Madrid\, 28680\, España
CATEGORIES:Salud
END:VEVENT
BEGIN:VEVENT
DTSTART;TZID=Europe/Madrid:20190131T200000
DTEND;TZID=Europe/Madrid:20190131T223000
DTSTAMP:20260422T220415
CREATED:20190129T083833Z
LAST-MODIFIED:20190129T083833Z
UID:13570-1548964800-1548973800@www.sanmartindevaldeiglesias.es
SUMMARY:Pleno ordinario
DESCRIPTION:
URL:https://www.sanmartindevaldeiglesias.es/evento/pleno-ordinario-16/
LOCATION:Madrid
END:VEVENT
BEGIN:VEVENT
DTSTART;TZID=Europe/Madrid:20190201T180000
DTEND;TZID=Europe/Madrid:20190201T193000
DTSTAMP:20260422T220415
CREATED:20190121T103626Z
LAST-MODIFIED:20190121T103626Z
UID:13539-1549044000-1549049400@www.sanmartindevaldeiglesias.es
SUMMARY:Presentación libro
DESCRIPTION:
URL:https://www.sanmartindevaldeiglesias.es/evento/presentacion-libro-2/
LOCATION:Biblioteca Municipal\, C/ Fuente\, 4\, San Martín de Valdeiglesias\, Madrid\, 28680\, España
CATEGORIES:Educación
END:VEVENT
BEGIN:VEVENT
DTSTART;TZID=Europe/Madrid:20190205T093000
DTEND;TZID=Europe/Madrid:20190205T130000
DTSTAMP:20260422T220415
CREATED:20190114T092021Z
LAST-MODIFIED:20190114T092021Z
UID:13492-1549359000-1549371600@www.sanmartindevaldeiglesias.es
SUMMARY:Renovacion DNI
DESCRIPTION:       Tramitacion DNI
URL:https://www.sanmartindevaldeiglesias.es/evento/renovacion-dni-2/
LOCATION:Ayuntamiento
END:VEVENT
BEGIN:VEVENT
DTSTART;TZID=Europe/Madrid:20190207T093000
DTEND;TZID=Europe/Madrid:20190207T130000
DTSTAMP:20260422T220415
CREATED:20190114T093029Z
LAST-MODIFIED:20190114T093029Z
UID:13494-1549531800-1549544400@www.sanmartindevaldeiglesias.es
SUMMARY:Recogida DNI
DESCRIPTION:  Recogida DNI
URL:https://www.sanmartindevaldeiglesias.es/evento/recogida-dni-5/
LOCATION:Ayuntamiento
END:VEVENT
BEGIN:VEVENT
DTSTART;TZID=Europe/Madrid:20190209T120000
DTEND;TZID=Europe/Madrid:20190209T140000
DTSTAMP:20260422T220415
CREATED:20190206T140537Z
LAST-MODIFIED:20190206T140537Z
UID:13647-1549713600-1549720800@www.sanmartindevaldeiglesias.es
SUMMARY:Aprender a escuchar
DESCRIPTION:   Charla-coloquio: el arte de vivir. \nSabado 9 de febrero a las 12:00 horas en el centro cultural Santa Catalina
URL:https://www.sanmartindevaldeiglesias.es/evento/aprender-a-escuchar/
LOCATION:Centro cultural Santa Catalina\, Calle de Santa Catalina\, 6\, San Martín de Valdeiglesias\, Madrid\, 28680\, España
CATEGORIES:Salud
END:VEVENT
BEGIN:VEVENT
DTSTART;TZID=Europe/Madrid:20190218T170000
DTEND;TZID=Europe/Madrid:20190218T183000
DTSTAMP:20260422T220415
CREATED:20190218T093123Z
LAST-MODIFIED:20190218T093123Z
UID:13733-1550509200-1550514600@www.sanmartindevaldeiglesias.es
SUMMARY:Taller: Alimentación saludable
DESCRIPTION:
URL:https://www.sanmartindevaldeiglesias.es/evento/taller-alimentacion-saludable-2/
LOCATION:Centro «Los Lavaderos»\, Plaza de Teodoro Bravo\, 15\, San Martín de Valdeiglesias\, Madrid\, 28680\, España
CATEGORIES:Bienestar social
END:VEVENT
BEGIN:VEVENT
DTSTART;TZID=Europe/Madrid:20190223T110000
DTEND;TZID=Europe/Madrid:20190223T170000
DTSTAMP:20260422T220415
CREATED:20190214T103016Z
LAST-MODIFIED:20190214T103016Z
UID:13705-1550919600-1550941200@www.sanmartindevaldeiglesias.es
SUMMARY:Club de ajedrez
DESCRIPTION:
URL:https://www.sanmartindevaldeiglesias.es/evento/club-de-ajedrez/
LOCATION:Centro «Los Lavaderos»\, Plaza de Teodoro Bravo\, 15\, San Martín de Valdeiglesias\, Madrid\, 28680\, España
CATEGORIES:Deportes,Educación,Participacion ciudadana
END:VEVENT
BEGIN:VEVENT
DTSTART;TZID=Europe/Madrid:20190223T200000
DTEND;TZID=Europe/Madrid:20190223T213000
DTSTAMP:20260422T220415
CREATED:20190111T095739Z
LAST-MODIFIED:20190111T100516Z
UID:13473-1550952000-1550957400@www.sanmartindevaldeiglesias.es
SUMMARY:Teatro: El último que apague la luz
DESCRIPTION:
URL:https://www.sanmartindevaldeiglesias.es/evento/teatro-el-ultimo-que-apague-la-luz/
LOCATION:Teatro municipal\, Calle Fuente 4\, San Martín de Valdeiglesias\, Madrid\, 28680\, España
CATEGORIES:Teatro
END:VEVENT
BEGIN:VEVENT
DTSTART;TZID=Europe/Madrid:20190301T204500
DTEND;TZID=Europe/Madrid:20190301T220000
DTSTAMP:20260422T220415
CREATED:20190214T122010Z
LAST-MODIFIED:20190214T122010Z
UID:13709-1551473100-1551477600@www.sanmartindevaldeiglesias.es
SUMMARY:Concierto: Tributo a Héroes del Silencio
DESCRIPTION:
URL:https://www.sanmartindevaldeiglesias.es/evento/concierto-tributo-a-heroes-del-silencio/
LOCATION:Teatro municipal\, Calle Fuente 4\, San Martín de Valdeiglesias\, Madrid\, 28680\, España
CATEGORIES:Conciertos
END:VEVENT
BEGIN:VEVENT
DTSTART;TZID=Europe/Madrid:20190312T093000
DTEND;TZID=Europe/Madrid:20190312T130000
DTSTAMP:20260422T220415
CREATED:20190214T131746Z
LAST-MODIFIED:20190214T135836Z
UID:13716-1552383000-1552395600@www.sanmartindevaldeiglesias.es
SUMMARY:DNI: toma de datos
DESCRIPTION:Un equipo del equipo de Atención Rural de la Policía se desplaza a San Martín para  renovar/expedir el DNI. \nRequiere cita previa que se tramita en las dependencias de la Policía Local o aquí https://plsmv.youcanbook.me/?fbclid=IwAR2JB_y3mWuUh5MKYi9Amtqnd116ZASvM4DMISdBa8Bt-9Oe01ndkcb_Zs0
URL:https://www.sanmartindevaldeiglesias.es/evento/dni-toma-de-datos/
LOCATION:Ayuntamiento
END:VEVENT
BEGIN:VEVENT
DTSTART;TZID=Europe/Madrid:20190316T200000
DTEND;TZID=Europe/Madrid:20190316T213000
DTSTAMP:20260422T220415
CREATED:20190111T100027Z
LAST-MODIFIED:20190111T100027Z
UID:13475-1552766400-1552771800@www.sanmartindevaldeiglesias.es
SUMMARY:Teatro: Gag Movie
DESCRIPTION:
URL:https://www.sanmartindevaldeiglesias.es/evento/teatro-gag-movie/
LOCATION:Teatro municipal\, Calle Fuente 4\, San Martín de Valdeiglesias\, Madrid\, 28680\, España
CATEGORIES:Teatro
END:VEVENT
BEGIN:VEVENT
DTSTART;VALUE=DATE:20190322
DTEND;VALUE=DATE:20190411
DTSTAMP:20260422T220415
CREATED:20190322T123503Z
LAST-MODIFIED:20190322T132338Z
UID:14069-1553212800-1554940799@www.sanmartindevaldeiglesias.es
SUMMARY:Expo: "Los nuestros. Un puente de palabras"
DESCRIPTION:
URL:https://www.sanmartindevaldeiglesias.es/evento/expo-los-nuestros-un-puente-de-palabras/
LOCATION:Madrid
END:VEVENT
BEGIN:VEVENT
DTSTART;TZID=Europe/Madrid:20190322T204500
DTEND;TZID=Europe/Madrid:20190322T220000
DTSTAMP:20260422T220415
CREATED:20190214T122242Z
LAST-MODIFIED:20190321T113541Z
UID:13712-1553287500-1553292000@www.sanmartindevaldeiglesias.es
SUMMARY:Concierto: Tributo a Queen
DESCRIPTION:
URL:https://www.sanmartindevaldeiglesias.es/evento/concierto-tributo-a-queen/
LOCATION:Teatro municipal\, Calle Fuente 4\, San Martín de Valdeiglesias\, Madrid\, 28680\, España
CATEGORIES:Conciertos
END:VEVENT
BEGIN:VEVENT
DTSTART;TZID=Europe/Madrid:20190326T164500
DTEND;TZID=Europe/Madrid:20190326T180000
DTSTAMP:20260422T220415
CREATED:20190325T121947Z
LAST-MODIFIED:20190325T121947Z
UID:14079-1553618700-1553623200@www.sanmartindevaldeiglesias.es
SUMMARY:Encuentro cultural CEPA
DESCRIPTION:
URL:https://www.sanmartindevaldeiglesias.es/evento/encuentro-cultural-cepa-2/
LOCATION:Teatro municipal\, Calle Fuente 4\, San Martín de Valdeiglesias\, Madrid\, 28680\, España
CATEGORIES:Educación
END:VEVENT
BEGIN:VEVENT
DTSTART;TZID=Europe/Madrid:20190328T174000
DTEND;TZID=Europe/Madrid:20190328T201500
DTSTAMP:20260422T220415
CREATED:20190325T123048Z
LAST-MODIFIED:20190325T123048Z
UID:14083-1553794800-1553804100@www.sanmartindevaldeiglesias.es
SUMMARY:Donación sangre
DESCRIPTION:
URL:https://www.sanmartindevaldeiglesias.es/evento/donacion-sangre-3/
LOCATION:Plaza de la Corredera\, Plaza de la Corredera\, San Martín de Valdeiglesias\, Madrid\, 28680\, España
CATEGORIES:Salud
END:VEVENT
BEGIN:VEVENT
DTSTART;TZID=Europe/Madrid:20190328T200000
DTEND;TZID=Europe/Madrid:20190328T220000
DTSTAMP:20260422T220415
CREATED:20190326T112756Z
LAST-MODIFIED:20190326T112756Z
UID:14087-1553803200-1553810400@www.sanmartindevaldeiglesias.es
SUMMARY:Pleno ordinario
DESCRIPTION:
URL:https://www.sanmartindevaldeiglesias.es/evento/pleno-ordinario-17/
LOCATION:Ayuntamiento
END:VEVENT
BEGIN:VEVENT
DTSTART;TZID=Europe/Madrid:20190401T080000
DTEND;TZID=Europe/Madrid:20190401T090000
DTSTAMP:20260422T220415
CREATED:20190329T122818Z
LAST-MODIFIED:20190329T122818Z
UID:14097-1554105600-1554109200@www.sanmartindevaldeiglesias.es
SUMMARY:Pleno extraordinario
DESCRIPTION:
URL:https://www.sanmartindevaldeiglesias.es/evento/pleno-extraordinario-9/
LOCATION:Ayuntamiento
END:VEVENT
BEGIN:VEVENT
DTSTART;VALUE=DATE:20190405
DTEND;VALUE=DATE:20190407
DTSTAMP:20260422T220415
CREATED:20190329T202225Z
LAST-MODIFIED:20190329T202225Z
UID:14106-1554422400-1554595199@www.sanmartindevaldeiglesias.es
SUMMARY:Jornadas educativas: Altas capacidades
DESCRIPTION:
URL:https://www.sanmartindevaldeiglesias.es/evento/jornadas-educativas-altas-capacidades/
LOCATION:Ayuntamiento
END:VEVENT
BEGIN:VEVENT
DTSTART;TZID=Europe/Madrid:20190406T200000
DTEND;TZID=Europe/Madrid:20190406T213000
DTSTAMP:20260422T220415
CREATED:20190111T100307Z
LAST-MODIFIED:20190111T100307Z
UID:13477-1554580800-1554586200@www.sanmartindevaldeiglesias.es
SUMMARY:Teatro: Háblame
DESCRIPTION:
URL:https://www.sanmartindevaldeiglesias.es/evento/teatro-hablame/
LOCATION:Teatro municipal\, Calle Fuente 4\, San Martín de Valdeiglesias\, Madrid\, 28680\, España
CATEGORIES:Teatro
END:VEVENT
END:VCALENDAR