BEGIN:VCALENDAR
VERSION:2.0
PRODID:-//San Martín de Valdeiglesias - ECPv6.15.20//NONSGML v1.0//EN
CALSCALE:GREGORIAN
METHOD:PUBLISH
X-ORIGINAL-URL:https://www.sanmartindevaldeiglesias.es
X-WR-CALDESC:Eventos para San Martín de Valdeiglesias
REFRESH-INTERVAL;VALUE=DURATION:PT1H
X-Robots-Tag:noindex
X-PUBLISHED-TTL:PT1H
BEGIN:VTIMEZONE
TZID:Europe/Madrid
BEGIN:DAYLIGHT
TZOFFSETFROM:+0100
TZOFFSETTO:+0200
TZNAME:CEST
DTSTART:20180325T010000
END:DAYLIGHT
BEGIN:STANDARD
TZOFFSETFROM:+0200
TZOFFSETTO:+0100
TZNAME:CET
DTSTART:20181028T010000
END:STANDARD
BEGIN:DAYLIGHT
TZOFFSETFROM:+0100
TZOFFSETTO:+0200
TZNAME:CEST
DTSTART:20190331T010000
END:DAYLIGHT
BEGIN:STANDARD
TZOFFSETFROM:+0200
TZOFFSETTO:+0100
TZNAME:CET
DTSTART:20191027T010000
END:STANDARD
BEGIN:DAYLIGHT
TZOFFSETFROM:+0100
TZOFFSETTO:+0200
TZNAME:CEST
DTSTART:20200329T010000
END:DAYLIGHT
BEGIN:STANDARD
TZOFFSETFROM:+0200
TZOFFSETTO:+0100
TZNAME:CET
DTSTART:20201025T010000
END:STANDARD
END:VTIMEZONE
BEGIN:VEVENT
DTSTART;VALUE=DATE:20190322
DTEND;VALUE=DATE:20190411
DTSTAMP:20260423T025836
CREATED:20190322T123503Z
LAST-MODIFIED:20190322T132338Z
UID:14069-1553212800-1554940799@www.sanmartindevaldeiglesias.es
SUMMARY:Expo: "Los nuestros. Un puente de palabras"
DESCRIPTION:
URL:https://www.sanmartindevaldeiglesias.es/evento/expo-los-nuestros-un-puente-de-palabras/
LOCATION:Madrid
END:VEVENT
BEGIN:VEVENT
DTSTART;TZID=Europe/Madrid:20190401T080000
DTEND;TZID=Europe/Madrid:20190401T090000
DTSTAMP:20260423T025836
CREATED:20190329T122818Z
LAST-MODIFIED:20190329T122818Z
UID:14097-1554105600-1554109200@www.sanmartindevaldeiglesias.es
SUMMARY:Pleno extraordinario
DESCRIPTION:
URL:https://www.sanmartindevaldeiglesias.es/evento/pleno-extraordinario-9/
LOCATION:Ayuntamiento
END:VEVENT
BEGIN:VEVENT
DTSTART;VALUE=DATE:20190405
DTEND;VALUE=DATE:20190407
DTSTAMP:20260423T025836
CREATED:20190329T202225Z
LAST-MODIFIED:20190329T202225Z
UID:14106-1554422400-1554595199@www.sanmartindevaldeiglesias.es
SUMMARY:Jornadas educativas: Altas capacidades
DESCRIPTION:
URL:https://www.sanmartindevaldeiglesias.es/evento/jornadas-educativas-altas-capacidades/
LOCATION:Ayuntamiento
END:VEVENT
BEGIN:VEVENT
DTSTART;TZID=Europe/Madrid:20190406T200000
DTEND;TZID=Europe/Madrid:20190406T213000
DTSTAMP:20260423T025836
CREATED:20190111T100307Z
LAST-MODIFIED:20190111T100307Z
UID:13477-1554580800-1554586200@www.sanmartindevaldeiglesias.es
SUMMARY:Teatro: Háblame
DESCRIPTION:
URL:https://www.sanmartindevaldeiglesias.es/evento/teatro-hablame/
LOCATION:Teatro municipal\, Calle Fuente 4\, San Martín de Valdeiglesias\, Madrid\, 28680\, España
CATEGORIES:Teatro
END:VEVENT
BEGIN:VEVENT
DTSTART;TZID=Europe/Madrid:20190408T170000
DTEND;TZID=Europe/Madrid:20190408T183000
DTSTAMP:20260423T025836
CREATED:20190404T095318Z
LAST-MODIFIED:20190404T095318Z
UID:14141-1554742800-1554748200@www.sanmartindevaldeiglesias.es
SUMMARY:Taller: Salud emocional
DESCRIPTION:
URL:https://www.sanmartindevaldeiglesias.es/evento/taller-salud-emocional/
LOCATION:Centro «Los Lavaderos»\, Plaza de Teodoro Bravo\, 15\, San Martín de Valdeiglesias\, Madrid\, 28680\, España
CATEGORIES:Salud
END:VEVENT
BEGIN:VEVENT
DTSTART;TZID=Europe/Madrid:20190412T204500
DTEND;TZID=Europe/Madrid:20190412T223000
DTSTAMP:20260423T025836
CREATED:20190214T122800Z
LAST-MODIFIED:20190214T122800Z
UID:13714-1555101900-1555108200@www.sanmartindevaldeiglesias.es
SUMMARY:Concierto: tributo a Sabina
DESCRIPTION:
URL:https://www.sanmartindevaldeiglesias.es/evento/concierto-tributo-a-sabina/
LOCATION:Teatro municipal\, Calle Fuente 4\, San Martín de Valdeiglesias\, Madrid\, 28680\, España
CATEGORIES:Conciertos
END:VEVENT
BEGIN:VEVENT
DTSTART;TZID=Europe/Madrid:20190414T200000
DTEND;TZID=Europe/Madrid:20190414T210000
DTSTAMP:20260423T025836
CREATED:20190327T112652Z
LAST-MODIFIED:20190327T112652Z
UID:14091-1555272000-1555275600@www.sanmartindevaldeiglesias.es
SUMMARY:Concierto: Marchas de procesión
DESCRIPTION:
URL:https://www.sanmartindevaldeiglesias.es/evento/concierto-marchas-de-procesion-2/
LOCATION:Iglesia Parroquial\, Plaza Real\, s/n\, San Martín de Valdeiglesias\, Madrid\, 28680\, España
CATEGORIES:Conciertos
END:VEVENT
BEGIN:VEVENT
DTSTART;TZID=Europe/Madrid:20190418T163000
DTEND;TZID=Europe/Madrid:20190418T200000
DTSTAMP:20260423T025836
CREATED:20190410T084733Z
LAST-MODIFIED:20190410T084733Z
UID:14222-1555605000-1555617600@www.sanmartindevaldeiglesias.es
SUMMARY:Taller de manualidades
DESCRIPTION:  \nDe 16:30 a 20 horas\, taller gratuito de manualidades en el centro joven «los Lavaderos» para jovenes entre los 11 y los 16 años.
URL:https://www.sanmartindevaldeiglesias.es/evento/taller-de-manualidades/
LOCATION:Centro «Los Lavaderos»\, Plaza de Teodoro Bravo\, 15\, San Martín de Valdeiglesias\, Madrid\, 28680\, España
END:VEVENT
BEGIN:VEVENT
DTSTART;TZID=Europe/Madrid:20190419T160000
DTEND;TZID=Europe/Madrid:20190419T163000
DTSTAMP:20260423T025836
CREATED:20190410T085254Z
LAST-MODIFIED:20190410T085254Z
UID:14225-1555689600-1555691400@www.sanmartindevaldeiglesias.es
SUMMARY:Campeonato FIFA´17
DESCRIPTION:Campeonato FIFA`17 a las 17 hora en el Centro Joven «Los lavaderos». \nPremios para los ganadores. Incripciones de 16 a 16:30 el mismo dia.
URL:https://www.sanmartindevaldeiglesias.es/evento/campeonato-fifa17/
LOCATION:Centro «Los Lavaderos»\, Plaza de Teodoro Bravo\, 15\, San Martín de Valdeiglesias\, Madrid\, 28680\, España
END:VEVENT
BEGIN:VEVENT
DTSTART;TZID=Europe/Madrid:20190420T100000
DTEND;TZID=Europe/Madrid:20190420T170000
DTSTAMP:20260423T025836
CREATED:20190401T075404Z
LAST-MODIFIED:20191011T101649Z
UID:14109-1555754400-1555779600@www.sanmartindevaldeiglesias.es
SUMMARY:Excursión: SnowZone
DESCRIPTION:
URL:https://www.sanmartindevaldeiglesias.es/evento/excursion-sowzone/
LOCATION:Centro «Los Lavaderos»\, Plaza de Teodoro Bravo\, 15\, San Martín de Valdeiglesias\, Madrid\, 28680\, España
CATEGORIES:Excursión
END:VEVENT
BEGIN:VEVENT
DTSTART;TZID=Europe/Madrid:20190420T110000
DTEND;TZID=Europe/Madrid:20190420T140000
DTSTAMP:20260423T025836
CREATED:20190410T085830Z
LAST-MODIFIED:20190410T085830Z
UID:14228-1555758000-1555768800@www.sanmartindevaldeiglesias.es
SUMMARY:Marcha Senderista
DESCRIPTION:Edades : de 11 a 16 años \nInscripciones: desde el jueves 11 de abril en el Centro Joven «Los Lavaderos»
URL:https://www.sanmartindevaldeiglesias.es/evento/marcha-senderista/
LOCATION:Centro «Los Lavaderos»\, Plaza de Teodoro Bravo\, 15\, San Martín de Valdeiglesias\, Madrid\, 28680\, España
END:VEVENT
BEGIN:VEVENT
DTSTART;TZID=Europe/Madrid:20190421T170000
DTEND;TZID=Europe/Madrid:20190421T170000
DTSTAMP:20260423T025836
CREATED:20190410T090210Z
LAST-MODIFIED:20190410T090210Z
UID:14230-1555866000-1555866000@www.sanmartindevaldeiglesias.es
SUMMARY:Proyeccion de cortos
DESCRIPTION:Proyeccion de los mejores cortos Premio Fugaz. \n 
URL:https://www.sanmartindevaldeiglesias.es/evento/proyeccion-de-cortos/
LOCATION:Centro «Los Lavaderos»\, Plaza de Teodoro Bravo\, 15\, San Martín de Valdeiglesias\, Madrid\, 28680\, España
END:VEVENT
BEGIN:VEVENT
DTSTART;VALUE=DATE:20190422
DTEND;VALUE=DATE:20190423
DTSTAMP:20260423T025836
CREATED:20190410T082205Z
LAST-MODIFIED:20190411T073138Z
UID:14215-1555891200-1555977599@www.sanmartindevaldeiglesias.es
SUMMARY:Lunes de pascua. Romería
DESCRIPTION:9:30 Salida de la Virgen de la Nueva de la iglesia hasta su ermita\, en los aledaños del pantano de San Juan.
URL:https://www.sanmartindevaldeiglesias.es/evento/lunes-de-pascual-romeria/
LOCATION:Madrid
END:VEVENT
BEGIN:VEVENT
DTSTART;VALUE=DATE:20190423
DTEND;VALUE=DATE:20190427
DTSTAMP:20260423T025836
CREATED:20190416T105754Z
LAST-MODIFIED:20190416T105754Z
UID:14269-1555977600-1556323199@www.sanmartindevaldeiglesias.es
SUMMARY:Semana del libro
DESCRIPTION:
URL:https://www.sanmartindevaldeiglesias.es/evento/semana-del-libro/
LOCATION:Biblioteca Municipal\, C/ Fuente\, 4\, San Martín de Valdeiglesias\, Madrid\, 28680\, España
CATEGORIES:Educación
END:VEVENT
BEGIN:VEVENT
DTSTART;TZID=Europe/Madrid:20190424T180000
DTEND;TZID=Europe/Madrid:20190424T193000
DTSTAMP:20260423T025836
CREATED:20190410T075820Z
LAST-MODIFIED:20190410T075820Z
UID:14211-1556128800-1556134200@www.sanmartindevaldeiglesias.es
SUMMARY:Taller: Gestión del tiempo y bienestar
DESCRIPTION:
URL:https://www.sanmartindevaldeiglesias.es/evento/taller-gestion-del-tiempo-y-bienestar/
LOCATION:Ayuntamiento
CATEGORIES:CURSOS,Salud
END:VEVENT
BEGIN:VEVENT
DTSTART;TZID=Europe/Madrid:20190427T090000
DTEND;TZID=Europe/Madrid:20190427T100000
DTSTAMP:20260423T025836
CREATED:20190426T073110Z
LAST-MODIFIED:20190426T073110Z
UID:14290-1556355600-1556359200@www.sanmartindevaldeiglesias.es
SUMMARY:Pleno extraordinario
DESCRIPTION:
URL:https://www.sanmartindevaldeiglesias.es/evento/pleno-extraordinario-10/
LOCATION:Ayuntamiento
END:VEVENT
BEGIN:VEVENT
DTSTART;TZID=Europe/Madrid:20190429T180000
DTEND;TZID=Europe/Madrid:20190429T190000
DTSTAMP:20260423T025836
CREATED:20190426T075329Z
LAST-MODIFIED:20190426T075329Z
UID:14295-1556560800-1556564400@www.sanmartindevaldeiglesias.es
SUMMARY:Cuentacuentos
DESCRIPTION:
URL:https://www.sanmartindevaldeiglesias.es/evento/cuentacuentos-11/
LOCATION:Biblioteca Municipal\, C/ Fuente\, 4\, San Martín de Valdeiglesias\, Madrid\, 28680\, España
CATEGORIES:Educación,Participacion ciudadana
END:VEVENT
BEGIN:VEVENT
DTSTART;TZID=Europe/Madrid:20190503T074500
DTEND;TZID=Europe/Madrid:20190503T150000
DTSTAMP:20260423T025836
CREATED:20190426T100832Z
LAST-MODIFIED:20190426T100832Z
UID:14302-1556869500-1556895600@www.sanmartindevaldeiglesias.es
SUMMARY:Talleres educativos
DESCRIPTION:
URL:https://www.sanmartindevaldeiglesias.es/evento/talleres-educativos/
LOCATION:Casa de Niños\, Avda. del Ferrocarril s/n\, San Martín de Valdeiglesias\, Madrid\, 28680\, España
CATEGORIES:Educación
END:VEVENT
BEGIN:VEVENT
DTSTART;TZID=Europe/Madrid:20190510T173000
DTEND;TZID=Europe/Madrid:20190510T190000
DTSTAMP:20260423T025836
CREATED:20190426T085541Z
LAST-MODIFIED:20190426T085541Z
UID:14298-1557509400-1557514800@www.sanmartindevaldeiglesias.es
SUMMARY:Puertas abiertas: Escuela idiomas
DESCRIPTION:
URL:https://www.sanmartindevaldeiglesias.es/evento/puertas-abiertas-escuela-idiomas/
LOCATION:Centro de Formación y Desarrollo\, Ctra. de Toledo\, s/n\, San Martín de Valdeiglesias\, Madrid\, 28680\, España
CATEGORIES:Educación
END:VEVENT
BEGIN:VEVENT
DTSTART;TZID=Europe/Madrid:20190510T193000
DTEND;TZID=Europe/Madrid:20190510T210000
DTSTAMP:20260423T025836
CREATED:20190415T100639Z
LAST-MODIFIED:20190415T100639Z
UID:14263-1557516600-1557522000@www.sanmartindevaldeiglesias.es
SUMMARY:Presentación libro
DESCRIPTION:
URL:https://www.sanmartindevaldeiglesias.es/evento/presentacion-libro-3/
LOCATION:Ayuntamiento
CATEGORIES:Fiestas,Participacion ciudadana
END:VEVENT
BEGIN:VEVENT
DTSTART;VALUE=DATE:20190511
DTEND;VALUE=DATE:20190512
DTSTAMP:20260423T025836
CREATED:20190404T094124Z
LAST-MODIFIED:20190404T094124Z
UID:14138-1557532800-1557619199@www.sanmartindevaldeiglesias.es
SUMMARY:Vuelta Ciclista C. Madrid
DESCRIPTION:
URL:https://www.sanmartindevaldeiglesias.es/evento/vuelta-ciclista-c-madrid/
LOCATION:Madrid
CATEGORIES:Deportes,Desarrollo económico
END:VEVENT
BEGIN:VEVENT
DTSTART;TZID=Europe/Madrid:20190516T200000
DTEND;TZID=Europe/Madrid:20190516T210000
DTSTAMP:20260423T025836
CREATED:20190514T124109Z
LAST-MODIFIED:20190514T124109Z
UID:14419-1558036800-1558040400@www.sanmartindevaldeiglesias.es
SUMMARY:Audición: Saxofón y flautas
DESCRIPTION:
URL:https://www.sanmartindevaldeiglesias.es/evento/audicion-saxofon-y-flautas/
LOCATION:Escuela Municipal de Música y Danza «Maestro Joaquín Rodrigo»\, General Martinez Benito 4\, San Martín de Valdeiglesias\, Madrid\, 28680\, España
CATEGORIES:Conciertos
END:VEVENT
BEGIN:VEVENT
DTSTART;TZID=Europe/Madrid:20190517T093000
DTEND;TZID=Europe/Madrid:20190517T113000
DTSTAMP:20260423T025836
CREATED:20190429T121916Z
LAST-MODIFIED:20190429T121916Z
UID:14337-1558085400-1558092600@www.sanmartindevaldeiglesias.es
SUMMARY:Escuela de padres
DESCRIPTION:
URL:https://www.sanmartindevaldeiglesias.es/evento/escuela-de-padres-4/
LOCATION:Casa de Niños\, Avda. del Ferrocarril s/n\, San Martín de Valdeiglesias\, Madrid\, 28680\, España
CATEGORIES:Educación
END:VEVENT
BEGIN:VEVENT
DTSTART;TZID=Europe/Madrid:20190517T180000
DTEND;TZID=Europe/Madrid:20190517T190000
DTSTAMP:20260423T025836
CREATED:20190515T073616Z
LAST-MODIFIED:20190515T073616Z
UID:14424-1558116000-1558119600@www.sanmartindevaldeiglesias.es
SUMMARY:Cuentacuentos
DESCRIPTION:
URL:https://www.sanmartindevaldeiglesias.es/evento/cuentacuentos-12/
LOCATION:Biblioteca Municipal\, C/ Fuente\, 4\, San Martín de Valdeiglesias\, Madrid\, 28680\, España
CATEGORIES:Educación
END:VEVENT
BEGIN:VEVENT
DTSTART;VALUE=DATE:20190520
DTEND;VALUE=DATE:20190621
DTSTAMP:20260423T025836
CREATED:20190514T122804Z
LAST-MODIFIED:20190514T122804Z
UID:14413-1558310400-1561075199@www.sanmartindevaldeiglesias.es
SUMMARY:Campaña vacunación antirrábica
DESCRIPTION:
URL:https://www.sanmartindevaldeiglesias.es/evento/campana-vacunacion-antirrabica/
LOCATION:Madrid
CATEGORIES:Medio Ambiente,Salud
END:VEVENT
BEGIN:VEVENT
DTSTART;TZID=Europe/Madrid:20190520T200000
DTEND;TZID=Europe/Madrid:20190520T213000
DTSTAMP:20260423T025836
CREATED:20190520T080943Z
LAST-MODIFIED:20190520T080943Z
UID:14453-1558382400-1558387800@www.sanmartindevaldeiglesias.es
SUMMARY:Audición de piano
DESCRIPTION:
URL:https://www.sanmartindevaldeiglesias.es/evento/audicion-de-piano-3/
LOCATION:Escuela Municipal de Música y Danza «Maestro Joaquín Rodrigo»\, General Martinez Benito 4\, San Martín de Valdeiglesias\, Madrid\, 28680\, España
CATEGORIES:Conciertos
END:VEVENT
BEGIN:VEVENT
DTSTART;TZID=Europe/Madrid:20190522T200000
DTEND;TZID=Europe/Madrid:20190522T213000
DTSTAMP:20260423T025836
CREATED:20190521T105007Z
LAST-MODIFIED:20190521T105007Z
UID:14475-1558555200-1558560600@www.sanmartindevaldeiglesias.es
SUMMARY:Audición de percusión
DESCRIPTION:
URL:https://www.sanmartindevaldeiglesias.es/evento/audicion-de-percusion/
LOCATION:Escuela Municipal de Música y Danza «Maestro Joaquín Rodrigo»\, General Martinez Benito 4\, San Martín de Valdeiglesias\, Madrid\, 28680\, España
CATEGORIES:Conciertos
END:VEVENT
BEGIN:VEVENT
DTSTART;TZID=Europe/Madrid:20190523T200000
DTEND;TZID=Europe/Madrid:20190523T210000
DTSTAMP:20260423T025836
CREATED:20190521T105206Z
LAST-MODIFIED:20190521T105206Z
UID:14478-1558641600-1558645200@www.sanmartindevaldeiglesias.es
SUMMARY:Audición de guitarra
DESCRIPTION:
URL:https://www.sanmartindevaldeiglesias.es/evento/audicion-de-guitarra-2/
LOCATION:Escuela Municipal de Música y Danza «Maestro Joaquín Rodrigo»\, General Martinez Benito 4\, San Martín de Valdeiglesias\, Madrid\, 28680\, España
CATEGORIES:Conciertos
END:VEVENT
BEGIN:VEVENT
DTSTART;TZID=Europe/Madrid:20190525T180000
DTEND;TZID=Europe/Madrid:20190525T190000
DTSTAMP:20260423T025836
CREATED:20190521T105409Z
LAST-MODIFIED:20190521T105409Z
UID:14480-1558807200-1558810800@www.sanmartindevaldeiglesias.es
SUMMARY:Concierto Música actual
DESCRIPTION:
URL:https://www.sanmartindevaldeiglesias.es/evento/concierto-musica-actual-2/
LOCATION:Escuela Municipal de Música y Danza «Maestro Joaquín Rodrigo»\, General Martinez Benito 4\, San Martín de Valdeiglesias\, Madrid\, 28680\, España
CATEGORIES:Conciertos
END:VEVENT
BEGIN:VEVENT
DTSTART;TZID=Europe/Madrid:20190527T200000
DTEND;TZID=Europe/Madrid:20190527T210000
DTSTAMP:20260423T025836
CREATED:20190521T105542Z
LAST-MODIFIED:20190521T105620Z
UID:14482-1558987200-1558990800@www.sanmartindevaldeiglesias.es
SUMMARY:Audición trompeta/v. metal
DESCRIPTION:
URL:https://www.sanmartindevaldeiglesias.es/evento/audicion-de-trompeta/
LOCATION:Escuela Municipal de Música y Danza «Maestro Joaquín Rodrigo»\, General Martinez Benito 4\, San Martín de Valdeiglesias\, Madrid\, 28680\, España
CATEGORIES:Conciertos
END:VEVENT
END:VCALENDAR