BEGIN:VCALENDAR
VERSION:2.0
PRODID:-//San Martín de Valdeiglesias - ECPv6.15.20//NONSGML v1.0//EN
CALSCALE:GREGORIAN
METHOD:PUBLISH
X-ORIGINAL-URL:https://www.sanmartindevaldeiglesias.es
X-WR-CALDESC:Eventos para San Martín de Valdeiglesias
REFRESH-INTERVAL;VALUE=DURATION:PT1H
X-Robots-Tag:noindex
X-PUBLISHED-TTL:PT1H
BEGIN:VTIMEZONE
TZID:Europe/Madrid
BEGIN:DAYLIGHT
TZOFFSETFROM:+0100
TZOFFSETTO:+0200
TZNAME:CEST
DTSTART:20180325T010000
END:DAYLIGHT
BEGIN:STANDARD
TZOFFSETFROM:+0200
TZOFFSETTO:+0100
TZNAME:CET
DTSTART:20181028T010000
END:STANDARD
BEGIN:DAYLIGHT
TZOFFSETFROM:+0100
TZOFFSETTO:+0200
TZNAME:CEST
DTSTART:20190331T010000
END:DAYLIGHT
BEGIN:STANDARD
TZOFFSETFROM:+0200
TZOFFSETTO:+0100
TZNAME:CET
DTSTART:20191027T010000
END:STANDARD
BEGIN:DAYLIGHT
TZOFFSETFROM:+0100
TZOFFSETTO:+0200
TZNAME:CEST
DTSTART:20200329T010000
END:DAYLIGHT
BEGIN:STANDARD
TZOFFSETFROM:+0200
TZOFFSETTO:+0100
TZNAME:CET
DTSTART:20201025T010000
END:STANDARD
END:VTIMEZONE
BEGIN:VEVENT
DTSTART;TZID=Europe/Madrid:20190503T074500
DTEND;TZID=Europe/Madrid:20190503T150000
DTSTAMP:20260423T042044
CREATED:20190426T100832Z
LAST-MODIFIED:20190426T100832Z
UID:14302-1556869500-1556895600@www.sanmartindevaldeiglesias.es
SUMMARY:Talleres educativos
DESCRIPTION:
URL:https://www.sanmartindevaldeiglesias.es/evento/talleres-educativos/
LOCATION:Casa de Niños\, Avda. del Ferrocarril s/n\, San Martín de Valdeiglesias\, Madrid\, 28680\, España
CATEGORIES:Educación
END:VEVENT
BEGIN:VEVENT
DTSTART;TZID=Europe/Madrid:20190510T173000
DTEND;TZID=Europe/Madrid:20190510T190000
DTSTAMP:20260423T042044
CREATED:20190426T085541Z
LAST-MODIFIED:20190426T085541Z
UID:14298-1557509400-1557514800@www.sanmartindevaldeiglesias.es
SUMMARY:Puertas abiertas: Escuela idiomas
DESCRIPTION:
URL:https://www.sanmartindevaldeiglesias.es/evento/puertas-abiertas-escuela-idiomas/
LOCATION:Centro de Formación y Desarrollo\, Ctra. de Toledo\, s/n\, San Martín de Valdeiglesias\, Madrid\, 28680\, España
CATEGORIES:Educación
END:VEVENT
BEGIN:VEVENT
DTSTART;TZID=Europe/Madrid:20190510T193000
DTEND;TZID=Europe/Madrid:20190510T210000
DTSTAMP:20260423T042044
CREATED:20190415T100639Z
LAST-MODIFIED:20190415T100639Z
UID:14263-1557516600-1557522000@www.sanmartindevaldeiglesias.es
SUMMARY:Presentación libro
DESCRIPTION:
URL:https://www.sanmartindevaldeiglesias.es/evento/presentacion-libro-3/
LOCATION:Ayuntamiento
CATEGORIES:Fiestas,Participacion ciudadana
END:VEVENT
BEGIN:VEVENT
DTSTART;VALUE=DATE:20190511
DTEND;VALUE=DATE:20190512
DTSTAMP:20260423T042044
CREATED:20190404T094124Z
LAST-MODIFIED:20190404T094124Z
UID:14138-1557532800-1557619199@www.sanmartindevaldeiglesias.es
SUMMARY:Vuelta Ciclista C. Madrid
DESCRIPTION:
URL:https://www.sanmartindevaldeiglesias.es/evento/vuelta-ciclista-c-madrid/
LOCATION:Madrid
CATEGORIES:Deportes,Desarrollo económico
END:VEVENT
BEGIN:VEVENT
DTSTART;TZID=Europe/Madrid:20190516T200000
DTEND;TZID=Europe/Madrid:20190516T210000
DTSTAMP:20260423T042044
CREATED:20190514T124109Z
LAST-MODIFIED:20190514T124109Z
UID:14419-1558036800-1558040400@www.sanmartindevaldeiglesias.es
SUMMARY:Audición: Saxofón y flautas
DESCRIPTION:
URL:https://www.sanmartindevaldeiglesias.es/evento/audicion-saxofon-y-flautas/
LOCATION:Escuela Municipal de Música y Danza «Maestro Joaquín Rodrigo»\, General Martinez Benito 4\, San Martín de Valdeiglesias\, Madrid\, 28680\, España
CATEGORIES:Conciertos
END:VEVENT
BEGIN:VEVENT
DTSTART;TZID=Europe/Madrid:20190517T093000
DTEND;TZID=Europe/Madrid:20190517T113000
DTSTAMP:20260423T042044
CREATED:20190429T121916Z
LAST-MODIFIED:20190429T121916Z
UID:14337-1558085400-1558092600@www.sanmartindevaldeiglesias.es
SUMMARY:Escuela de padres
DESCRIPTION:
URL:https://www.sanmartindevaldeiglesias.es/evento/escuela-de-padres-4/
LOCATION:Casa de Niños\, Avda. del Ferrocarril s/n\, San Martín de Valdeiglesias\, Madrid\, 28680\, España
CATEGORIES:Educación
END:VEVENT
BEGIN:VEVENT
DTSTART;TZID=Europe/Madrid:20190517T180000
DTEND;TZID=Europe/Madrid:20190517T190000
DTSTAMP:20260423T042044
CREATED:20190515T073616Z
LAST-MODIFIED:20190515T073616Z
UID:14424-1558116000-1558119600@www.sanmartindevaldeiglesias.es
SUMMARY:Cuentacuentos
DESCRIPTION:
URL:https://www.sanmartindevaldeiglesias.es/evento/cuentacuentos-12/
LOCATION:Biblioteca Municipal\, C/ Fuente\, 4\, San Martín de Valdeiglesias\, Madrid\, 28680\, España
CATEGORIES:Educación
END:VEVENT
BEGIN:VEVENT
DTSTART;VALUE=DATE:20190520
DTEND;VALUE=DATE:20190621
DTSTAMP:20260423T042044
CREATED:20190514T122804Z
LAST-MODIFIED:20190514T122804Z
UID:14413-1558310400-1561075199@www.sanmartindevaldeiglesias.es
SUMMARY:Campaña vacunación antirrábica
DESCRIPTION:
URL:https://www.sanmartindevaldeiglesias.es/evento/campana-vacunacion-antirrabica/
LOCATION:Madrid
CATEGORIES:Medio Ambiente,Salud
END:VEVENT
BEGIN:VEVENT
DTSTART;TZID=Europe/Madrid:20190520T200000
DTEND;TZID=Europe/Madrid:20190520T213000
DTSTAMP:20260423T042044
CREATED:20190520T080943Z
LAST-MODIFIED:20190520T080943Z
UID:14453-1558382400-1558387800@www.sanmartindevaldeiglesias.es
SUMMARY:Audición de piano
DESCRIPTION:
URL:https://www.sanmartindevaldeiglesias.es/evento/audicion-de-piano-3/
LOCATION:Escuela Municipal de Música y Danza «Maestro Joaquín Rodrigo»\, General Martinez Benito 4\, San Martín de Valdeiglesias\, Madrid\, 28680\, España
CATEGORIES:Conciertos
END:VEVENT
BEGIN:VEVENT
DTSTART;TZID=Europe/Madrid:20190522T200000
DTEND;TZID=Europe/Madrid:20190522T213000
DTSTAMP:20260423T042044
CREATED:20190521T105007Z
LAST-MODIFIED:20190521T105007Z
UID:14475-1558555200-1558560600@www.sanmartindevaldeiglesias.es
SUMMARY:Audición de percusión
DESCRIPTION:
URL:https://www.sanmartindevaldeiglesias.es/evento/audicion-de-percusion/
LOCATION:Escuela Municipal de Música y Danza «Maestro Joaquín Rodrigo»\, General Martinez Benito 4\, San Martín de Valdeiglesias\, Madrid\, 28680\, España
CATEGORIES:Conciertos
END:VEVENT
BEGIN:VEVENT
DTSTART;TZID=Europe/Madrid:20190523T200000
DTEND;TZID=Europe/Madrid:20190523T210000
DTSTAMP:20260423T042044
CREATED:20190521T105206Z
LAST-MODIFIED:20190521T105206Z
UID:14478-1558641600-1558645200@www.sanmartindevaldeiglesias.es
SUMMARY:Audición de guitarra
DESCRIPTION:
URL:https://www.sanmartindevaldeiglesias.es/evento/audicion-de-guitarra-2/
LOCATION:Escuela Municipal de Música y Danza «Maestro Joaquín Rodrigo»\, General Martinez Benito 4\, San Martín de Valdeiglesias\, Madrid\, 28680\, España
CATEGORIES:Conciertos
END:VEVENT
BEGIN:VEVENT
DTSTART;TZID=Europe/Madrid:20190525T180000
DTEND;TZID=Europe/Madrid:20190525T190000
DTSTAMP:20260423T042044
CREATED:20190521T105409Z
LAST-MODIFIED:20190521T105409Z
UID:14480-1558807200-1558810800@www.sanmartindevaldeiglesias.es
SUMMARY:Concierto Música actual
DESCRIPTION:
URL:https://www.sanmartindevaldeiglesias.es/evento/concierto-musica-actual-2/
LOCATION:Escuela Municipal de Música y Danza «Maestro Joaquín Rodrigo»\, General Martinez Benito 4\, San Martín de Valdeiglesias\, Madrid\, 28680\, España
CATEGORIES:Conciertos
END:VEVENT
BEGIN:VEVENT
DTSTART;TZID=Europe/Madrid:20190527T200000
DTEND;TZID=Europe/Madrid:20190527T210000
DTSTAMP:20260423T042044
CREATED:20190521T105542Z
LAST-MODIFIED:20190521T105620Z
UID:14482-1558987200-1558990800@www.sanmartindevaldeiglesias.es
SUMMARY:Audición trompeta/v. metal
DESCRIPTION:
URL:https://www.sanmartindevaldeiglesias.es/evento/audicion-de-trompeta/
LOCATION:Escuela Municipal de Música y Danza «Maestro Joaquín Rodrigo»\, General Martinez Benito 4\, San Martín de Valdeiglesias\, Madrid\, 28680\, España
CATEGORIES:Conciertos
END:VEVENT
BEGIN:VEVENT
DTSTART;TZID=Europe/Madrid:20190529T200000
DTEND;TZID=Europe/Madrid:20190529T210000
DTSTAMP:20260423T042044
CREATED:20190521T105750Z
LAST-MODIFIED:20190521T105750Z
UID:14485-1559160000-1559163600@www.sanmartindevaldeiglesias.es
SUMMARY:Concierto: canto
DESCRIPTION:
URL:https://www.sanmartindevaldeiglesias.es/evento/concierto-canto/
LOCATION:Escuela Municipal de Música y Danza «Maestro Joaquín Rodrigo»\, General Martinez Benito 4\, San Martín de Valdeiglesias\, Madrid\, 28680\, España
CATEGORIES:Conciertos
END:VEVENT
BEGIN:VEVENT
DTSTART;TZID=Europe/Madrid:20190530T163000
DTEND;TZID=Europe/Madrid:20190530T180000
DTSTAMP:20260423T042044
CREATED:20190523T115837Z
LAST-MODIFIED:20190523T115837Z
UID:14513-1559233800-1559239200@www.sanmartindevaldeiglesias.es
SUMMARY:Taller de salud
DESCRIPTION:da
URL:https://www.sanmartindevaldeiglesias.es/evento/taller-de-salud-2/
LOCATION:Centro «Los Lavaderos»\, Plaza de Teodoro Bravo\, 15\, San Martín de Valdeiglesias\, Madrid\, 28680\, España
CATEGORIES:CURSOS,Salud
END:VEVENT
BEGIN:VEVENT
DTSTART;TZID=Europe/Madrid:20190531T180000
DTEND;TZID=Europe/Madrid:20190531T190000
DTSTAMP:20260423T042044
CREATED:20190514T123101Z
LAST-MODIFIED:20190514T123101Z
UID:14416-1559325600-1559329200@www.sanmartindevaldeiglesias.es
SUMMARY:Cuentacuentos
DESCRIPTION:
URL:https://www.sanmartindevaldeiglesias.es/evento/cuentacuentos-13/
LOCATION:Madrid
CATEGORIES:Educación,Igualdad
END:VEVENT
BEGIN:VEVENT
DTSTART;TZID=Europe/Madrid:20190531T200000
DTEND;TZID=Europe/Madrid:20190531T210000
DTSTAMP:20260423T042044
CREATED:20190521T111932Z
LAST-MODIFIED:20190521T111952Z
UID:14487-1559332800-1559336400@www.sanmartindevaldeiglesias.es
SUMMARY:Audición: violín/clarinete
DESCRIPTION:
URL:https://www.sanmartindevaldeiglesias.es/evento/audicion-de-violin-3/
LOCATION:Escuela Municipal de Música y Danza «Maestro Joaquín Rodrigo»\, General Martinez Benito 4\, San Martín de Valdeiglesias\, Madrid\, 28680\, España
CATEGORIES:Conciertos
END:VEVENT
BEGIN:VEVENT
DTSTART;TZID=Europe/Madrid:20190604T150000
DTEND;TZID=Europe/Madrid:20190618T210000
DTSTAMP:20260423T042044
CREATED:20190522T083730Z
LAST-MODIFIED:20190522T083730Z
UID:14500-1559660400-1560891600@www.sanmartindevaldeiglesias.es
SUMMARY:Exposición de pintura
DESCRIPTION:
URL:https://www.sanmartindevaldeiglesias.es/evento/exposicion-de-pintura-2/
LOCATION:Madrid
CATEGORIES:Exposiciones
END:VEVENT
BEGIN:VEVENT
DTSTART;TZID=Europe/Madrid:20190605T200000
DTEND;TZID=Europe/Madrid:20190605T210000
DTSTAMP:20260423T042044
CREATED:20190521T112155Z
LAST-MODIFIED:20190521T112155Z
UID:14490-1559764800-1559768400@www.sanmartindevaldeiglesias.es
SUMMARY:Concierto aula iniciación
DESCRIPTION:
URL:https://www.sanmartindevaldeiglesias.es/evento/concierto-aula-iniciacion-2/
LOCATION:Escuela Municipal de Música y Danza «Maestro Joaquín Rodrigo»\, General Martinez Benito 4\, San Martín de Valdeiglesias\, Madrid\, 28680\, España
CATEGORIES:Conciertos
END:VEVENT
BEGIN:VEVENT
DTSTART;VALUE=DATE:20190608
DTEND;VALUE=DATE:20190610
DTSTAMP:20260423T042044
CREATED:20190521T081017Z
LAST-MODIFIED:20190521T081030Z
UID:14462-1559952000-1560124799@www.sanmartindevaldeiglesias.es
SUMMARY:Taller de masaje
DESCRIPTION:
URL:https://www.sanmartindevaldeiglesias.es/evento/taller-de-metamorfosis/
LOCATION:Centro Cultural Santa Catalina
CATEGORIES:Participacion ciudadana,Salud
END:VEVENT
BEGIN:VEVENT
DTSTART;TZID=Europe/Madrid:20190612T150000
DTEND;TZID=Europe/Madrid:20190612T163000
DTSTAMP:20260423T042044
CREATED:20190612T083053Z
LAST-MODIFIED:20190612T083053Z
UID:14642-1560351600-1560357000@www.sanmartindevaldeiglesias.es
SUMMARY:Pleno extraordinario
DESCRIPTION:
URL:https://www.sanmartindevaldeiglesias.es/evento/pleno-extraordinario-11/
LOCATION:Madrid
END:VEVENT
BEGIN:VEVENT
DTSTART;TZID=Europe/Madrid:20190613T163000
DTEND;TZID=Europe/Madrid:20190613T180000
DTSTAMP:20260423T042044
CREATED:20190523T120052Z
LAST-MODIFIED:20190523T120134Z
UID:14515-1560443400-1560448800@www.sanmartindevaldeiglesias.es
SUMMARY:Taller de salud
DESCRIPTION:
URL:https://www.sanmartindevaldeiglesias.es/evento/taller-de-salud-3/
LOCATION:Centro «Los Lavaderos»\, Plaza de Teodoro Bravo\, 15\, San Martín de Valdeiglesias\, Madrid\, 28680\, España
CATEGORIES:Salud
END:VEVENT
BEGIN:VEVENT
DTSTART;TZID=Europe/Madrid:20190615T100000
DTEND;TZID=Europe/Madrid:20190615T140000
DTSTAMP:20260423T042044
CREATED:20190521T090041Z
LAST-MODIFIED:20190521T114926Z
UID:14466-1560592800-1560607200@www.sanmartindevaldeiglesias.es
SUMMARY:Día internacional del Yoga
DESCRIPTION:
URL:https://www.sanmartindevaldeiglesias.es/evento/dia-internacional-del-yoga-2/
LOCATION:Madrid
CATEGORIES:Deportes
END:VEVENT
BEGIN:VEVENT
DTSTART;TZID=Europe/Madrid:20190615T120000
DTEND;TZID=Europe/Madrid:20190615T130000
DTSTAMP:20260423T042044
CREATED:20190613T084153Z
LAST-MODIFIED:20190613T084153Z
UID:14654-1560600000-1560603600@www.sanmartindevaldeiglesias.es
SUMMARY:Pleno constitución
DESCRIPTION:
URL:https://www.sanmartindevaldeiglesias.es/evento/pleno-constitucion/
LOCATION:Ayuntamiento
END:VEVENT
BEGIN:VEVENT
DTSTART;TZID=Europe/Madrid:20190615T160000
DTEND;TZID=Europe/Madrid:20190615T173000
DTSTAMP:20260423T042044
CREATED:20190614T083624Z
LAST-MODIFIED:20190614T083624Z
UID:14658-1560614400-1560619800@www.sanmartindevaldeiglesias.es
SUMMARY:Gimnasia rítmica
DESCRIPTION:
URL:https://www.sanmartindevaldeiglesias.es/evento/gimnasia-ritmica/
LOCATION:Patronato municipal de deportes\, Calle salamanca 17\, San Martín de valdeiglesias\, Madrid\, 28680\, España
CATEGORIES:Deportes
END:VEVENT
BEGIN:VEVENT
DTSTART;TZID=Europe/Madrid:20190618T093000
DTEND;TZID=Europe/Madrid:20190618T133000
DTSTAMP:20260423T042044
CREATED:20190611T080420Z
LAST-MODIFIED:20190611T080420Z
UID:14632-1560850200-1560864600@www.sanmartindevaldeiglesias.es
SUMMARY:ITV ciclomotores
DESCRIPTION:
URL:https://www.sanmartindevaldeiglesias.es/evento/itv-ciclomotores-2/
LOCATION:Madrid
END:VEVENT
BEGIN:VEVENT
DTSTART;TZID=Europe/Madrid:20190619T093000
DTEND;TZID=Europe/Madrid:20190619T133000
DTSTAMP:20260423T042044
CREATED:20190611T080636Z
LAST-MODIFIED:20190611T081440Z
UID:14635-1560936600-1560951000@www.sanmartindevaldeiglesias.es
SUMMARY:ITV ciclomotores
DESCRIPTION:
URL:https://www.sanmartindevaldeiglesias.es/evento/itv-ciclomotores-3/
LOCATION:Madrid
END:VEVENT
BEGIN:VEVENT
DTSTART;TZID=Europe/Madrid:20190621T200000
DTEND;TZID=Europe/Madrid:20190621T210000
DTSTAMP:20260423T042044
CREATED:20190521T112328Z
LAST-MODIFIED:20190521T112328Z
UID:14492-1561147200-1561150800@www.sanmartindevaldeiglesias.es
SUMMARY:Concierto fin de curso
DESCRIPTION:
URL:https://www.sanmartindevaldeiglesias.es/evento/concierto-fin-de-curso-4/
LOCATION:Escuela Municipal de Música y Danza «Maestro Joaquín Rodrigo»\, General Martinez Benito 4\, San Martín de Valdeiglesias\, Madrid\, 28680\, España
CATEGORIES:Conciertos
END:VEVENT
BEGIN:VEVENT
DTSTART;TZID=Europe/Madrid:20190627T110000
DTEND;TZID=Europe/Madrid:20190627T130000
DTSTAMP:20260423T042044
CREATED:20190621T073642Z
LAST-MODIFIED:20190621T090655Z
UID:14679-1561633200-1561640400@www.sanmartindevaldeiglesias.es
SUMMARY:Taller: Nuevas tecnologías
DESCRIPTION:
URL:https://www.sanmartindevaldeiglesias.es/evento/taller-nuevas-tecnologias/
LOCATION:Centro «Los Lavaderos»\, Plaza de Teodoro Bravo\, 15\, San Martín de Valdeiglesias\, Madrid\, 28680\, España
CATEGORIES:CURSOS
END:VEVENT
BEGIN:VEVENT
DTSTART;TZID=Europe/Madrid:20190628T120000
DTEND;TZID=Europe/Madrid:20190628T140000
DTSTAMP:20260423T042044
CREATED:20190627T071725Z
LAST-MODIFIED:20190627T071725Z
UID:14740-1561723200-1561730400@www.sanmartindevaldeiglesias.es
SUMMARY:Pleno extraordinario
DESCRIPTION:
URL:https://www.sanmartindevaldeiglesias.es/evento/pleno-extraordinario-12/
LOCATION:Ayuntamiento
END:VEVENT
END:VCALENDAR