BEGIN:VCALENDAR
VERSION:2.0
PRODID:-//San Martín de Valdeiglesias - ECPv6.15.20//NONSGML v1.0//EN
CALSCALE:GREGORIAN
METHOD:PUBLISH
X-ORIGINAL-URL:https://www.sanmartindevaldeiglesias.es
X-WR-CALDESC:Eventos para San Martín de Valdeiglesias
REFRESH-INTERVAL;VALUE=DURATION:PT1H
X-Robots-Tag:noindex
X-PUBLISHED-TTL:PT1H
BEGIN:VTIMEZONE
TZID:Europe/Madrid
BEGIN:DAYLIGHT
TZOFFSETFROM:+0100
TZOFFSETTO:+0200
TZNAME:CEST
DTSTART:20200329T010000
END:DAYLIGHT
BEGIN:STANDARD
TZOFFSETFROM:+0200
TZOFFSETTO:+0100
TZNAME:CET
DTSTART:20201025T010000
END:STANDARD
BEGIN:DAYLIGHT
TZOFFSETFROM:+0100
TZOFFSETTO:+0200
TZNAME:CEST
DTSTART:20210328T010000
END:DAYLIGHT
BEGIN:STANDARD
TZOFFSETFROM:+0200
TZOFFSETTO:+0100
TZNAME:CET
DTSTART:20211031T010000
END:STANDARD
BEGIN:DAYLIGHT
TZOFFSETFROM:+0100
TZOFFSETTO:+0200
TZNAME:CEST
DTSTART:20220327T010000
END:DAYLIGHT
BEGIN:STANDARD
TZOFFSETFROM:+0200
TZOFFSETTO:+0100
TZNAME:CET
DTSTART:20221030T010000
END:STANDARD
END:VTIMEZONE
BEGIN:VEVENT
DTSTART;TZID=Europe/Madrid:20210408T150000
DTEND;TZID=Europe/Madrid:20210408T180000
DTSTAMP:20260421T024957
CREATED:20210316T091525Z
LAST-MODIFIED:20210316T091525Z
UID:19623-1617894000-1617904800@www.sanmartindevaldeiglesias.es
SUMMARY:Atención al consumidor
DESCRIPTION:Servicio de atención e información al consumidor. \nTodos los jueves de 15 a 18 h.  \nAtención presencial (jueves alternos) en el Centro de Formación y Desarrollo (Ctra. de Toledo s/n). \nPara acceder a este servicio es necesario concertar cita previa en el teléfono 91 861 18 10 – desarrollo@sanmartindevaldeiglesias.es
URL:https://www.sanmartindevaldeiglesias.es/evento/atencion-al-consumidor-2/
LOCATION:Centro de Formación y Desarrollo\, Ctra. de Toledo\, s/n\, San Martín de Valdeiglesias\, Madrid\, 28680\, España
CATEGORIES:Servicios a la ciudadanía
END:VEVENT
BEGIN:VEVENT
DTSTART;TZID=Europe/Madrid:20210408T170000
DTEND;TZID=Europe/Madrid:20210408T180000
DTSTAMP:20260421T024957
CREATED:20210406T092933Z
LAST-MODIFIED:20210406T092933Z
UID:19696-1617901200-1617904800@www.sanmartindevaldeiglesias.es
SUMMARY:Pleno extraordinario
DESCRIPTION:El Ayuntamiento de San Martín de Valdeiglesias celebrará \nSESIÓN EXTRAORDINARIA DEL PLENO MUNICIPAL  \nel jueves 8 de abril\, a las 17 h.  \nORDEL DEL DÍA: \n  \n1.- Sorteo para la composición de las mesas electorales para las elecciones a la Asamblea de Madrid que se celebrarán el próximo 4 de mayo de 2021.
URL:https://www.sanmartindevaldeiglesias.es/evento/pleno-extraordinario-20/
LOCATION:Ayuntamiento
CATEGORIES:Pleno
END:VEVENT
BEGIN:VEVENT
DTSTART;TZID=Europe/Madrid:20210413T093000
DTEND;TZID=Europe/Madrid:20210413T123000
DTSTAMP:20260421T024957
CREATED:20210310T082422Z
LAST-MODIFIED:20210310T082422Z
UID:19597-1618306200-1618317000@www.sanmartindevaldeiglesias.es
SUMMARY:Expedición/renovación DNI
DESCRIPTION:
URL:https://www.sanmartindevaldeiglesias.es/evento/expedicion-renovacion-dni/
LOCATION:Ayuntamiento
CATEGORIES:Servicios a la ciudadanía
END:VEVENT
BEGIN:VEVENT
DTSTART;TZID=Europe/Madrid:20210415T150000
DTEND;TZID=Europe/Madrid:20210415T180000
DTSTAMP:20260421T024957
CREATED:20210412T074527Z
LAST-MODIFIED:20210412T074527Z
UID:19710-1618498800-1618509600@www.sanmartindevaldeiglesias.es
SUMMARY:Atención al consumidor
DESCRIPTION:Servicio de atención e información al consumidor. \nJueves\, 15 de abril de 15 a 18 h.  \nPara acceder a este servicio es necesario concertar cita previa en el teléfono 91 861 18 10 – desarrollo@sanmartindevaldeiglesias.es
URL:https://www.sanmartindevaldeiglesias.es/evento/atencion-al-consumidor-duplicate-1/
LOCATION:Centro de Formación y Desarrollo\, Ctra. de Toledo\, s/n\, San Martín de Valdeiglesias\, Madrid\, 28680\, España
CATEGORIES:Servicios a la ciudadanía
END:VEVENT
BEGIN:VEVENT
DTSTART;TZID=Europe/Madrid:20210423T180000
DTEND;TZID=Europe/Madrid:20210423T190000
DTSTAMP:20260421T024957
CREATED:20210422T084841Z
LAST-MODIFIED:20210422T085018Z
UID:19733-1619200800-1619204400@www.sanmartindevaldeiglesias.es
SUMMARY:Cuentacuentos
DESCRIPTION:Para asistir a esta actividad y debido a las limitaciones de aforo\, es conveniente inscribirse con antelación: Teléfono de la Biblioteca: 91 861 29 41
URL:https://www.sanmartindevaldeiglesias.es/evento/cuentacuentos-17/
LOCATION:Biblioteca Municipal\, C/ Fuente\, 4\, San Martín de Valdeiglesias\, Madrid\, 28680\, España
CATEGORIES:Educación,Teatro
END:VEVENT
BEGIN:VEVENT
DTSTART;TZID=Europe/Madrid:20210424T201500
DTEND;TZID=Europe/Madrid:20210424T213000
DTSTAMP:20260421T024957
CREATED:20210202T130859Z
LAST-MODIFIED:20210311T180421Z
UID:19448-1619295300-1619299800@www.sanmartindevaldeiglesias.es
SUMMARY:Espectáculo flamenco: Ver\, oir y bailar
DESCRIPTION:Información y venta de entradas anticipadas: \n\nEn el centro cultural La Estación. Horario de lunes a viernes de 10 a 15 h.(Es necesario concertar cita previa: tel. 91 861 24 20 – cultura@sanmartindevaldeiglesias.es)\nAdquiera su entrada de forma online aquí.\n\n 
URL:https://www.sanmartindevaldeiglesias.es/evento/espectaculo-flamenco-ver-oir-y-bailar/
LOCATION:Teatro municipal\, Calle Fuente 4\, San Martín de Valdeiglesias\, Madrid\, 28680\, España
CATEGORIES:Teatro
END:VEVENT
BEGIN:VEVENT
DTSTART;TZID=Europe/Madrid:20210429T150000
DTEND;TZID=Europe/Madrid:20210429T180000
DTSTAMP:20260421T024957
CREATED:20210316T091640Z
LAST-MODIFIED:20210412T074333Z
UID:19625-1619708400-1619719200@www.sanmartindevaldeiglesias.es
SUMMARY:Atención al consumidor
DESCRIPTION:Servicio de atención e información al consumidor. \nJueves\, 29 de abril de 15 a 18 h.  \nPara acceder a este servicio es necesario concertar cita previa en el teléfono 91 861 18 10 – desarrollo@sanmartindevaldeiglesias.es
URL:https://www.sanmartindevaldeiglesias.es/evento/atencion-al-consumidor-3/
LOCATION:Centro de Formación y Desarrollo\, Ctra. de Toledo\, s/n\, San Martín de Valdeiglesias\, Madrid\, 28680\, España
CATEGORIES:Servicios a la ciudadanía
END:VEVENT
BEGIN:VEVENT
DTSTART;TZID=Europe/Madrid:20210513T150000
DTEND;TZID=Europe/Madrid:20210513T180000
DTSTAMP:20260421T024957
CREATED:20210505T083838Z
LAST-MODIFIED:20210505T083838Z
UID:19760-1620918000-1620928800@www.sanmartindevaldeiglesias.es
SUMMARY:Atención al consumidor
DESCRIPTION:Servicio de atención e información al consumidor. \nJueves\, 13 de mayo de 15 a 18 h.  \nPara acceder a este servicio es necesario concertar cita previa en el teléfono 91 861 18 10 – desarrollo@sanmartindevaldeiglesias.es
URL:https://www.sanmartindevaldeiglesias.es/evento/atencion-al-consumidor-duplicate-1-2/
LOCATION:Centro de Formación y Desarrollo\, Ctra. de Toledo\, s/n\, San Martín de Valdeiglesias\, Madrid\, 28680\, España
CATEGORIES:Servicios a la ciudadanía
END:VEVENT
BEGIN:VEVENT
DTSTART;VALUE=DATE:20210514
DTEND;VALUE=DATE:20210607
DTSTAMP:20260421T024957
CREATED:20210518T070802Z
LAST-MODIFIED:20210518T070802Z
UID:19786-1620950400-1623023999@www.sanmartindevaldeiglesias.es
SUMMARY:Exposición: "El Paso de Filomena"
DESCRIPTION:
URL:https://www.sanmartindevaldeiglesias.es/evento/exposicion-el-paso-de-filomena/
LOCATION:Centro cultural «La Estación»\, Av. del Ferrocarril\, 14B\,\, San Martín de Valdeiglesias\, Madrid\, 28680\, España
CATEGORIES:Exposiciones
END:VEVENT
BEGIN:VEVENT
DTSTART;TZID=Europe/Madrid:20210515T200000
DTEND;TZID=Europe/Madrid:20210515T220000
DTSTAMP:20260421T024957
CREATED:20210330T124035Z
LAST-MODIFIED:20210330T124228Z
UID:19682-1621108800-1621116000@www.sanmartindevaldeiglesias.es
SUMMARY:Concierto: Rock con ñ
DESCRIPTION:Venta de entradas en el centro cultural La Estación (C/ Fuente – Tel. 91 861 24 20) y de forma online en el siguiente enlace: https://www.sanmartindevaldeiglesias.es/eventos/
URL:https://www.sanmartindevaldeiglesias.es/evento/concierto-rock-con-n/
LOCATION:Teatro municipal\, Calle Fuente 4\, San Martín de Valdeiglesias\, Madrid\, 28680\, España
CATEGORIES:Conciertos
END:VEVENT
BEGIN:VEVENT
DTSTART;VALUE=DATE:20210517
DTEND;VALUE=DATE:20210701
DTSTAMP:20260421T024957
CREATED:20210518T071314Z
LAST-MODIFIED:20210518T071314Z
UID:19790-1621209600-1625097599@www.sanmartindevaldeiglesias.es
SUMMARY:Campaña vacunación antirrábica
DESCRIPTION:.
URL:https://www.sanmartindevaldeiglesias.es/evento/campana-vacunacion-antirrabica-2/
LOCATION:Madrid
CATEGORIES:Salud
END:VEVENT
BEGIN:VEVENT
DTSTART;TZID=Europe/Madrid:20210517T100000
DTEND;TZID=Europe/Madrid:20210517T120000
DTSTAMP:20260421T024957
CREATED:20210422T092434Z
LAST-MODIFIED:20210422T092445Z
UID:19741-1621245600-1621252800@www.sanmartindevaldeiglesias.es
SUMMARY:Expedición/Renovación DNI
DESCRIPTION:
URL:https://www.sanmartindevaldeiglesias.es/evento/expedicion-renovacion-dni-2/
LOCATION:Madrid
CATEGORIES:Servicios a la ciudadanía
END:VEVENT
BEGIN:VEVENT
DTSTART;TZID=Europe/Madrid:20210520T190000
DTEND;TZID=Europe/Madrid:20210520T200000
DTSTAMP:20260421T024957
CREATED:20210518T071034Z
LAST-MODIFIED:20210518T071034Z
UID:19788-1621537200-1621540800@www.sanmartindevaldeiglesias.es
SUMMARY:Conferencia: "Educar con y en la realidad"
DESCRIPTION:
URL:https://www.sanmartindevaldeiglesias.es/evento/conferencia-educar-con-y-en-la-realidad/
LOCATION:Biblioteca Municipal\, C/ Fuente\, 4\, San Martín de Valdeiglesias\, Madrid\, 28680\, España
CATEGORIES:Educación
END:VEVENT
BEGIN:VEVENT
DTSTART;TZID=Europe/Madrid:20210522T190000
DTEND;TZID=Europe/Madrid:20210522T203000
DTSTAMP:20260421T024957
CREATED:20210202T131455Z
LAST-MODIFIED:20210520T070503Z
UID:19452-1621710000-1621715400@www.sanmartindevaldeiglesias.es
SUMMARY:Teatro: Blablacoche
DESCRIPTION:Información y venta de entradas anticipadas: \nEn el centro cultural La Estación. Horario de lunes a viernes de 10 a 15 h.(Es necesario concertar cita previa: tel. 91 861 24 20 – cultura@sanmartindevaldeiglesias.es) \nAdquiera su entrada de forma online aquí. \n 
URL:https://www.sanmartindevaldeiglesias.es/evento/teatro-bla-bla-co-coche/
LOCATION:Teatro municipal\, Calle Fuente 4\, San Martín de Valdeiglesias\, Madrid\, 28680\, España
CATEGORIES:Turismo
END:VEVENT
BEGIN:VEVENT
DTSTART;TZID=Europe/Madrid:20210527T150000
DTEND;TZID=Europe/Madrid:20210527T180000
DTSTAMP:20260421T024957
CREATED:20210505T084010Z
LAST-MODIFIED:20210505T084010Z
UID:19762-1622127600-1622138400@www.sanmartindevaldeiglesias.es
SUMMARY:Atención al consumidor
DESCRIPTION:Servicio de atención e información al consumidor. \nJueves\, 27 de mayo de 15 a 18 h.  \nPara acceder a este servicio es necesario concertar cita previa en el teléfono 91 861 18 10 – desarrollo@sanmartindevaldeiglesias.es
URL:https://www.sanmartindevaldeiglesias.es/evento/atencion-al-consumidor-duplicate-1-3/
LOCATION:Centro de Formación y Desarrollo\, Ctra. de Toledo\, s/n\, San Martín de Valdeiglesias\, Madrid\, 28680\, España
CATEGORIES:Servicios a la ciudadanía
END:VEVENT
BEGIN:VEVENT
DTSTART;TZID=Europe/Madrid:20210529T190000
DTEND;TZID=Europe/Madrid:20210529T200000
DTSTAMP:20260421T024957
CREATED:20210525T074939Z
LAST-MODIFIED:20210525T075803Z
UID:19846-1622314800-1622318400@www.sanmartindevaldeiglesias.es
SUMMARY:Danza: "Mujer de Pie"
DESCRIPTION:Sobre el espectáculo: En «Mujer de pie«\, dos cantaores\, un bailaor y una bailarina\, cada uno de ellos con un bagaje muy particular\, pone en común sus cuerpos y su experiencia para entablar comunicación en un espacio común\, en el que música experimental\, flamenco\, danza\, presencia y madurez hablan de la idea de reinventarse para resurgir\, de celebrar la vida. \nDe ecléctica formación\, Sara Cano es una bailarina y coreógrafa cuyos estilos abarcan desde la danza contemporánea a la danza española\, el folclore y el flamenco. Como bailarina\, su trayectoria se ha desarrollado abarcando un amplio abanico de estilos\, bajo las órdenes de coreógrafos como Teresa Nieto\, Blanca Li\, Fundación Antonio Gades\, Joaquín Cortés\, Ibérica de Danza\, Marco Flores y Yoshua Cienfuegos. \nPRECIOS ENTRADAS:\nVenta anticipada en el Centro Cultural La Estación y online.  Entrada general: 15 € – Con descuento: 11 €.  Taquilla: 18 €.\nComprar las entradas online
URL:https://www.sanmartindevaldeiglesias.es/evento/danza-mujer-de-pie/
LOCATION:Teatro municipal\, Calle Fuente 4\, San Martín de Valdeiglesias\, Madrid\, 28680\, España
CATEGORIES:Danza
END:VEVENT
BEGIN:VEVENT
DTSTART;TZID=Europe/Madrid:20210611T150000
DTEND;TZID=Europe/Madrid:20210611T180000
DTSTAMP:20260421T024957
CREATED:20210604T122454Z
LAST-MODIFIED:20210604T122454Z
UID:19874-1623423600-1623434400@www.sanmartindevaldeiglesias.es
SUMMARY:Atención al consumidor
DESCRIPTION:Servicio de atención e información al consumidor. \nJueves\, 11 de junio de 15 a 18 h.  \nPara acceder a este servicio es necesario concertar cita previa en el teléfono 91 861 18 10 – desarrollo@sanmartindevaldeiglesias.es
URL:https://www.sanmartindevaldeiglesias.es/evento/atencion-al-consumidor-duplicate-1-4/
LOCATION:Centro de Formación y Desarrollo\, Ctra. de Toledo\, s/n\, San Martín de Valdeiglesias\, Madrid\, 28680\, España
CATEGORIES:Servicios a la ciudadanía
END:VEVENT
BEGIN:VEVENT
DTSTART;VALUE=DATE:20210612
DTEND;VALUE=DATE:20210614
DTSTAMP:20260421T024957
CREATED:20210520T164324Z
LAST-MODIFIED:20210520T164324Z
UID:19824-1623456000-1623628799@www.sanmartindevaldeiglesias.es
SUMMARY:Feria del vino
DESCRIPTION:
URL:https://www.sanmartindevaldeiglesias.es/evento/feria-del-vino/
LOCATION:Plaza de toros
CATEGORIES:Desarrollo económico,Medio Ambiente,Turismo
END:VEVENT
BEGIN:VEVENT
DTSTART;TZID=Europe/Madrid:20210620T110000
DTEND;TZID=Europe/Madrid:20210620T143000
DTSTAMP:20260421T024957
CREATED:20210604T123216Z
LAST-MODIFIED:20210604T123216Z
UID:19879-1624186800-1624199400@www.sanmartindevaldeiglesias.es
SUMMARY:Campeonato de culturismo
DESCRIPTION:
URL:https://www.sanmartindevaldeiglesias.es/evento/campeonato-de-culturismo/
LOCATION:Teatro municipal\, Calle Fuente 4\, San Martín de Valdeiglesias\, Madrid\, 28680\, España
CATEGORIES:Deportes
END:VEVENT
BEGIN:VEVENT
DTSTART;TZID=Europe/Madrid:20210621T200000
DTEND;TZID=Europe/Madrid:20210621T210000
DTSTAMP:20260421T024957
CREATED:20210621T115753Z
LAST-MODIFIED:20210621T115753Z
UID:19900-1624305600-1624309200@www.sanmartindevaldeiglesias.es
SUMMARY:Audición aula de guitarra
DESCRIPTION:
URL:https://www.sanmartindevaldeiglesias.es/evento/audicion-aula-de-guitarra/
LOCATION:Plaza de toros
CATEGORIES:Conciertos
END:VEVENT
BEGIN:VEVENT
DTSTART;TZID=Europe/Madrid:20210622T200000
DTEND;TZID=Europe/Madrid:20210622T210000
DTSTAMP:20260421T024957
CREATED:20210621T115852Z
LAST-MODIFIED:20210621T115852Z
UID:19903-1624392000-1624395600@www.sanmartindevaldeiglesias.es
SUMMARY:Audición de piano y clarinete
DESCRIPTION:
URL:https://www.sanmartindevaldeiglesias.es/evento/audicion-aula-de-guitarra-duplicate-1/
LOCATION:Plaza de toros
CATEGORIES:Conciertos
END:VEVENT
BEGIN:VEVENT
DTSTART;TZID=Europe/Madrid:20210623T200000
DTEND;TZID=Europe/Madrid:20210623T210000
DTSTAMP:20260421T024957
CREATED:20210621T115943Z
LAST-MODIFIED:20210621T115943Z
UID:19905-1624478400-1624482000@www.sanmartindevaldeiglesias.es
SUMMARY:Audición aulas de canto y violín
DESCRIPTION:
URL:https://www.sanmartindevaldeiglesias.es/evento/audicion-de-piano-y-clarinete-duplicate-1/
LOCATION:Plaza de toros
CATEGORIES:Conciertos
END:VEVENT
BEGIN:VEVENT
DTSTART;TZID=Europe/Madrid:20210624T200000
DTEND;TZID=Europe/Madrid:20210624T213000
DTSTAMP:20260421T024957
CREATED:20210621T120041Z
LAST-MODIFIED:20210621T120041Z
UID:19907-1624564800-1624570200@www.sanmartindevaldeiglesias.es
SUMMARY:Audición: saxofón\, bailes de salón\, violín
DESCRIPTION:
URL:https://www.sanmartindevaldeiglesias.es/evento/audicion-aulas-de-canto-y-violin-duplicate-1/
LOCATION:Plaza de toros
CATEGORIES:Conciertos
END:VEVENT
BEGIN:VEVENT
DTSTART;TZID=Europe/Madrid:20210625T150000
DTEND;TZID=Europe/Madrid:20210625T180000
DTSTAMP:20260421T024957
CREATED:20210604T122543Z
LAST-MODIFIED:20210604T122543Z
UID:19876-1624633200-1624644000@www.sanmartindevaldeiglesias.es
SUMMARY:Atención al consumidor
DESCRIPTION:Servicio de atención e información al consumidor. \nJueves\, 25 de junio de 15 a 18 h.  \nPara acceder a este servicio es necesario concertar cita previa en el teléfono 91 861 18 10 – desarrollo@sanmartindevaldeiglesias.es
URL:https://www.sanmartindevaldeiglesias.es/evento/atencion-al-consumidor-duplicate-1-5/
LOCATION:Centro de Formación y Desarrollo\, Ctra. de Toledo\, s/n\, San Martín de Valdeiglesias\, Madrid\, 28680\, España
CATEGORIES:Servicios a la ciudadanía
END:VEVENT
BEGIN:VEVENT
DTSTART;TZID=Europe/Madrid:20210625T200000
DTEND;TZID=Europe/Madrid:20210625T213000
DTSTAMP:20260421T024957
CREATED:20210621T120148Z
LAST-MODIFIED:20210621T120148Z
UID:19909-1624651200-1624656600@www.sanmartindevaldeiglesias.es
SUMMARY:Audición: trompeta/viento metal e iniciación
DESCRIPTION:
URL:https://www.sanmartindevaldeiglesias.es/evento/audicion-saxofon-bailes-de-salon-violin-duplicate-1/
LOCATION:Plaza de toros
CATEGORIES:Conciertos
END:VEVENT
BEGIN:VEVENT
DTSTART;TZID=Europe/Madrid:20210708T150000
DTEND;TZID=Europe/Madrid:20210708T180000
DTSTAMP:20260421T024957
CREATED:20210625T101322Z
LAST-MODIFIED:20210625T101322Z
UID:19941-1625756400-1625767200@www.sanmartindevaldeiglesias.es
SUMMARY:Atención al consumidor
DESCRIPTION:Servicio de atención e información al consumidor. \nJueves\, 8 de julio de 15 a 18 h.  \nPara acceder a este servicio es necesario concertar cita previa en el teléfono 91 861 18 10 – desarrollo@sanmartindevaldeiglesias.es. \nTambién se pueden realizar consultas de forma telemática a través del mail euroconsumo2@gmail.com
URL:https://www.sanmartindevaldeiglesias.es/evento/atencion-al-consumidor-duplicate-1-6/
LOCATION:Centro de Formación y Desarrollo\, Ctra. de Toledo\, s/n\, San Martín de Valdeiglesias\, Madrid\, 28680\, España
CATEGORIES:Servicios a la ciudadanía
END:VEVENT
BEGIN:VEVENT
DTSTART;VALUE=DATE:20210715
DTEND;VALUE=DATE:20210719
DTSTAMP:20260421T024957
CREATED:20210714T084316Z
LAST-MODIFIED:20210714T084316Z
UID:19973-1626307200-1626652799@www.sanmartindevaldeiglesias.es
SUMMARY:Campeonato de España Ciclismo
DESCRIPTION:Ver el programa 
URL:https://www.sanmartindevaldeiglesias.es/evento/campeonato-de-espana-ciclismo/
LOCATION:Madrid
CATEGORIES:Deportes
END:VEVENT
BEGIN:VEVENT
DTSTART;TZID=Europe/Madrid:20210718T200000
DTEND;TZID=Europe/Madrid:20210718T213000
DTSTAMP:20260421T024957
CREATED:20210714T085317Z
LAST-MODIFIED:20210715T120537Z
UID:19976-1626638400-1626643800@www.sanmartindevaldeiglesias.es
SUMMARY:Performance
DESCRIPTION:  \n \nEsta actividad forma parte del ciclo Arte Vivo en las Villas\, con el que la  Comunidad de Madrid lleva el arte de acción a las plazas de las Once Villas de la región (entre ellas San Martín de Valdeiglesias).  Una propuesta centrada en la performance\, con la que quiere enfatizar la gran importancia de las plazas públicas como espacio de encuentro y lugar cívico\, fundamental en el desarrollo de la vida diaria y los acontecimientos más relevantes de cualquier población.
URL:https://www.sanmartindevaldeiglesias.es/evento/performance/
LOCATION:Plaza Real\, Plaza Real Nº1\, San Martín de Valdeiglesias\, Madrid\, 28680\, España
CATEGORIES:Conciertos
END:VEVENT
BEGIN:VEVENT
DTSTART;VALUE=DATE:20210723
DTEND;VALUE=DATE:20210726
DTSTAMP:20260421T024957
CREATED:20210715T115934Z
LAST-MODIFIED:20210715T115934Z
UID:20001-1626998400-1627257599@www.sanmartindevaldeiglesias.es
SUMMARY:Liga nacional de graffiti
DESCRIPTION:
URL:https://www.sanmartindevaldeiglesias.es/evento/liga-nacional-de-graffiti/
LOCATION:Madrid
CATEGORIES:Exposiciones
END:VEVENT
BEGIN:VEVENT
DTSTART;TZID=Europe/Madrid:20210723T200000
DTEND;TZID=Europe/Madrid:20210723T210000
DTSTAMP:20260421T024957
CREATED:20210713T124102Z
LAST-MODIFIED:20210713T124102Z
UID:19970-1627070400-1627074000@www.sanmartindevaldeiglesias.es
SUMMARY:Espectáculo infantil
DESCRIPTION:SINOPSIS\nBAM BAM “Los Taps” es una excéntrica pareja de artistas\, un mago y su “ayudante” que viajan por el mundo realizando sus espectáculos. Mientras viajan\, surgen situaciones y conflictos divertidos. \nEl mago se esfuerza por hacer un show perfecto y mostrar al público lo mejor de sus habilidades\, mientras su ayudante Marijou muestra un completo desinterés por ayudarle.\nEste contraste entre los dos personajes\, el ritmo trepidante y la gran cantidad de gags cómicos\, hacen que sea una experiencia tremendamente divertida y a la vez asombrosa. \nUn espectáculo lleno de clown y magia con grandes ilusiones. \nEntrada gratuita hasta completar aforo.
URL:https://www.sanmartindevaldeiglesias.es/evento/espectaculo-infantil-4/
LOCATION:Plaza de toros
CATEGORIES:Música
END:VEVENT
END:VCALENDAR