BEGIN:VCALENDAR
VERSION:2.0
PRODID:-//San Martín de Valdeiglesias - ECPv6.15.20//NONSGML v1.0//EN
CALSCALE:GREGORIAN
METHOD:PUBLISH
X-ORIGINAL-URL:https://www.sanmartindevaldeiglesias.es
X-WR-CALDESC:Eventos para San Martín de Valdeiglesias
REFRESH-INTERVAL;VALUE=DURATION:PT1H
X-Robots-Tag:noindex
X-PUBLISHED-TTL:PT1H
BEGIN:VTIMEZONE
TZID:Europe/Madrid
BEGIN:DAYLIGHT
TZOFFSETFROM:+0100
TZOFFSETTO:+0200
TZNAME:CEST
DTSTART:20210328T010000
END:DAYLIGHT
BEGIN:STANDARD
TZOFFSETFROM:+0200
TZOFFSETTO:+0100
TZNAME:CET
DTSTART:20211031T010000
END:STANDARD
BEGIN:DAYLIGHT
TZOFFSETFROM:+0100
TZOFFSETTO:+0200
TZNAME:CEST
DTSTART:20220327T010000
END:DAYLIGHT
BEGIN:STANDARD
TZOFFSETFROM:+0200
TZOFFSETTO:+0100
TZNAME:CET
DTSTART:20221030T010000
END:STANDARD
BEGIN:DAYLIGHT
TZOFFSETFROM:+0100
TZOFFSETTO:+0200
TZNAME:CEST
DTSTART:20230326T010000
END:DAYLIGHT
BEGIN:STANDARD
TZOFFSETFROM:+0200
TZOFFSETTO:+0100
TZNAME:CET
DTSTART:20231029T010000
END:STANDARD
END:VTIMEZONE
BEGIN:VEVENT
DTSTART;TZID=Europe/Madrid:20220301T170000
DTEND;TZID=Europe/Madrid:20220301T230000
DTSTAMP:20260420T093728
CREATED:20220301T120710Z
LAST-MODIFIED:20220301T120710Z
UID:20781-1646154000-1646175600@www.sanmartindevaldeiglesias.es
SUMMARY:Desfile y baile de carnaval
DESCRIPTION:al
URL:https://www.sanmartindevaldeiglesias.es/evento/desfile-y-baile-de-carnaval/
LOCATION:Plaza de toros
CATEGORIES:Carnaval
END:VEVENT
BEGIN:VEVENT
DTSTART;TZID=Europe/Madrid:20220302T200000
DTEND;TZID=Europe/Madrid:20220302T220000
DTSTAMP:20260420T093728
CREATED:20220301T121045Z
LAST-MODIFIED:20220301T121045Z
UID:20784-1646251200-1646258400@www.sanmartindevaldeiglesias.es
SUMMARY:Entierro de la sardina
DESCRIPTION:Entierro de la sardina: Salida a las 20:00 h. desde la Plaza Real acompañados por la Unión Musical de San Martín de Valdeiglesias. Sardina y limonada para todos en la carpa de la Plaza de Toros. \nColabora: Bodega D. Álvaro de Luna.  Asociación mujeres en Igualdad San Martín de Valdeiglesias. \n 
URL:https://www.sanmartindevaldeiglesias.es/evento/entierro-de-la-sardina-3/
LOCATION:Plaza de toros
CATEGORIES:Carnaval
END:VEVENT
BEGIN:VEVENT
DTSTART;TZID=Europe/Madrid:20220305T130000
DTEND;TZID=Europe/Madrid:20220305T170000
DTSTAMP:20260420T093728
CREATED:20220301T121428Z
LAST-MODIFIED:20220301T121428Z
UID:20786-1646485200-1646499600@www.sanmartindevaldeiglesias.es
SUMMARY:Ruta de la tapa carnavalera
DESCRIPTION:DIFRÁZATE\, TAPEA Y BAILA: Amenizado por la charanga «La Nota»\, aprovéchate de las promocione que tienen nuestros establecimientos de Hostelería\, para aquellos disfrazados de Carnaval.  Horario de 13 a 17 h.
URL:https://www.sanmartindevaldeiglesias.es/evento/ruta-de-la-tapa-carnavalera/
LOCATION:Madrid
CATEGORIES:Carnaval
END:VEVENT
BEGIN:VEVENT
DTSTART;TZID=Europe/Madrid:20220305T210000
DTEND;TZID=Europe/Madrid:20220306T030000
DTSTAMP:20260420T093728
CREATED:20220301T121704Z
LAST-MODIFIED:20220303T132840Z
UID:20788-1646514000-1646535600@www.sanmartindevaldeiglesias.es
SUMMARY:Fiesta de DJ
DESCRIPTION:Fiesta de DJ con motivo del Carnaval\, amenizado con Dj\, luz y color. \nHorario: de 21 a 23 h. música para todas las edades. De 23 a 3 de la madrugada aumentamos el ritmo. \nColabora: GUSMUSIC-PRO. \nObligatorio el uso de mascarilla.
URL:https://www.sanmartindevaldeiglesias.es/evento/fiesta-de-dj/
LOCATION:Plaza de toros
CATEGORIES:Carnaval
END:VEVENT
BEGIN:VEVENT
DTSTART;TZID=Europe/Madrid:20220306T170000
DTEND;TZID=Europe/Madrid:20220306T233000
DTSTAMP:20260420T093728
CREATED:20220301T122217Z
LAST-MODIFIED:20220303T124134Z
UID:20790-1646586000-1646609400@www.sanmartindevaldeiglesias.es
SUMMARY:Fiesta de Carnaval
DESCRIPTION:DESFILE\, CONCURSO Y FIESTA DE CARNAVAL \nZancudos\, burbujas\, luces\, música \, animación y sorpresas.  Salida desde la Plaza de Toros acompañados por la Unión Musical de San Martín de Valdeiglesias.  Llegada a la carpa de la Plaza de Toros\, donde se desarrollará la fiesta de Carnaval y la entrega de premios. \nCATEGORÍA POR GRUPOS: 1º PREMIO: 300 €. –  2º PREMIO: 200 € – 3º PREMIO: 100 €. \nCATEGORÍA INDIVIDUAL: 1º PREMIO: 150 € – 2º PREMIO: 100 € – 3º PREMIO: 50 € \n(Inscripciones en el Ayuntamiento de San Martín de Valdeiglesias y 30 minutos antes del desfile).
URL:https://www.sanmartindevaldeiglesias.es/evento/fiesta-de-carnaval-2/
LOCATION:Plaza de toros
CATEGORIES:Carnaval
END:VEVENT
BEGIN:VEVENT
DTSTART;VALUE=DATE:20220307
DTEND;VALUE=DATE:20220314
DTSTAMP:20260420T093728
CREATED:20220302T094109Z
LAST-MODIFIED:20220302T094109Z
UID:20798-1646611200-1647215999@www.sanmartindevaldeiglesias.es
SUMMARY:Semana de la Mujer
DESCRIPTION:
URL:https://www.sanmartindevaldeiglesias.es/evento/semana-de-la-mujer-2/
LOCATION:Madrid
CATEGORIES:Bienestar social,Participacion ciudadana
END:VEVENT
BEGIN:VEVENT
DTSTART;TZID=Europe/Madrid:20220312T200000
DTEND;TZID=Europe/Madrid:20220312T213000
DTSTAMP:20260420T093728
CREATED:20220311T091818Z
LAST-MODIFIED:20220311T091818Z
UID:20813-1647115200-1647120600@www.sanmartindevaldeiglesias.es
SUMMARY:Concierto de órgano
DESCRIPTION:
URL:https://www.sanmartindevaldeiglesias.es/evento/concierto-de-organo-2/
LOCATION:Iglesia Parroquial\, Plaza Real\, s/n\, San Martín de Valdeiglesias\, Madrid\, 28680\, España
CATEGORIES:Conciertos
END:VEVENT
BEGIN:VEVENT
DTSTART;VALUE=DATE:20220315
DTEND;VALUE=DATE:20220327
DTSTAMP:20260420T093728
CREATED:20220318T094227Z
LAST-MODIFIED:20220318T094422Z
UID:20821-1647302400-1648339199@www.sanmartindevaldeiglesias.es
SUMMARY:Exposición: Homeira Mazinani
DESCRIPTION:Horario de la exposición: De lunes a viernes de 10 a 15:30 h. Jueves de 16:30 a 19:30 h. y sábados de 11 a 14 h.
URL:https://www.sanmartindevaldeiglesias.es/evento/exposicion-homeira-mazinani/
LOCATION:Centro cultural «La Estación»\, Av. del Ferrocarril\, 14B\,\, San Martín de Valdeiglesias\, Madrid\, 28680\, España
CATEGORIES:Exposiciones
END:VEVENT
BEGIN:VEVENT
DTSTART;TZID=Europe/Madrid:20220319T200000
DTEND;TZID=Europe/Madrid:20220319T213000
DTSTAMP:20260420T093728
CREATED:20220118T125507Z
LAST-MODIFIED:20220118T125507Z
UID:20651-1647720000-1647725400@www.sanmartindevaldeiglesias.es
SUMMARY:Teatro:"Bunker. Una comedia apocalíptica"
DESCRIPTION:Compañía: Circeater \nIntérpretes: Fernando Gil \nEdad recomendada: A partir de 16 años. \nDuración: 80 minutos. \nAutor y dirección: Fernando Gil \nSinopsis: Un altísimo ejecutivo\, experto en marketing\, se ve obligado a escapar de sus «enojadísimos» jefes y decide esconderse en un mega resort de lujo hasta tener preparada la campaña comercial más agresiva y maléfica jamás inventada. Un monstruoso «fake news» que de golpe convenza a toda la humanidad de que el apocalipsis final ya está aquí. Tendrá que parir una idea de auténtico genio para poder saquear las cuentas de las grandes fortunas mundiales. Vendiéndoles el producto más disparatado que se pueda imaginar: Exclusivos bunkers de lujo. ¿Conseguirá nuestro avispado ejecutivo activar «EL APOCALIPSIS WOW! Vaya usted a saber… \nEspectáculo dentro del abono. \nCon la Colaboración de la Red de Teatros de la Comunidad de Madrid. \nVenta de entadas anticipadas en el centro cultural La Estación \, Tel. 91 861 24 20. Horario de lunes a viernes de 10 a 15 h.
URL:https://www.sanmartindevaldeiglesias.es/evento/teatrobunker-una-comedia-apocaliptica/
LOCATION:Teatro municipal\, Calle Fuente 4\, San Martín de Valdeiglesias\, Madrid\, 28680\, España
CATEGORIES:Teatro
END:VEVENT
BEGIN:VEVENT
DTSTART;TZID=Europe/Madrid:20220325T200000
DTEND;TZID=Europe/Madrid:20220325T213000
DTSTAMP:20260420T093728
CREATED:20220324T174440Z
LAST-MODIFIED:20220324T175636Z
UID:20839-1648238400-1648243800@www.sanmartindevaldeiglesias.es
SUMMARY:Presentación del libro
DESCRIPTION:Presentación del libro: San Martín de Valdeiglesias\, capital vitivinícola del suroeste madrileño. D. Lorenzo Gómez Gómez\nPrologo: Dª Mercedes Zarzalejo Carbajo (Alcaldesa de San Martín de Valdeiglesias) y D. Antonio Reguilón (Presidente de C.R.D.O. Vinos de Madrid).
URL:https://www.sanmartindevaldeiglesias.es/evento/presentacion-del-libro-2/
LOCATION:Teatro municipal\, Calle Fuente 4\, San Martín de Valdeiglesias\, Madrid\, 28680\, España
CATEGORIES:Desarrollo económico,Participacion ciudadana
END:VEVENT
BEGIN:VEVENT
DTSTART;TZID=Europe/Madrid:20220331T190000
DTEND;TZID=Europe/Madrid:20220331T210000
DTSTAMP:20260420T093728
CREATED:20220405T083313Z
LAST-MODIFIED:20220405T105535Z
UID:20848-1648753200-1648760400@www.sanmartindevaldeiglesias.es
SUMMARY:Pleno ordinario
DESCRIPTION:El Ayuntamiento de San Martín de Valdeiglesias celebrará sesión ordinaria\, a las 19 horas del día 31 de marzo de 2022 con el siguiente \nORDEN DEL DÍA: \nA) PARTE RESOLUTIVA \n\nAprobación del acta de la sesión anterior.\nExpediente 1085/2022. Cargos públicos (Nombramiento o cese). Toma de posesión de la concejala Mariela Gómez.\nExpediente 1062/2022. Modificación Impuesto Plusvalía.\n\nB) ACTIVIDAD DE CONTROL \n4.  Expediente 782/2022. Información Económico-Financiera seguimiento plan de ajuste 4º trimestre 2021. \n5. Expediente 612/2022. Plan de Tesorería informe trimestral morosidad 4º trimestre 2021. \n          6. Expediente 623/2022. Información económico-Financiera ejecuciones trimestrales del presupuesto 4º trimestre. \n7. Dar cuenta del acuerdo de la Comisión de urbanismo de Madrid. \n8. Libro de Decretos del día 24 de enero del 2022 al día 27 de marzo de 2022. \nC) RUEGOS Y PREGUNTAS 
URL:https://www.sanmartindevaldeiglesias.es/evento/pleno-ordinario-33/
LOCATION:Ayuntamiento
CATEGORIES:Pleno
END:VEVENT
BEGIN:VEVENT
DTSTART;TZID=Europe/Madrid:20220409T200000
DTEND;TZID=Europe/Madrid:20220409T213000
DTSTAMP:20260420T093728
CREATED:20220118T133855Z
LAST-MODIFIED:20220118T133855Z
UID:20653-1649534400-1649539800@www.sanmartindevaldeiglesias.es
SUMMARY:Teatro:"Passport"
DESCRIPTION:Producciones Yllana. \nIntérpretes: En alternancia: Rubén Hernández\, César Maroto\, Edu Ferrés\, Susana Cortés\, Estefanía Rocamora. \nEdad recomendada: Todos los públicos. \nDuración: 90 minutos. \nAutor y dirección: Yllana \nSinopsis: Yllana lleva viajando internacionalmente gran parte de su existencia y\, durante todos esos viajes\, han surgido un sinfín de anécdotas divertidísimas que queríamos plasmar en el show. \nPASSPORT es un homenaje a las compañías de teatro y sus divertidas aventuras por el mundo. Con sketches de otros espectáculos y nuevos\, en PASSPORT\, cuatro cómicos nos llevan a un delirante viaje por los cinco continentes\, además de retratar de forma disparatada\, las mil y una anécdotas en sus odiseas en aeropuertos\, estaciones de tren\, furgonetas… ¡¡Comicidad vertiginosa sin palabras para todos los públicos!! \n 
URL:https://www.sanmartindevaldeiglesias.es/evento/teatropassport/
LOCATION:Teatro municipal\, Calle Fuente 4\, San Martín de Valdeiglesias\, Madrid\, 28680\, España
CATEGORIES:Teatro
END:VEVENT
BEGIN:VEVENT
DTSTART;VALUE=DATE:20220422
DTEND;VALUE=DATE:20220518
DTSTAMP:20260420T093728
CREATED:20220422T123401Z
LAST-MODIFIED:20220422T124838Z
UID:20873-1650585600-1652831999@www.sanmartindevaldeiglesias.es
SUMMARY:Exposición: Madrid escenario de cine fantástico
DESCRIPTION:Del 22 de abril al 27 de mayo. Centro cultural La Estación. Horario de Lunes a viernes de 10 a 15:30 h. y jueves de 16:30 a 19:30 h. Domingo 24 de abril de 18 a 21 h.
URL:https://www.sanmartindevaldeiglesias.es/evento/exposicion-madrid-escenario-de-cine-fantastico/
LOCATION:Centro cultural «La Estación»\, Av. del Ferrocarril\, 14B\,\, San Martín de Valdeiglesias\, Madrid\, 28680\, España
CATEGORIES:Exposiciones
END:VEVENT
BEGIN:VEVENT
DTSTART;TZID=Europe/Madrid:20220430T183000
DTEND;TZID=Europe/Madrid:20220430T203000
DTSTAMP:20260420T093728
CREATED:20220425T101520Z
LAST-MODIFIED:20220427T081313Z
UID:20877-1651343400-1651350600@www.sanmartindevaldeiglesias.es
SUMMARY:Corrida de toros
DESCRIPTION:
URL:https://www.sanmartindevaldeiglesias.es/evento/corrida-de-toros-2/
LOCATION:Plaza de toros
CATEGORIES:Fiestas
END:VEVENT
BEGIN:VEVENT
DTSTART;TZID=Europe/Madrid:20220505T160000
DTEND;TZID=Europe/Madrid:20220505T220000
DTSTAMP:20260420T093728
CREATED:20220428T163806Z
LAST-MODIFIED:20220428T163806Z
UID:20898-1651766400-1651788000@www.sanmartindevaldeiglesias.es
SUMMARY:Mi primera ecografía
DESCRIPTION:
URL:https://www.sanmartindevaldeiglesias.es/evento/mi-primera-ecografia/
LOCATION:Plaza Real\, Plaza Real Nº1\, San Martín de Valdeiglesias\, Madrid\, 28680\, España
CATEGORIES:Salud
END:VEVENT
BEGIN:VEVENT
DTSTART;TZID=Europe/Madrid:20220511T100000
DTEND;TZID=Europe/Madrid:20220511T140000
DTSTAMP:20260420T093728
CREATED:20220505T102615Z
LAST-MODIFIED:20220505T103437Z
UID:20902-1652263200-1652277600@www.sanmartindevaldeiglesias.es
SUMMARY:Limpieza pantano de San Juan
DESCRIPTION:
URL:https://www.sanmartindevaldeiglesias.es/evento/limpieza-pantano-de-san-juan/
LOCATION:Playa de la Virgen de la Nueva
CATEGORIES:Medio Ambiente
END:VEVENT
BEGIN:VEVENT
DTSTART;TZID=Europe/Madrid:20220521T200000
DTEND;TZID=Europe/Madrid:20220521T213000
DTSTAMP:20260420T093728
CREATED:20220519T155740Z
LAST-MODIFIED:20220519T155751Z
UID:20945-1653163200-1653168600@www.sanmartindevaldeiglesias.es
SUMMARY:Teatro: Arreastory
DESCRIPTION:
URL:https://www.sanmartindevaldeiglesias.es/evento/teatro-arreastory/
LOCATION:Teatro municipal\, Calle Fuente 4\, San Martín de Valdeiglesias\, Madrid\, 28680\, España
CATEGORIES:Teatro
END:VEVENT
BEGIN:VEVENT
DTSTART;TZID=Europe/Madrid:20220526T200000
DTEND;TZID=Europe/Madrid:20220526T220000
DTSTAMP:20260420T093728
CREATED:20220525T114919Z
LAST-MODIFIED:20220525T114931Z
UID:20974-1653595200-1653602400@www.sanmartindevaldeiglesias.es
SUMMARY:Pleno ordinario
DESCRIPTION:El Ayuntamiento de San Martín de Valdeiglesias celebrará sesión ordinaria del pleno\, a las 20:00 h. del día 26 de mayo de 2022\, con el siguiente ORDEN DEL DÍA: \nPARTE RESOLUTIVA. \n\n Aprobación del acta de la sesión anterior.\nExpediente 3043/2022\, Modificación de la ordenanza 26 matrimonios civiles.\nExpediente 5041/2021\, aprobación ordenanza recogida de animales.\nExpediente 2275/2022\, aprobación encomienda de gestión a la FNMT\n\nACTIVIDAD DE CONTROL. \n\nEXPEDIENTE 2320/2022 Dación de cuentas.  Informes trimestrales morosidad 1TT 2022.\nEXPEDIENTE 2107/2022. Dación de cuentas.  Seguimiento del plan de ajuste 1 trimestre 2022.\nEXPEDIENTE 2522/2022. Dación de cuentas. Ejecuciones trimestrales del presupuesto 1TT 2022.\nDar cuenta del expediente 2378/2022. Cierre y liquidación del presupuesto.\nLibro de decretos desde el día 28 de marzo de 2022 al 22 de mayo de 2022.\n\nRUEGOS Y PREGUNTAS.
URL:https://www.sanmartindevaldeiglesias.es/evento/pleno-ordinario-34/
LOCATION:Ayuntamiento
END:VEVENT
BEGIN:VEVENT
DTSTART;TZID=Europe/Madrid:20220527T080000
DTEND;TZID=Europe/Madrid:20220603T170000
DTSTAMP:20260420T093728
CREATED:20220525T122300Z
LAST-MODIFIED:20220525T122300Z
UID:20979-1653638400-1654275600@www.sanmartindevaldeiglesias.es
SUMMARY:Exposición pintura
DESCRIPTION:Del 27 de mayo al 5 de junio. Sala de exposiciones de La Estación.  Horario de lunes a viernes de 10 a 14 y de 19 a 21 h. Inauguración viernes 27\, a las 19 h.
URL:https://www.sanmartindevaldeiglesias.es/evento/exposicion-pintura/
LOCATION:Centro cultural «La Estación»\, Av. del Ferrocarril\, 14B\,\, San Martín de Valdeiglesias\, Madrid\, 28680\, España
CATEGORIES:Exposiciones
END:VEVENT
BEGIN:VEVENT
DTSTART;TZID=Europe/Madrid:20220527T180000
DTEND;TZID=Europe/Madrid:20220527T193000
DTSTAMP:20260420T093728
CREATED:20220519T155233Z
LAST-MODIFIED:20220519T155233Z
UID:20942-1653674400-1653679800@www.sanmartindevaldeiglesias.es
SUMMARY:Musical: Tributo a El Rey León
DESCRIPTION:Venta de entradas en el Ayuntamiento o en la web woutick.es (abre ventana nueva)
URL:https://www.sanmartindevaldeiglesias.es/evento/musical-tributo-a-el-rey-leon/
LOCATION:Teatro municipal\, Calle Fuente 4\, San Martín de Valdeiglesias\, Madrid\, 28680\, España
CATEGORIES:Música,Teatro
END:VEVENT
BEGIN:VEVENT
DTSTART;VALUE=DATE:20220528
DTEND;VALUE=DATE:20220530
DTSTAMP:20260420T093728
CREATED:20220311T092734Z
LAST-MODIFIED:20220520T093201Z
UID:20816-1653696000-1653868799@www.sanmartindevaldeiglesias.es
SUMMARY:Feria flamenca
DESCRIPTION:SÁBADO 28 DE MAYO \n\n12 h. Inauguración con brindis.\n13 h. Master Class de Rumbas\n14 h. Concurso de Rumbas\n18 h. Actuación Grupo Flamenco «Arte & Compás»\n19 h. Master class de Sevillanas.\n20 h. Actuación «Agrupación Cultural San Eugenio».\n21 h. Final Champion League (Leaverpool /Real Madrid)\n23 h. Actuación asociación «Corretejeros».\n00:00 Concurso Traje Flamenco.\n\nDOMINGO 29 DE MAYO \n\n00:30 h. Actuación en directo «Jonathan España».\n12:00 h. Concurso de Sevillanas.\n13:00 h. Actuación Asociación «Corretejeros».\n14:00 h. Concurso de mantones.\n17:00 h. Flamenco con Jonathan España.\n18:00 h. Clausura de la Feria Flamenca.\n\nAgradecimientos a: \nJonathan España.\nAsociación Corretejeros (San Martín de Valdeiglesias).\nGrupo de Flamenco & Compás (El Tiemblo).\nAgrupación Cultural San Eugenio (Navas del Rey). \n 
URL:https://www.sanmartindevaldeiglesias.es/evento/feria-flamenca-3/
LOCATION:Plaza de toros
CATEGORIES:Conciertos,Desarrollo económico
END:VEVENT
BEGIN:VEVENT
DTSTART;TZID=Europe/Madrid:20220602T180000
DTEND;TZID=Europe/Madrid:20220602T200000
DTSTAMP:20260420T093728
CREATED:20220525T123505Z
LAST-MODIFIED:20220525T123526Z
UID:20984-1654192800-1654200000@www.sanmartindevaldeiglesias.es
SUMMARY:UNED: Formación extensión universitaria
DESCRIPTION:
URL:https://www.sanmartindevaldeiglesias.es/evento/uned-jornada/
LOCATION:Castillo de la Coracera\, Calle Castillo\, San Martín de Valdeiglesias\, Madrid\, 28680\, España
CATEGORIES:Educación
END:VEVENT
BEGIN:VEVENT
DTSTART;VALUE=DATE:20220603
DTEND;VALUE=DATE:20220606
DTSTAMP:20260420T093728
CREATED:20220513T092233Z
LAST-MODIFIED:20220603T084119Z
UID:20925-1654214400-1654473599@www.sanmartindevaldeiglesias.es
SUMMARY:Feria del Vino
DESCRIPTION:Descargar programa completo (.pdf) \n 
URL:https://www.sanmartindevaldeiglesias.es/evento/feria-del-vino-2/
LOCATION:Plaza de toros
CATEGORIES:Desarrollo económico,Medio Ambiente
END:VEVENT
BEGIN:VEVENT
DTSTART;TZID=Europe/Madrid:20220610T190000
DTEND;TZID=Europe/Madrid:20220610T210000
DTSTAMP:20260420T093728
CREATED:20220610T121451Z
LAST-MODIFIED:20220610T121451Z
UID:21065-1654887600-1654894800@www.sanmartindevaldeiglesias.es
SUMMARY:Presentación obras de Inma Martín
DESCRIPTION:
URL:https://www.sanmartindevaldeiglesias.es/evento/presentacion-obras-de-inma-martin/
LOCATION:Café-Teatro\, Plaza del Rucero\, San Martín de Valdeiglesias\, Madrid\, 28680\, España
CATEGORIES:Participacion ciudadana
END:VEVENT
BEGIN:VEVENT
DTSTART;TZID=Europe/Madrid:20220611T110000
DTEND;TZID=Europe/Madrid:20220611T183000
DTSTAMP:20260420T093728
CREATED:20220610T104445Z
LAST-MODIFIED:20220610T104445Z
UID:21043-1654945200-1654972200@www.sanmartindevaldeiglesias.es
SUMMARY:I Memorial J. M.Manzano
DESCRIPTION: 
URL:https://www.sanmartindevaldeiglesias.es/evento/i-memorial-j-m-manzano/
LOCATION:Patronato municipal de deportes\, Calle salamanca 17\, San Martín de valdeiglesias\, Madrid\, 28680\, España
CATEGORIES:Deportes
END:VEVENT
BEGIN:VEVENT
DTSTART;TZID=Europe/Madrid:20220611T200000
DTEND;TZID=Europe/Madrid:20220611T213000
DTSTAMP:20260420T093728
CREATED:20220610T102324Z
LAST-MODIFIED:20220610T102324Z
UID:21041-1654977600-1654983000@www.sanmartindevaldeiglesias.es
SUMMARY:Exhibición patinaje
DESCRIPTION:
URL:https://www.sanmartindevaldeiglesias.es/evento/exhibicion-patinaje/
LOCATION:Patronato municipal de deportes\, Calle salamanca 17\, San Martín de valdeiglesias\, Madrid\, 28680\, España
CATEGORIES:Deportes
END:VEVENT
BEGIN:VEVENT
DTSTART;TZID=Europe/Madrid:20220618T140000
DTEND;TZID=Europe/Madrid:20220618T220000
DTSTAMP:20260420T093728
CREATED:20220525T122835Z
LAST-MODIFIED:20220525T122835Z
UID:20981-1655560800-1655589600@www.sanmartindevaldeiglesias.es
SUMMARY:Rally sprint S M Valdeiglesias
DESCRIPTION:
URL:https://www.sanmartindevaldeiglesias.es/evento/rally-sprint-s-m-valdeiglesias/
LOCATION:Madrid
CATEGORIES:Deportes
END:VEVENT
BEGIN:VEVENT
DTSTART;TZID=Europe/Madrid:20220620T200000
DTEND;TZID=Europe/Madrid:20220620T213000
DTSTAMP:20260420T093728
CREATED:20220615T083620Z
LAST-MODIFIED:20220615T083620Z
UID:21091-1655755200-1655760600@www.sanmartindevaldeiglesias.es
SUMMARY:Audición aulas percusión y violín
DESCRIPTION:
URL:https://www.sanmartindevaldeiglesias.es/evento/audicion-aulas-percusion-y-violin/
LOCATION:Plaza de toros
CATEGORIES:Conciertos
END:VEVENT
BEGIN:VEVENT
DTSTART;TZID=Europe/Madrid:20220621T200000
DTEND;TZID=Europe/Madrid:20220621T213000
DTSTAMP:20260420T093728
CREATED:20220615T083753Z
LAST-MODIFIED:20220615T083753Z
UID:21093-1655841600-1655847000@www.sanmartindevaldeiglesias.es
SUMMARY:Audición Técnicas de Canto
DESCRIPTION:
URL:https://www.sanmartindevaldeiglesias.es/evento/audicion-tecnicas-de-canto/
LOCATION:Plaza de toros
CATEGORIES:Conciertos
END:VEVENT
BEGIN:VEVENT
DTSTART;TZID=Europe/Madrid:20220622T200000
DTEND;TZID=Europe/Madrid:20220622T213000
DTSTAMP:20260420T093728
CREATED:20220615T083936Z
LAST-MODIFIED:20220615T083936Z
UID:21095-1655928000-1655933400@www.sanmartindevaldeiglesias.es
SUMMARY:Audición Piano y clarinete
DESCRIPTION:
URL:https://www.sanmartindevaldeiglesias.es/evento/audicion-piano-y-clarinete/
LOCATION:Plaza de toros
CATEGORIES:Conciertos
END:VEVENT
END:VCALENDAR