BEGIN:VCALENDAR
VERSION:2.0
PRODID:-//San Martín de Valdeiglesias - ECPv6.15.20//NONSGML v1.0//EN
CALSCALE:GREGORIAN
METHOD:PUBLISH
X-ORIGINAL-URL:https://www.sanmartindevaldeiglesias.es
X-WR-CALDESC:Eventos para San Martín de Valdeiglesias
REFRESH-INTERVAL;VALUE=DURATION:PT1H
X-Robots-Tag:noindex
X-PUBLISHED-TTL:PT1H
BEGIN:VTIMEZONE
TZID:Europe/Madrid
BEGIN:DAYLIGHT
TZOFFSETFROM:+0100
TZOFFSETTO:+0200
TZNAME:CEST
DTSTART:20210328T010000
END:DAYLIGHT
BEGIN:STANDARD
TZOFFSETFROM:+0200
TZOFFSETTO:+0100
TZNAME:CET
DTSTART:20211031T010000
END:STANDARD
BEGIN:DAYLIGHT
TZOFFSETFROM:+0100
TZOFFSETTO:+0200
TZNAME:CEST
DTSTART:20220327T010000
END:DAYLIGHT
BEGIN:STANDARD
TZOFFSETFROM:+0200
TZOFFSETTO:+0100
TZNAME:CET
DTSTART:20221030T010000
END:STANDARD
BEGIN:DAYLIGHT
TZOFFSETFROM:+0100
TZOFFSETTO:+0200
TZNAME:CEST
DTSTART:20230326T010000
END:DAYLIGHT
BEGIN:STANDARD
TZOFFSETFROM:+0200
TZOFFSETTO:+0100
TZNAME:CET
DTSTART:20231029T010000
END:STANDARD
END:VTIMEZONE
BEGIN:VEVENT
DTSTART;TZID=Europe/Madrid:20220806T220000
DTEND;TZID=Europe/Madrid:20220806T233000
DTSTAMP:20260420T031557
CREATED:20220805T124540Z
LAST-MODIFIED:20220805T124608Z
UID:21261-1659823200-1659828600@www.sanmartindevaldeiglesias.es
SUMMARY:Concierto: Tributo a ABBA
DESCRIPTION:
URL:https://www.sanmartindevaldeiglesias.es/evento/concierto-tributo-a-abba/
LOCATION:Plaza de toros
CATEGORIES:Conciertos
END:VEVENT
BEGIN:VEVENT
DTSTART;TZID=Europe/Madrid:20220811T213000
DTEND;TZID=Europe/Madrid:20220811T230000
DTSTAMP:20260420T031557
CREATED:20220719T102100Z
LAST-MODIFIED:20220719T102100Z
UID:21145-1660253400-1660258800@www.sanmartindevaldeiglesias.es
SUMMARY:Cine: A todo tren. Destino Asturias
DESCRIPTION:
URL:https://www.sanmartindevaldeiglesias.es/evento/cine-a-todo-tren-destino-asturias/
LOCATION:Plaza de toros
CATEGORIES:Cine
END:VEVENT
BEGIN:VEVENT
DTSTART;TZID=Europe/Madrid:20220812T220000
DTEND;TZID=Europe/Madrid:20220812T233000
DTSTAMP:20260420T031557
CREATED:20220513T085945Z
LAST-MODIFIED:20220513T085945Z
UID:20918-1660341600-1660347000@www.sanmartindevaldeiglesias.es
SUMMARY:Concierto: "Danza Invisible + La Guardia"
DESCRIPTION:dia
URL:https://www.sanmartindevaldeiglesias.es/evento/concierto-danza-invisible-la-guardia/
LOCATION:Plaza de toros
CATEGORIES:Conciertos
END:VEVENT
BEGIN:VEVENT
DTSTART;TZID=Europe/Madrid:20220813T220000
DTEND;TZID=Europe/Madrid:20220813T233000
DTSTAMP:20260420T031557
CREATED:20220811T085655Z
LAST-MODIFIED:20220811T085655Z
UID:21275-1660428000-1660433400@www.sanmartindevaldeiglesias.es
SUMMARY:Presentación feria taurina
DESCRIPTION:
URL:https://www.sanmartindevaldeiglesias.es/evento/presentacion-feria-taurina-2/
LOCATION:Plaza Real\, Plaza Real Nº1\, San Martín de Valdeiglesias\, Madrid\, 28680\, España
CATEGORIES:Fiestas
END:VEVENT
BEGIN:VEVENT
DTSTART;TZID=Europe/Madrid:20220818T220000
DTEND;TZID=Europe/Madrid:20220818T233000
DTSTAMP:20260420T031557
CREATED:20220719T102440Z
LAST-MODIFIED:20220818T085948Z
UID:21147-1660860000-1660865400@www.sanmartindevaldeiglesias.es
SUMMARY:Cine: Los Croods 2
DESCRIPTION:
URL:https://www.sanmartindevaldeiglesias.es/evento/cine-los-croods-2/
LOCATION:Plaza de toros
CATEGORIES:Cine
END:VEVENT
BEGIN:VEVENT
DTSTART;TZID=Europe/Madrid:20220819T210000
DTEND;TZID=Europe/Madrid:20220819T220000
DTSTAMP:20260420T031557
CREATED:20220801T113624Z
LAST-MODIFIED:20220801T113624Z
UID:21224-1660942800-1660946400@www.sanmartindevaldeiglesias.es
SUMMARY:Teatro infantil: CHUP CHUP
DESCRIPTION:Compañía: Espectáculos Mandarina.\nEdad recomendada: A partir de 3 años.\nDuración: 50 minutos.\nSINOPSIS: Dos afanados cocineros compiten por conseguir el título de súper chef en un programa de televisión. Par ello\, cada uno\, deberá realizar el plato más sorprenderte y espectacular.\nMagia\, malabares y acrobacia\, un diente de ajo\, aceite y una pizca de sal serán los ingredientes que utilizarán.\nNo sabemos quién de los dos lo conseguirá\, pero lo más seguro\, es\, que toda la familia se divertirá. \n \n 
URL:https://www.sanmartindevaldeiglesias.es/evento/teatro-infantil-chup-chup/
LOCATION:Plaza de toros
CATEGORIES:Teatro
END:VEVENT
BEGIN:VEVENT
DTSTART;TZID=Europe/Madrid:20220819T220000
DTEND;TZID=Europe/Madrid:20220819T233000
DTSTAMP:20260420T031557
CREATED:20220801T114153Z
LAST-MODIFIED:20220819T102728Z
UID:21227-1660946400-1660951800@www.sanmartindevaldeiglesias.es
SUMMARY:Macrodiscoteca familiar hinchable
DESCRIPTION:Macrodiscoteca familiar hinchable. \nPista de baile\, toboganes\, rocódromo\, waypeout\, salto al vacío\, circuitos mixtos\, pista de baloncesto…  Entrada gratuita. \n 
URL:https://www.sanmartindevaldeiglesias.es/evento/macrodiscoteca-familiar-hinchable/
LOCATION:Campo de fútbol
CATEGORIES:Desarrollo económico
END:VEVENT
BEGIN:VEVENT
DTSTART;TZID=Europe/Madrid:20220820T220000
DTEND;TZID=Europe/Madrid:20220820T233000
DTSTAMP:20260420T031557
CREATED:20220801T114635Z
LAST-MODIFIED:20220801T114635Z
UID:21230-1661032800-1661038200@www.sanmartindevaldeiglesias.es
SUMMARY:Gala elección de Misses 2022
DESCRIPTION:Elección de las siguientes Misses: \n\nReina de la vendimia.\nReina de las Fiestas.\nMiss simpatía\nMiss elegancia.\n\nAmenizado con música en directo
URL:https://www.sanmartindevaldeiglesias.es/evento/gala-eleccion-de-misses-2022/
LOCATION:Plaza de la Corredera\, Plaza de la Corredera\, San Martín de Valdeiglesias\, Madrid\, 28680\, España
CATEGORIES:Conciertos,Fiestas
END:VEVENT
BEGIN:VEVENT
DTSTART;TZID=Europe/Madrid:20220822T113000
DTEND;TZID=Europe/Madrid:20220822T203000
DTSTAMP:20260420T031557
CREATED:20220801T115225Z
LAST-MODIFIED:20220801T115225Z
UID:21232-1661167800-1661200200@www.sanmartindevaldeiglesias.es
SUMMARY:Piscina gratuita
DESCRIPTION:Dentro de las actividades de la Semana de la Juventud\, el lunes 22 de agosto\, la entrada a la piscina municipal será gratuita para los jóvenes hasta los 18 años. Habrá actividades\, juegos y música. \n 
URL:https://www.sanmartindevaldeiglesias.es/evento/piscina-gratuita/
LOCATION:Piscina Municipal\, Plaza de los deportes\, San Martín de Valdeiglesias\, Madrid\, 28680\, España
END:VEVENT
BEGIN:VEVENT
DTSTART;TZID=Europe/Madrid:20220823T210000
DTEND;TZID=Europe/Madrid:20220823T223000
DTSTAMP:20260420T031557
CREATED:20220801T115528Z
LAST-MODIFIED:20220801T115528Z
UID:21234-1661288400-1661293800@www.sanmartindevaldeiglesias.es
SUMMARY:Karaoke
DESCRIPTION:Karaoke\, dentro de las actividades de la Semana de la Juventud. \n 
URL:https://www.sanmartindevaldeiglesias.es/evento/karaoke/
LOCATION:Anfiteatro de La Estación\, Calle Fuente\, San Martín de Valdeiglesias\, 28680
CATEGORIES:Conciertos,Participacion ciudadana
END:VEVENT
BEGIN:VEVENT
DTSTART;VALUE=DATE:20220824
DTEND;VALUE=DATE:20220825
DTSTAMP:20260420T031557
CREATED:20220801T115912Z
LAST-MODIFIED:20220801T115912Z
UID:21236-1661299200-1661385599@www.sanmartindevaldeiglesias.es
SUMMARY:Excursión: Puy du Fou (Toledo)
DESCRIPTION:Excursión al parque temático Pay du Fou en Toledo.  Dentro de las actividades de la Semana de la Juventud. \nEstá organizado por Viajes Arribas.
URL:https://www.sanmartindevaldeiglesias.es/evento/excursion-puy-du-fou-toledo/
LOCATION:Madrid
CATEGORIES:Excursión
END:VEVENT
BEGIN:VEVENT
DTSTART;TZID=Europe/Madrid:20220824T190000
DTEND;TZID=Europe/Madrid:20220824T210000
DTSTAMP:20260420T031557
CREATED:20220818T093730Z
LAST-MODIFIED:20220818T102912Z
UID:21289-1661367600-1661374800@www.sanmartindevaldeiglesias.es
SUMMARY:I Torneo Tenis de Mesa
DESCRIPTION:Inscripciones en el Ayuntamiento
URL:https://www.sanmartindevaldeiglesias.es/evento/i-torneo-tenis-de-mesa/
LOCATION:Parque de La Estación\, Avda. del Ferrocarril 14C\, San Martín de Valdeiglesias\, Madrid\, 28680\, España
END:VEVENT
BEGIN:VEVENT
DTSTART;TZID=Europe/Madrid:20220825T210000
DTEND;TZID=Europe/Madrid:20220825T220000
DTSTAMP:20260420T031557
CREATED:20220801T120417Z
LAST-MODIFIED:20220801T120417Z
UID:21238-1661461200-1661464800@www.sanmartindevaldeiglesias.es
SUMMARY:Escape Room
DESCRIPTION:Dentro de las actividades de la Semana de Juventud. \nESCAPE ROOM. Es una actividad en el que los jugadores son «encerrados dentro de una habitación» en que para ganar la partida tendrán que ir resolviendo diferentes pruebas para conseguir avanzar en la historia y terminarla. \nPARA GRUPOS DE 10 PERSONAS. \nActividad gratuita. \nInscripciones en el Ayuntamiento.
URL:https://www.sanmartindevaldeiglesias.es/evento/escape-room/
LOCATION:Centro cultural «La Estación»\, Av. del Ferrocarril\, 14B\,\, San Martín de Valdeiglesias\, Madrid\, 28680\, España
CATEGORIES:Fiestas
END:VEVENT
BEGIN:VEVENT
DTSTART;TZID=Europe/Madrid:20220826T213000
DTEND;TZID=Europe/Madrid:20220826T223000
DTSTAMP:20260420T031557
CREATED:20220801T121456Z
LAST-MODIFIED:20220801T121520Z
UID:21240-1661549400-1661553000@www.sanmartindevaldeiglesias.es
SUMMARY:Teatro infantil: Un día con el abuelo
DESCRIPTION:Compañía: Triguiñuelas.\nEdad recomendada: 3-10 público familiar.\nDuración: 60 minutos.\nSINOPSIS: Melisa\, Lola y Diana (ME-LO-DIA) son musiexploradoras. Como son muy curiosas y les encantada la música\, se dedican a viajar por el mundo en busca de nuevos sonidos e historias que conocer. Pero un día\, preparando un concierto\, se dieron cuenta de que les faltaba por saber cómo era la música de la persona que tenía más cerca: el abuelo. \nCon los ojos y los oídos muy abiertos\, las musiexploradoras visitan al abuelo para descubrir qué música le acompañaba a lo largo de un día cuando él era joven. Entre canción y canción\, les contará su historia y les mostrará muchos nuevos instrumentos\, llegando a la conclusión de que la vida giraba\, y lo sigue haciendo\, en torno a la música.
URL:https://www.sanmartindevaldeiglesias.es/evento/teatro-infantil-un-dia-con-el-abuelo/
LOCATION:Plaza de toros
CATEGORIES:Conciertos
END:VEVENT
BEGIN:VEVENT
DTSTART;TZID=Europe/Madrid:20220828T213000
DTEND;TZID=Europe/Madrid:20220828T230000
DTSTAMP:20260420T031557
CREATED:20220801T122020Z
LAST-MODIFIED:20220801T122020Z
UID:21242-1661722200-1661727600@www.sanmartindevaldeiglesias.es
SUMMARY:Día del mayor: Ángel de Vega
DESCRIPTION:Dentro del día del Mayor\,  la Plaza de Toros albergará la actuación de Ángel Manuel de Vega que une  antología del mayo y lo mejor de la copla.
URL:https://www.sanmartindevaldeiglesias.es/evento/dia-del-mayor-angel-de-vega/
LOCATION:Plaza de toros
CATEGORIES:Conciertos
END:VEVENT
BEGIN:VEVENT
DTSTART;TZID=Europe/Madrid:20220902T230000
DTEND;TZID=Europe/Madrid:20220902T233000
DTSTAMP:20260420T031557
CREATED:20220801T122346Z
LAST-MODIFIED:20220801T122346Z
UID:21244-1662159600-1662161400@www.sanmartindevaldeiglesias.es
SUMMARY:Gymkana nocturna
DESCRIPTION:Gymkana nocturna. Sé el primero de pasar todas la pruebas. \n 
URL:https://www.sanmartindevaldeiglesias.es/evento/gymkana-nocturna-2/
LOCATION:Plaza Real\, Plaza Real Nº1\, San Martín de Valdeiglesias\, Madrid\, 28680\, España
CATEGORIES:Participacion ciudadana
END:VEVENT
BEGIN:VEVENT
DTSTART;VALUE=DATE:20220903
DTEND;VALUE=DATE:20220905
DTSTAMP:20260420T031557
CREATED:20220801T123040Z
LAST-MODIFIED:20220801T124904Z
UID:21246-1662163200-1662335999@www.sanmartindevaldeiglesias.es
SUMMARY:Tirada al plato
DESCRIPTION:Tirada al plato\, organizado por la Sociedad de Cazadores. \n 
URL:https://www.sanmartindevaldeiglesias.es/evento/tirada-al-plato/
LOCATION:Madrid
END:VEVENT
BEGIN:VEVENT
DTSTART;TZID=Europe/Madrid:20220903T120000
DTEND;TZID=Europe/Madrid:20220903T130000
DTSTAMP:20260420T031557
CREATED:20220830T100746Z
LAST-MODIFIED:20220902T123603Z
UID:21300-1662206400-1662210000@www.sanmartindevaldeiglesias.es
SUMMARY:Concierto: A Villa Voz (Aplazado)
DESCRIPTION:
URL:https://www.sanmartindevaldeiglesias.es/evento/concierto-a-villa-voz-3/
LOCATION:Iglesia Parroquial\, Plaza Real\, s/n\, San Martín de Valdeiglesias\, Madrid\, 28680\, España
CATEGORIES:Conciertos
END:VEVENT
BEGIN:VEVENT
DTSTART;TZID=Europe/Madrid:20220903T230000
DTEND;TZID=Europe/Madrid:20220904T010000
DTSTAMP:20260420T031557
CREATED:20220610T112619Z
LAST-MODIFIED:20220610T112619Z
UID:21062-1662246000-1662253200@www.sanmartindevaldeiglesias.es
SUMMARY:Concierto: Homenaje Héroes del Silencio
DESCRIPTION:
URL:https://www.sanmartindevaldeiglesias.es/evento/concierto-homenaje-heroes-del-silencio/
LOCATION:Plaza de toros
CATEGORIES:Conciertos
END:VEVENT
BEGIN:VEVENT
DTSTART;TZID=Europe/Madrid:20220904T210000
DTEND;TZID=Europe/Madrid:20220904T223000
DTSTAMP:20260420T031557
CREATED:20220801T123314Z
LAST-MODIFIED:20220801T123314Z
UID:21248-1662325200-1662330600@www.sanmartindevaldeiglesias.es
SUMMARY:Festival de Danza y Folclore
DESCRIPTION:Festival de Danza y Folclore.
URL:https://www.sanmartindevaldeiglesias.es/evento/festival-de-danza-y-folclore-2/
LOCATION:Plaza de toros
CATEGORIES:Danza
END:VEVENT
BEGIN:VEVENT
DTSTART;VALUE=DATE:20220906
DTEND;VALUE=DATE:20220907
DTSTAMP:20260420T031557
CREATED:20220801T123456Z
LAST-MODIFIED:20220801T123456Z
UID:21250-1662422400-1662508799@www.sanmartindevaldeiglesias.es
SUMMARY:Día del artista Local
DESCRIPTION:
URL:https://www.sanmartindevaldeiglesias.es/evento/dia-del-artista-local-2/
LOCATION:Madrid
CATEGORIES:Conciertos,Exposiciones,Participacion ciudadana
END:VEVENT
BEGIN:VEVENT
DTSTART;TZID=Europe/Madrid:20220906T210000
DTEND;TZID=Europe/Madrid:20220906T210000
DTSTAMP:20260420T031557
CREATED:20220801T124302Z
LAST-MODIFIED:20220801T124609Z
UID:21252-1662498000-1662498000@www.sanmartindevaldeiglesias.es
SUMMARY:Night Family Color
DESCRIPTION:¡Corre\,  mánchate y disfruta! \nVen de blanco. Entrada gratuita. \nSábado 6 de septiembre.  21 h.
URL:https://www.sanmartindevaldeiglesias.es/evento/night-family-color/
LOCATION:Plaza de toros
CATEGORIES:Fiestas
END:VEVENT
BEGIN:VEVENT
DTSTART;VALUE=DATE:20220907
DTEND;VALUE=DATE:20220913
DTSTAMP:20260420T031557
CREATED:20220905T130003Z
LAST-MODIFIED:20220905T130003Z
UID:21331-1662508800-1663027199@www.sanmartindevaldeiglesias.es
SUMMARY:Fiestas Patronales
DESCRIPTION:Del 7 al 12 de septiembre  Fiestas Patronales.  (Ver programa)
URL:https://www.sanmartindevaldeiglesias.es/evento/fiestas-patronales-2/
LOCATION:Madrid
CATEGORIES:Fiestas
END:VEVENT
BEGIN:VEVENT
DTSTART;TZID=Europe/Madrid:20220916T000000
DTEND;TZID=Europe/Madrid:20220929T235900
DTSTAMP:20260420T031557
CREATED:20220916T075734Z
LAST-MODIFIED:20220916T103203Z
UID:21380-1663286400-1664495940@www.sanmartindevaldeiglesias.es
SUMMARY:Exposición: Avechuchos
DESCRIPTION:Exposición de la artista plástica Nana de la Rocha\, compuesta por figuras de pájaros realizadas en papel maché. \nHorario de lunes a viernes de 10:30 a 14:30 h. y de 16:30 a 18:30 h.
URL:https://www.sanmartindevaldeiglesias.es/evento/exposicion-avechuchos/
LOCATION:Centro cultural «La Estación»\, Av. del Ferrocarril\, 14B\,\, San Martín de Valdeiglesias\, Madrid\, 28680\, España
CATEGORIES:Exposiciones
END:VEVENT
BEGIN:VEVENT
DTSTART;TZID=Europe/Madrid:20220920T190000
DTEND;TZID=Europe/Madrid:20220920T203000
DTSTAMP:20260420T031557
CREATED:20220914T084807Z
LAST-MODIFIED:20220914T121006Z
UID:21372-1663700400-1663705800@www.sanmartindevaldeiglesias.es
SUMMARY:Uned: Jornada de Puertas Abiertas
DESCRIPTION:
URL:https://www.sanmartindevaldeiglesias.es/evento/uned-jornada-puertas-abiertas/
LOCATION:Casa de la Cultura (antiguas escuelas)\, C/ Fuente\, 4\, San Martín de Valdeiglesias\, Madrid\, 28680\, España
CATEGORIES:Educación
END:VEVENT
BEGIN:VEVENT
DTSTART;TZID=Europe/Madrid:20220925T173000
DTEND;TZID=Europe/Madrid:20220925T190000
DTSTAMP:20260420T031557
CREATED:20220922T104816Z
LAST-MODIFIED:20220922T104826Z
UID:21416-1664127000-1664132400@www.sanmartindevaldeiglesias.es
SUMMARY:Musical infantil: "Hablemos de Bruno"
DESCRIPTION:Musical tributo a la película de Disney «Encanto».\nEste musical cuenta la historia de MIrabel y su fantástica familia\, que viven en una mágica casita\, que ha dotado a los miembros de la familia de un don único\, desde la superfuerza\, al poder de curar.  A todos\, menos a Mirabel…\nApto para los públicos. \nVenta de entradas anticipadas en el Ayuntamiento y a través de la plataforma online Woutick.es
URL:https://www.sanmartindevaldeiglesias.es/evento/musican-infantil-hablemos-de-bruno/
LOCATION:Teatro municipal\, Calle Fuente 4\, San Martín de Valdeiglesias\, Madrid\, 28680\, España
CATEGORIES:Música
END:VEVENT
BEGIN:VEVENT
DTSTART;TZID=Europe/Madrid:20220926T120000
DTEND;TZID=Europe/Madrid:20220926T130000
DTSTAMP:20260420T031557
CREATED:20221006T090526Z
LAST-MODIFIED:20221006T101609Z
UID:21450-1664193600-1664197200@www.sanmartindevaldeiglesias.es
SUMMARY:Pleno extraordinario
DESCRIPTION:El Ayuntamiento de San Martín de Valdeiglesias\, celebrará sesión plenaria EXTRAORDINARIA\, el día 26 de septiembre a las 12:00 h\, con el siguiente ORDEN DEL DÍA: \n\nDación de cuenta mediante un informe de Tesorería de todos los gastos de abogados y procuradores desde el comienzo del mandato. Para dicha dación\, se solicita copia de todas las facturas\, propuestas de gasto e informes de intervención y secretaría de cada una de dichas factura.\nDación de cuenta mediante copia de los decretos de nombramiento de abogados y procuradores municipales.\nInforme de secretaría de las competencias que actualmente tiene la Junta de Gobierno Local\, como así se ha solicitado ya por este grupo mediante registro de entrada de petición expresa por sede electrónica.\nDación de cuenta de todos los contratos firmador para el desarrollo de las próximas fiestas patronales.\nCopia de las actas de inspección de la piscina municipal y copia del expediente de contratación del personal de enfermería.
URL:https://www.sanmartindevaldeiglesias.es/evento/pleno-extraordinario-22/
LOCATION:Madrid
CATEGORIES:Pleno
END:VEVENT
BEGIN:VEVENT
DTSTART;TZID=Europe/Madrid:20220928T103000
DTEND;TZID=Europe/Madrid:20220928T120000
DTSTAMP:20260420T031557
CREATED:20220922T105514Z
LAST-MODIFIED:20220922T105514Z
UID:21420-1664361000-1664366400@www.sanmartindevaldeiglesias.es
SUMMARY:Taller plantas medicinales
DESCRIPTION:Talleres sobre plantas medicinales\, dirigido a personas de más de 50 años. Información e inscripciones a través del Ayuntamiento de San Martín de Valdeiglesias. Gratuito.
URL:https://www.sanmartindevaldeiglesias.es/evento/taller-plantas-medicinales/
LOCATION:Centro de ocio de la Tercera Edad\, Avda. Félix Rodríguez de la Fuente\,\, San Martín de Valdeiglesias\, Madrid\, 28680\, España
CATEGORIES:Participacion ciudadana
END:VEVENT
BEGIN:VEVENT
DTSTART;TZID=Europe/Madrid:20220929T200000
DTEND;TZID=Europe/Madrid:20220929T220000
DTSTAMP:20260420T031557
CREATED:20221006T085832Z
LAST-MODIFIED:20221006T085832Z
UID:21448-1664481600-1664488800@www.sanmartindevaldeiglesias.es
SUMMARY:Pleno ordinario
DESCRIPTION:El AYUNTAMIENTO DE SAN MARTÍN DE VALDEIGLESIAS \nCelebrará sesión ordinaria del Pleno\, l día 29 de septiembre\, a las 20 h. con el siguiente ORDEN DEL DÍA: \nA) PARTE RESOLUTIVA \n\nAprobación del acta de la sesión anterior\nExpediente 5449/2022. Convenios (Aprobación\, Modificación o Extinción) SANEA.\nExpediente 5826/2022. Procedimiento genérico. Aprobación festivos locales 2023.\n\nB) ACTIVIDAD DE CONTROL \n\nExpediente 4494/2022. Plan de Tesorería.\nLibro de decretos desde el día 22-07-2022 al día 25-09-2022.\n\nC) RUEGOS Y PREGUNTAS
URL:https://www.sanmartindevaldeiglesias.es/evento/pleno-ordinario-36/
LOCATION:Ayuntamiento
CATEGORIES:Pleno
END:VEVENT
BEGIN:VEVENT
DTSTART;TZID=Europe/Madrid:20221002T100000
DTEND;TZID=Europe/Madrid:20221002T130000
DTSTAMP:20260420T031557
CREATED:20220930T111343Z
LAST-MODIFIED:20221123T232925Z
UID:21438-1664704800-1664715600@www.sanmartindevaldeiglesias.es
SUMMARY:Marcha de Talismán
DESCRIPTION:XIII MARCHA SOLIDARIA\, Organizada por la Asociación Talismán.  Donativo de la marcha: 5 euros.  Donativo con comida: 10 €.
URL:https://www.sanmartindevaldeiglesias.es/evento/marcha-de-talisman/
LOCATION:Vivero de Talismán\, Avda. del Ferrocarril\, 26\, San Martín de Valdeiglesias\, Madrid\, 28680\, España
CATEGORIES:Bienestar social,Servicios a la ciudadanía
END:VEVENT
END:VCALENDAR