BEGIN:VCALENDAR
VERSION:2.0
PRODID:-//San Martín de Valdeiglesias - ECPv6.15.20//NONSGML v1.0//EN
CALSCALE:GREGORIAN
METHOD:PUBLISH
X-WR-CALNAME:San Martín de Valdeiglesias
X-ORIGINAL-URL:https://www.sanmartindevaldeiglesias.es
X-WR-CALDESC:Eventos para San Martín de Valdeiglesias
REFRESH-INTERVAL;VALUE=DURATION:PT1H
X-Robots-Tag:noindex
X-PUBLISHED-TTL:PT1H
BEGIN:VTIMEZONE
TZID:Europe/Madrid
BEGIN:DAYLIGHT
TZOFFSETFROM:+0100
TZOFFSETTO:+0200
TZNAME:CEST
DTSTART:20160327T010000
END:DAYLIGHT
BEGIN:STANDARD
TZOFFSETFROM:+0200
TZOFFSETTO:+0100
TZNAME:CET
DTSTART:20161030T010000
END:STANDARD
BEGIN:DAYLIGHT
TZOFFSETFROM:+0100
TZOFFSETTO:+0200
TZNAME:CEST
DTSTART:20170326T010000
END:DAYLIGHT
BEGIN:STANDARD
TZOFFSETFROM:+0200
TZOFFSETTO:+0100
TZNAME:CET
DTSTART:20171029T010000
END:STANDARD
BEGIN:DAYLIGHT
TZOFFSETFROM:+0100
TZOFFSETTO:+0200
TZNAME:CEST
DTSTART:20180325T010000
END:DAYLIGHT
BEGIN:STANDARD
TZOFFSETFROM:+0200
TZOFFSETTO:+0100
TZNAME:CET
DTSTART:20181028T010000
END:STANDARD
END:VTIMEZONE
BEGIN:VEVENT
DTSTART;VALUE=DATE:20171016
DTEND;VALUE=DATE:20171111
DTSTAMP:20260421T235125
CREATED:20171010T113117Z
LAST-MODIFIED:20171025T113221Z
UID:9990-1508112000-1510358399@www.sanmartindevaldeiglesias.es
SUMMARY:Exposición de pintura
DESCRIPTION:
URL:https://www.sanmartindevaldeiglesias.es/evento/exposicion-de-pintura/
LOCATION:Centro cultural «La Estación»\, Av. del Ferrocarril\, 14B\,\, San Martín de Valdeiglesias\, Madrid\, 28680\, España
CATEGORIES:Exposiciones
END:VEVENT
BEGIN:VEVENT
DTSTART;TZID=Europe/Madrid:20171104T103000
DTEND;TZID=Europe/Madrid:20171104T150000
DTSTAMP:20260421T235125
CREATED:20171031T121756Z
LAST-MODIFIED:20171031T121756Z
UID:10073-1509791400-1509807600@www.sanmartindevaldeiglesias.es
SUMMARY:Encuentro Mujeres Rurales
DESCRIPTION:
URL:https://www.sanmartindevaldeiglesias.es/evento/encuentro-mujeres-rurales/
LOCATION:Castillo de la Coracera\, Calle Castillo\, San Martín de Valdeiglesias\, Madrid\, 28680\, España
CATEGORIES:Desarrollo económico
END:VEVENT
BEGIN:VEVENT
DTSTART;TZID=Europe/Madrid:20171105T093000
DTEND;TZID=Europe/Madrid:20171105T150000
DTSTAMP:20260421T235125
CREATED:20170927T120304Z
LAST-MODIFIED:20170927T120304Z
UID:9914-1509874200-1509894000@www.sanmartindevaldeiglesias.es
SUMMARY:MTB Trasierra
DESCRIPTION:
URL:https://www.sanmartindevaldeiglesias.es/evento/mtb-trasierra-2/
LOCATION:Madrid
CATEGORIES:Deportes
END:VEVENT
BEGIN:VEVENT
DTSTART;TZID=Europe/Madrid:20171107T100000
DTEND;TZID=Europe/Madrid:20171113T203000
DTSTAMP:20260421T235125
CREATED:20171106T180143Z
LAST-MODIFIED:20171106T180143Z
UID:10093-1510048800-1510605000@www.sanmartindevaldeiglesias.es
SUMMARY:Exp. Libro Infantil y Juvenil
DESCRIPTION:
URL:https://www.sanmartindevaldeiglesias.es/evento/exp-libro-infantil-y-juvenil/
LOCATION:Biblioteca Municipal\, C/ Fuente\, 4\, San Martín de Valdeiglesias\, Madrid\, 28680\, España
CATEGORIES:Exposiciones
END:VEVENT
BEGIN:VEVENT
DTSTART;TZID=Europe/Madrid:20171108T180000
DTEND;TZID=Europe/Madrid:20171108T190000
DTSTAMP:20260421T235125
CREATED:20171106T180406Z
LAST-MODIFIED:20171106T180406Z
UID:10096-1510164000-1510167600@www.sanmartindevaldeiglesias.es
SUMMARY:Cuentacuentos
DESCRIPTION:
URL:https://www.sanmartindevaldeiglesias.es/evento/cuentacuentos-3/
LOCATION:Biblioteca Municipal\, C/ Fuente\, 4\, San Martín de Valdeiglesias\, Madrid\, 28680\, España
CATEGORIES:Educación,Igualdad
END:VEVENT
BEGIN:VEVENT
DTSTART;TZID=Europe/Madrid:20171110T190000
DTEND;TZID=Europe/Madrid:20171110T203000
DTSTAMP:20260421T235125
CREATED:20171030T133017Z
LAST-MODIFIED:20171030T133103Z
UID:10069-1510340400-1510345800@www.sanmartindevaldeiglesias.es
SUMMARY:Presentación del libro
DESCRIPTION:Presentación del libro: «El Castillo de la Coracera. San Martín de Valdeiglesias (Madrid). Historia».  escrito por el cronista de la villa D. Lorenzo Gómez Gómez y editado por la Fundación Castillo de la Coracera.
URL:https://www.sanmartindevaldeiglesias.es/evento/presentacion-del-libro/
LOCATION:Castillo de la Coracera\, Calle Castillo\, San Martín de Valdeiglesias\, Madrid\, 28680\, España
END:VEVENT
BEGIN:VEVENT
DTSTART;TZID=Europe/Madrid:20171110T200000
DTEND;TZID=Europe/Madrid:20171110T210000
DTSTAMP:20260421T235125
CREATED:20171109T134412Z
LAST-MODIFIED:20171109T134412Z
UID:10112-1510344000-1510347600@www.sanmartindevaldeiglesias.es
SUMMARY:Tertulia Taurina
DESCRIPTION:
URL:https://www.sanmartindevaldeiglesias.es/evento/tertulia-taurina/
LOCATION:Ayuntamiento
CATEGORIES:Fiestas
END:VEVENT
BEGIN:VEVENT
DTSTART;TZID=Europe/Madrid:20171111T093000
DTEND;TZID=Europe/Madrid:20171111T110000
DTSTAMP:20260421T235125
CREATED:20171109T134706Z
LAST-MODIFIED:20171109T134737Z
UID:10114-1510392600-1510398000@www.sanmartindevaldeiglesias.es
SUMMARY:Diana floreada
DESCRIPTION:
URL:https://www.sanmartindevaldeiglesias.es/evento/diana-floreada/
LOCATION:Plaza Real\, Plaza Real Nº1\, San Martín de Valdeiglesias\, Madrid\, 28680\, España
CATEGORIES:Fiestas
END:VEVENT
BEGIN:VEVENT
DTSTART;TZID=Europe/Madrid:20171111T110000
DTEND;TZID=Europe/Madrid:20171111T124500
DTSTAMP:20260421T235125
CREATED:20171109T135233Z
LAST-MODIFIED:20171109T135233Z
UID:10116-1510398000-1510404300@www.sanmartindevaldeiglesias.es
SUMMARY:Procesión y misa
DESCRIPTION:
URL:https://www.sanmartindevaldeiglesias.es/evento/procesion-y-misa/
LOCATION:Iglesia Parroquial\, Plaza Real\, s/n\, San Martín de Valdeiglesias\, Madrid\, 28680\, España
END:VEVENT
BEGIN:VEVENT
DTSTART;TZID=Europe/Madrid:20171111T130000
DTEND;TZID=Europe/Madrid:20171111T170000
DTSTAMP:20260421T235125
CREATED:20171109T135614Z
LAST-MODIFIED:20171109T135614Z
UID:10117-1510405200-1510419600@www.sanmartindevaldeiglesias.es
SUMMARY:Calendario solidario
DESCRIPTION:
URL:https://www.sanmartindevaldeiglesias.es/evento/calendario-solidario/
LOCATION:Ayuntamiento
CATEGORIES:Fiestas
END:VEVENT
BEGIN:VEVENT
DTSTART;TZID=Europe/Madrid:20171111T140000
DTEND;TZID=Europe/Madrid:20171111T150000
DTSTAMP:20260421T235125
CREATED:20171109T135848Z
LAST-MODIFIED:20171109T135848Z
UID:10119-1510408800-1510412400@www.sanmartindevaldeiglesias.es
SUMMARY:Desgustación platos típicos
DESCRIPTION:
URL:https://www.sanmartindevaldeiglesias.es/evento/desgustacion-platos-tipicos/
LOCATION:Plaza de la Corredera\, Plaza de la Corredera\, San Martín de Valdeiglesias\, Madrid\, 28680\, España
CATEGORIES:Fiestas
END:VEVENT
BEGIN:VEVENT
DTSTART;TZID=Europe/Madrid:20171111T170000
DTEND;TZID=Europe/Madrid:20171111T190000
DTSTAMP:20260421T235125
CREATED:20171109T140433Z
LAST-MODIFIED:20171109T140433Z
UID:10120-1510419600-1510426800@www.sanmartindevaldeiglesias.es
SUMMARY:Grand Prix
DESCRIPTION:
URL:https://www.sanmartindevaldeiglesias.es/evento/grand-prix/
LOCATION:Plaza de toros
CATEGORIES:Fiestas
END:VEVENT
BEGIN:VEVENT
DTSTART;TZID=Europe/Madrid:20171111T203000
DTEND;TZID=Europe/Madrid:20171111T203000
DTSTAMP:20260421T235125
CREATED:20171109T140747Z
LAST-MODIFIED:20171109T140747Z
UID:10121-1510432200-1510432200@www.sanmartindevaldeiglesias.es
SUMMARY:Teatro: "Tristana"
DESCRIPTION:
URL:https://www.sanmartindevaldeiglesias.es/evento/teatro-tristana/
LOCATION:Teatro municipal\, Calle Fuente 4\, San Martín de Valdeiglesias\, Madrid\, 28680\, España
END:VEVENT
BEGIN:VEVENT
DTSTART;TZID=Europe/Madrid:20171112T170000
DTEND;TZID=Europe/Madrid:20171112T182000
DTSTAMP:20260421T235125
CREATED:20171109T141036Z
LAST-MODIFIED:20171109T141036Z
UID:10123-1510506000-1510510800@www.sanmartindevaldeiglesias.es
SUMMARY:Cine infantil
DESCRIPTION:
URL:https://www.sanmartindevaldeiglesias.es/evento/cine-infantil/
LOCATION:Teatro municipal\, Calle Fuente 4\, San Martín de Valdeiglesias\, Madrid\, 28680\, España
CATEGORIES:Cine
END:VEVENT
BEGIN:VEVENT
DTSTART;TZID=Europe/Madrid:20171115T113000
DTEND;TZID=Europe/Madrid:20171221T193000
DTSTAMP:20260421T235125
CREATED:20171113T084655Z
LAST-MODIFIED:20171113T085158Z
UID:10133-1510745400-1513884600@www.sanmartindevaldeiglesias.es
SUMMARY:Exposición: Apicultura
DESCRIPTION:
URL:https://www.sanmartindevaldeiglesias.es/evento/exposicion-apicultura/
LOCATION:Centro cultural «La Estación»\, Av. del Ferrocarril\, 14B\,\, San Martín de Valdeiglesias\, Madrid\, 28680\, España
CATEGORIES:Exposiciones
END:VEVENT
BEGIN:VEVENT
DTSTART;TZID=Europe/Madrid:20171117T193000
DTEND;TZID=Europe/Madrid:20171117T210000
DTSTAMP:20260421T235125
CREATED:20171113T085745Z
LAST-MODIFIED:20171113T085745Z
UID:10135-1510947000-1510952400@www.sanmartindevaldeiglesias.es
SUMMARY:Tertulia taurina
DESCRIPTION:
URL:https://www.sanmartindevaldeiglesias.es/evento/tertulia-taurina-2/
LOCATION:Ayuntamiento
CATEGORIES:Fiestas
END:VEVENT
BEGIN:VEVENT
DTSTART;TZID=Europe/Madrid:20171118T183000
DTEND;TZID=Europe/Madrid:20171118T195500
DTSTAMP:20260421T235125
CREATED:20171115T083159Z
LAST-MODIFIED:20171115T083159Z
UID:10155-1511029800-1511034900@www.sanmartindevaldeiglesias.es
SUMMARY:Concierto Santa Cecilia
DESCRIPTION:
URL:https://www.sanmartindevaldeiglesias.es/evento/concierto-santa-cecilia/
LOCATION:Teatro municipal\, Calle Fuente 4\, San Martín de Valdeiglesias\, Madrid\, 28680\, España
CATEGORIES:Conciertos
END:VEVENT
BEGIN:VEVENT
DTSTART;TZID=Europe/Madrid:20171122T163000
DTEND;TZID=Europe/Madrid:20171122T173000
DTSTAMP:20260421T235125
CREATED:20171120T135427Z
LAST-MODIFIED:20191011T104000Z
UID:10200-1511368200-1511371800@www.sanmartindevaldeiglesias.es
SUMMARY:Conferencia: Historia del Castillo
DESCRIPTION:
URL:https://www.sanmartindevaldeiglesias.es/evento/conferencia-historia-del-castillo/
LOCATION:Centro de ocio de la Tercera Edad\, Avda. Félix Rodríguez de la Fuente\,\, San Martín de Valdeiglesias\, Madrid\, 28680\, España
CATEGORIES:Educación
END:VEVENT
BEGIN:VEVENT
DTSTART;TZID=Europe/Madrid:20171122T180000
DTEND;TZID=Europe/Madrid:20171122T193000
DTSTAMP:20260421T235125
CREATED:20171117T082259Z
LAST-MODIFIED:20171117T082259Z
UID:10175-1511373600-1511379000@www.sanmartindevaldeiglesias.es
SUMMARY:Taller: Publicidad sexista
DESCRIPTION:
URL:https://www.sanmartindevaldeiglesias.es/evento/taller-publicidad-sexista/
LOCATION:Café-Teatro\, Plaza del Rucero\, San Martín de Valdeiglesias\, Madrid\, 28680\, España
CATEGORIES:Igualdad
END:VEVENT
BEGIN:VEVENT
DTSTART;TZID=Europe/Madrid:20171122T200000
DTEND;TZID=Europe/Madrid:20171122T210000
DTSTAMP:20260421T235125
CREATED:20171115T093924Z
LAST-MODIFIED:20171115T094646Z
UID:10159-1511380800-1511384400@www.sanmartindevaldeiglesias.es
SUMMARY:Audición de Santa Cecilia
DESCRIPTION:
URL:https://www.sanmartindevaldeiglesias.es/evento/audicion-de-santa-cecilia-2/
LOCATION:Escuela Municipal de Música y Danza «Maestro Joaquín Rodrigo»\, General Martinez Benito 4\, San Martín de Valdeiglesias\, Madrid\, 28680\, España
CATEGORIES:Conciertos
END:VEVENT
BEGIN:VEVENT
DTSTART;TZID=Europe/Madrid:20171123T124500
DTEND;TZID=Europe/Madrid:20171123T144500
DTSTAMP:20260421T235125
CREATED:20170927T075512Z
LAST-MODIFIED:20170927T075512Z
UID:9890-1511441100-1511448300@www.sanmartindevaldeiglesias.es
SUMMARY:Bibliobús
DESCRIPTION:
URL:https://www.sanmartindevaldeiglesias.es/evento/bibliobus-2/
LOCATION:Frente al Castillo de la Coracera\, Avda. Félix Rodríguez de la Fuente\, San Martín de Valdeiglesias\, 28680
CATEGORIES:Educación
END:VEVENT
BEGIN:VEVENT
DTSTART;TZID=Europe/Madrid:20171123T170000
DTEND;TZID=Europe/Madrid:20171123T183000
DTSTAMP:20260421T235125
CREATED:20171117T082538Z
LAST-MODIFIED:20171117T082538Z
UID:10177-1511456400-1511461800@www.sanmartindevaldeiglesias.es
SUMMARY:"No me pises más"
DESCRIPTION:
URL:https://www.sanmartindevaldeiglesias.es/evento/no-me-pises-mas/
LOCATION:Plaza Real\, Plaza Real Nº1\, San Martín de Valdeiglesias\, Madrid\, 28680\, España
CATEGORIES:Igualdad,Violencia de género
END:VEVENT
BEGIN:VEVENT
DTSTART;TZID=Europe/Madrid:20171123T180000
DTEND;TZID=Europe/Madrid:20171123T193000
DTSTAMP:20260421T235125
CREATED:20171117T083247Z
LAST-MODIFIED:20171117T083247Z
UID:10178-1511460000-1511465400@www.sanmartindevaldeiglesias.es
SUMMARY:Teatro social
DESCRIPTION:
URL:https://www.sanmartindevaldeiglesias.es/evento/teatro-social/
LOCATION:Centro «Los Lavaderos»\, Plaza de Teodoro Bravo\, 15\, San Martín de Valdeiglesias\, Madrid\, 28680\, España
CATEGORIES:Igualdad,Violencia de género
END:VEVENT
BEGIN:VEVENT
DTSTART;TZID=Europe/Madrid:20171124T113000
DTEND;TZID=Europe/Madrid:20171124T123000
DTSTAMP:20260421T235125
CREATED:20171117T084605Z
LAST-MODIFIED:20171117T084605Z
UID:10180-1511523000-1511526600@www.sanmartindevaldeiglesias.es
SUMMARY:Taller de autodefensa
DESCRIPTION:
URL:https://www.sanmartindevaldeiglesias.es/evento/taller-de-autodefensa/
LOCATION:Patronato municipal de deportes\, Calle salamanca 17\, San Martín de valdeiglesias\, Madrid\, 28680\, España
CATEGORIES:Igualdad,Violencia de género
END:VEVENT
BEGIN:VEVENT
DTSTART;TZID=Europe/Madrid:20171124T200000
DTEND;TZID=Europe/Madrid:20171124T213000
DTSTAMP:20260421T235125
CREATED:20171113T085953Z
LAST-MODIFIED:20171113T085953Z
UID:10137-1511553600-1511559000@www.sanmartindevaldeiglesias.es
SUMMARY:Tertulias taurinas
DESCRIPTION:
URL:https://www.sanmartindevaldeiglesias.es/evento/tertulias-taurinas/
LOCATION:Ayuntamiento
END:VEVENT
BEGIN:VEVENT
DTSTART;TZID=Europe/Madrid:20171125T120000
DTEND;TZID=Europe/Madrid:20171125T133000
DTSTAMP:20260421T235125
CREATED:20171117T084939Z
LAST-MODIFIED:20171117T084939Z
UID:10182-1511611200-1511616600@www.sanmartindevaldeiglesias.es
SUMMARY:Manifiesto contra violencia
DESCRIPTION:
URL:https://www.sanmartindevaldeiglesias.es/evento/manifiesto-contra-violencia/
LOCATION:Plaza Real\, Plaza Real Nº1\, San Martín de Valdeiglesias\, Madrid\, 28680\, España
CATEGORIES:Igualdad,Violencia de género
END:VEVENT
BEGIN:VEVENT
DTSTART;TZID=Europe/Madrid:20171125T140000
DTEND;TZID=Europe/Madrid:20171125T210000
DTSTAMP:20260421T235125
CREATED:20171117T085201Z
LAST-MODIFIED:20171117T085201Z
UID:10184-1511618400-1511643600@www.sanmartindevaldeiglesias.es
SUMMARY:Torneo solidario pádel
DESCRIPTION:
URL:https://www.sanmartindevaldeiglesias.es/evento/torneo-solidario-padel/
LOCATION:Patronato municipal de deportes\, Calle salamanca 17\, San Martín de valdeiglesias\, Madrid\, 28680\, España
CATEGORIES:Deportes,Igualdad,Violencia de género
END:VEVENT
BEGIN:VEVENT
DTSTART;TZID=Europe/Madrid:20171125T200000
DTEND;TZID=Europe/Madrid:20171125T213000
DTSTAMP:20260421T235125
CREATED:20171031T115356Z
LAST-MODIFIED:20171031T115356Z
UID:10071-1511640000-1511645400@www.sanmartindevaldeiglesias.es
SUMMARY:Teatro solidario
DESCRIPTION:
URL:https://www.sanmartindevaldeiglesias.es/evento/teatro-solidario-3/
LOCATION:Teatro municipal\, Calle Fuente 4\, San Martín de Valdeiglesias\, Madrid\, 28680\, España
CATEGORIES:Bienestar social
END:VEVENT
BEGIN:VEVENT
DTSTART;TZID=Europe/Madrid:20171126T170000
DTEND;TZID=Europe/Madrid:20171126T180000
DTSTAMP:20260421T235125
CREATED:20171117T085518Z
LAST-MODIFIED:20171117T085518Z
UID:10185-1511715600-1511719200@www.sanmartindevaldeiglesias.es
SUMMARY:Marcha contra machismo
DESCRIPTION:
URL:https://www.sanmartindevaldeiglesias.es/evento/marcha-contra-machismo/
LOCATION:Plaza de la Corredera\, Plaza de la Corredera\, San Martín de Valdeiglesias\, Madrid\, 28680\, España
CATEGORIES:Igualdad,Violencia de género
END:VEVENT
BEGIN:VEVENT
DTSTART;TZID=Europe/Madrid:20171126T180000
DTEND;TZID=Europe/Madrid:20171126T193000
DTSTAMP:20260421T235125
CREATED:20171115T093610Z
LAST-MODIFIED:20171115T093610Z
UID:10157-1511719200-1511724600@www.sanmartindevaldeiglesias.es
SUMMARY:Concierto aula de banda
DESCRIPTION:
URL:https://www.sanmartindevaldeiglesias.es/evento/concierto-aula-de-banda-2/
LOCATION:Teatro municipal\, Calle Fuente 4\, San Martín de Valdeiglesias\, Madrid\, 28680\, España
CATEGORIES:Conciertos
END:VEVENT
END:VCALENDAR