BEGIN:VCALENDAR
VERSION:2.0
PRODID:-//San Martín de Valdeiglesias - ECPv6.15.20//NONSGML v1.0//EN
CALSCALE:GREGORIAN
METHOD:PUBLISH
X-ORIGINAL-URL:https://www.sanmartindevaldeiglesias.es
X-WR-CALDESC:Eventos para San Martín de Valdeiglesias
REFRESH-INTERVAL;VALUE=DURATION:PT1H
X-Robots-Tag:noindex
X-PUBLISHED-TTL:PT1H
BEGIN:VTIMEZONE
TZID:Europe/Madrid
BEGIN:DAYLIGHT
TZOFFSETFROM:+0100
TZOFFSETTO:+0200
TZNAME:CEST
DTSTART:20170326T010000
END:DAYLIGHT
BEGIN:STANDARD
TZOFFSETFROM:+0200
TZOFFSETTO:+0100
TZNAME:CET
DTSTART:20171029T010000
END:STANDARD
BEGIN:DAYLIGHT
TZOFFSETFROM:+0100
TZOFFSETTO:+0200
TZNAME:CEST
DTSTART:20180325T010000
END:DAYLIGHT
BEGIN:STANDARD
TZOFFSETFROM:+0200
TZOFFSETTO:+0100
TZNAME:CET
DTSTART:20181028T010000
END:STANDARD
BEGIN:DAYLIGHT
TZOFFSETFROM:+0100
TZOFFSETTO:+0200
TZNAME:CEST
DTSTART:20190331T010000
END:DAYLIGHT
BEGIN:STANDARD
TZOFFSETFROM:+0200
TZOFFSETTO:+0100
TZNAME:CET
DTSTART:20191027T010000
END:STANDARD
END:VTIMEZONE
BEGIN:VEVENT
DTSTART;TZID=Europe/Madrid:20180102T160000
DTEND;TZID=Europe/Madrid:20180102T193000
DTSTAMP:20260422T025739
CREATED:20171214T133532Z
LAST-MODIFIED:20180102T092559Z
UID:10387-1514908800-1514921400@www.sanmartindevaldeiglesias.es
SUMMARY:Paje Real
DESCRIPTION:
URL:https://www.sanmartindevaldeiglesias.es/evento/paje-real/
LOCATION:Plaza de la Corredera\, Plaza de la Corredera\, San Martín de Valdeiglesias\, Madrid\, 28680\, España
CATEGORIES:Fiestas
END:VEVENT
BEGIN:VEVENT
DTSTART;TZID=Europe/Madrid:20180103T180000
DTEND;TZID=Europe/Madrid:20180103T180000
DTSTAMP:20260422T025739
CREATED:20171214T133700Z
LAST-MODIFIED:20171214T133700Z
UID:10390-1515002400-1515002400@www.sanmartindevaldeiglesias.es
SUMMARY:Roscón de Reyes
DESCRIPTION:
URL:https://www.sanmartindevaldeiglesias.es/evento/roscon-de-reyes/
LOCATION:Centro de ocio de la Tercera Edad\, Avda. Félix Rodríguez de la Fuente\,\, San Martín de Valdeiglesias\, Madrid\, 28680\, España
CATEGORIES:Bienestar social,Fiestas
END:VEVENT
BEGIN:VEVENT
DTSTART;TZID=Europe/Madrid:20180105T120000
DTEND;TZID=Europe/Madrid:20180105T220000
DTSTAMP:20260422T025739
CREATED:20171214T134028Z
LAST-MODIFIED:20180102T100844Z
UID:10392-1515153600-1515189600@www.sanmartindevaldeiglesias.es
SUMMARY:Mercado artesano
DESCRIPTION:
URL:https://www.sanmartindevaldeiglesias.es/evento/mercado-artesano-2/
LOCATION:Plaza de la Corredera\, Plaza de la Corredera\, San Martín de Valdeiglesias\, Madrid\, 28680\, España
CATEGORIES:Desarrollo económico
END:VEVENT
BEGIN:VEVENT
DTSTART;TZID=Europe/Madrid:20180105T163000
DTEND;TZID=Europe/Madrid:20180105T190000
DTSTAMP:20260422T025739
CREATED:20171214T134458Z
LAST-MODIFIED:20180105T125343Z
UID:10394-1515169800-1515178800@www.sanmartindevaldeiglesias.es
SUMMARY:Gran Cabalgata de Reyes
DESCRIPTION:
URL:https://www.sanmartindevaldeiglesias.es/evento/gran-cabalgata-de-reyes/
LOCATION:Castillo de la Coracera\, Calle Castillo\, San Martín de Valdeiglesias\, Madrid\, 28680\, España
CATEGORIES:Fiestas
END:VEVENT
BEGIN:VEVENT
DTSTART;TZID=Europe/Madrid:20180107T113000
DTEND;TZID=Europe/Madrid:20180107T130000
DTSTAMP:20260422T025739
CREATED:20171214T134852Z
LAST-MODIFIED:20171214T134852Z
UID:10397-1515324600-1515330000@www.sanmartindevaldeiglesias.es
SUMMARY:Fiesta de la Bici
DESCRIPTION:Paseo en bici por el municipio y gymkana. \nPara todas las edades y tipos de bicicletas (triciclos\, bicis con ruedines\, de mtb…) \nObligatorio llevar casco. \nComienzo a las 11:30 h.  desde el parque de La Estación.  Organizado por el club ciclista Valdeiglesias.
URL:https://www.sanmartindevaldeiglesias.es/evento/fiesta-de-la-bici/
LOCATION:Centro cultural «La Estación»\, Av. del Ferrocarril\, 14B\,\, San Martín de Valdeiglesias\, Madrid\, 28680\, España
CATEGORIES:Deportes
END:VEVENT
BEGIN:VEVENT
DTSTART;TZID=Europe/Madrid:20180113T120000
DTEND;TZID=Europe/Madrid:20180113T200000
DTSTAMP:20260422T025739
CREATED:20180110T114134Z
LAST-MODIFIED:20180110T114134Z
UID:10493-1515844800-1515873600@www.sanmartindevaldeiglesias.es
SUMMARY:Fiesta Capricornio
DESCRIPTION: 
URL:https://www.sanmartindevaldeiglesias.es/evento/fiesta-capricornio/
LOCATION:Madrid
CATEGORIES:Danza,Fiestas,Música
END:VEVENT
BEGIN:VEVENT
DTSTART;TZID=Europe/Madrid:20180113T203000
DTEND;TZID=Europe/Madrid:20180113T223000
DTSTAMP:20260422T025739
CREATED:20171214T135711Z
LAST-MODIFIED:20171214T135711Z
UID:10399-1515875400-1515882600@www.sanmartindevaldeiglesias.es
SUMMARY:Tributo a Moulin Rouge
DESCRIPTION:Venta anticipada de entradas en el Ayutamiento.
URL:https://www.sanmartindevaldeiglesias.es/evento/tributo-a-moulin-rouge/
LOCATION:Teatro municipal\, Calle Fuente 4\, San Martín de Valdeiglesias\, Madrid\, 28680\, España
END:VEVENT
BEGIN:VEVENT
DTSTART;TZID=Europe/Madrid:20180118T124500
DTEND;TZID=Europe/Madrid:20180118T141500
DTSTAMP:20260422T025739
CREATED:20170927T075919Z
LAST-MODIFIED:20170927T075919Z
UID:9892-1516279500-1516284900@www.sanmartindevaldeiglesias.es
SUMMARY:Bibliobús
DESCRIPTION:
URL:https://www.sanmartindevaldeiglesias.es/evento/bibliobus-4/
LOCATION:Frente al Castillo de la Coracera\, Avda. Félix Rodríguez de la Fuente\, San Martín de Valdeiglesias\, 28680
CATEGORIES:Educación
END:VEVENT
BEGIN:VEVENT
DTSTART;TZID=Europe/Madrid:20180118T173000
DTEND;TZID=Europe/Madrid:20180118T201500
DTSTAMP:20260422T025739
CREATED:20180118T082205Z
LAST-MODIFIED:20180118T082205Z
UID:10596-1516296600-1516306500@www.sanmartindevaldeiglesias.es
SUMMARY:Donación sangre
DESCRIPTION:
URL:https://www.sanmartindevaldeiglesias.es/evento/donacion-sangre/
LOCATION:Plaza de la Corredera\, Plaza de la Corredera\, San Martín de Valdeiglesias\, Madrid\, 28680\, España
CATEGORIES:Salud
END:VEVENT
BEGIN:VEVENT
DTSTART;TZID=Europe/Madrid:20180123T110000
DTEND;TZID=Europe/Madrid:20180123T110000
DTSTAMP:20260422T025739
CREATED:20180119T104301Z
LAST-MODIFIED:20180119T122002Z
UID:10623-1516705200-1516705200@www.sanmartindevaldeiglesias.es
SUMMARY:Yoga en silla
DESCRIPTION:
URL:https://www.sanmartindevaldeiglesias.es/evento/yoga-en-silla/
LOCATION:Centro «Los Lavaderos»\, Plaza de Teodoro Bravo\, 15\, San Martín de Valdeiglesias\, Madrid\, 28680\, España
CATEGORIES:Bienestar social,Deportes,Salud
END:VEVENT
BEGIN:VEVENT
DTSTART;TZID=Europe/Madrid:20180126T190000
DTEND;TZID=Europe/Madrid:20180126T203000
DTSTAMP:20260422T025739
CREATED:20180119T083623Z
LAST-MODIFIED:20180119T083757Z
UID:10620-1516993200-1516998600@www.sanmartindevaldeiglesias.es
SUMMARY:Inglés en familia
DESCRIPTION:
URL:https://www.sanmartindevaldeiglesias.es/evento/ingles-en-familia/
LOCATION:Teatro municipal\, Calle Fuente 4\, San Martín de Valdeiglesias\, Madrid\, 28680\, España
CATEGORIES:Educación
END:VEVENT
BEGIN:VEVENT
DTSTART;TZID=Europe/Madrid:20180127T120000
DTEND;TZID=Europe/Madrid:20180127T140000
DTSTAMP:20260422T025739
CREATED:20180123T080222Z
LAST-MODIFIED:20180123T080222Z
UID:10662-1517054400-1517061600@www.sanmartindevaldeiglesias.es
SUMMARY:Neurocosmetica y aromaterapia
DESCRIPTION:
URL:https://www.sanmartindevaldeiglesias.es/evento/neurocosmetica-y-aromaterapia/
LOCATION:Centro cultural Santa Catalina\, Calle de Santa Catalina\, 6\, San Martín de Valdeiglesias\, Madrid\, 28680\, España
CATEGORIES:Salud
END:VEVENT
BEGIN:VEVENT
DTSTART;TZID=Europe/Madrid:20180127T183000
DTEND;TZID=Europe/Madrid:20180127T183000
DTSTAMP:20260422T025739
CREATED:20180122T082133Z
LAST-MODIFIED:20180122T082133Z
UID:10645-1517077800-1517077800@www.sanmartindevaldeiglesias.es
SUMMARY:Espacio poemático
DESCRIPTION:
URL:https://www.sanmartindevaldeiglesias.es/evento/espacio-poematico/
LOCATION:Centro Cultural Santa Catalina
CATEGORIES:Conciertos,Música
END:VEVENT
BEGIN:VEVENT
DTSTART;TZID=Europe/Madrid:20180129T200000
DTEND;TZID=Europe/Madrid:20180129T213000
DTSTAMP:20260422T025739
CREATED:20180125T121046Z
LAST-MODIFIED:20180125T121046Z
UID:10686-1517256000-1517261400@www.sanmartindevaldeiglesias.es
SUMMARY:Pleno ordinario
DESCRIPTION:
URL:https://www.sanmartindevaldeiglesias.es/evento/pleno-ordinario-10/
LOCATION:Ayuntamiento
END:VEVENT
BEGIN:VEVENT
DTSTART;VALUE=DATE:20180131
DTEND;VALUE=DATE:20180201
DTSTAMP:20260422T025739
CREATED:20180112T125720Z
LAST-MODIFIED:20180112T125720Z
UID:10550-1517356800-1517443199@www.sanmartindevaldeiglesias.es
SUMMARY:Plazo para descuentos impuestos y tasas
DESCRIPTION:
URL:https://www.sanmartindevaldeiglesias.es/evento/plazo-para-descuentos-impuestos-y-tasas/
LOCATION:Madrid
END:VEVENT
END:VCALENDAR