BEGIN:VCALENDAR
VERSION:2.0
PRODID:-//San Martín de Valdeiglesias - ECPv6.15.20//NONSGML v1.0//EN
CALSCALE:GREGORIAN
METHOD:PUBLISH
X-WR-CALNAME:San Martín de Valdeiglesias
X-ORIGINAL-URL:https://www.sanmartindevaldeiglesias.es
X-WR-CALDESC:Eventos para San Martín de Valdeiglesias
REFRESH-INTERVAL;VALUE=DURATION:PT1H
X-Robots-Tag:noindex
X-PUBLISHED-TTL:PT1H
BEGIN:VTIMEZONE
TZID:Europe/Madrid
BEGIN:DAYLIGHT
TZOFFSETFROM:+0100
TZOFFSETTO:+0200
TZNAME:CEST
DTSTART:20170326T010000
END:DAYLIGHT
BEGIN:STANDARD
TZOFFSETFROM:+0200
TZOFFSETTO:+0100
TZNAME:CET
DTSTART:20171029T010000
END:STANDARD
BEGIN:DAYLIGHT
TZOFFSETFROM:+0100
TZOFFSETTO:+0200
TZNAME:CEST
DTSTART:20180325T010000
END:DAYLIGHT
BEGIN:STANDARD
TZOFFSETFROM:+0200
TZOFFSETTO:+0100
TZNAME:CET
DTSTART:20181028T010000
END:STANDARD
BEGIN:DAYLIGHT
TZOFFSETFROM:+0100
TZOFFSETTO:+0200
TZNAME:CEST
DTSTART:20190331T010000
END:DAYLIGHT
BEGIN:STANDARD
TZOFFSETFROM:+0200
TZOFFSETTO:+0100
TZNAME:CET
DTSTART:20191027T010000
END:STANDARD
END:VTIMEZONE
BEGIN:VEVENT
DTSTART;TZID=Europe/Madrid:20180802T183000
DTEND;TZID=Europe/Madrid:20180802T190000
DTSTAMP:20260422T130325
CREATED:20180712T080018Z
LAST-MODIFIED:20180712T080018Z
UID:12130-1533234600-1533236400@www.sanmartindevaldeiglesias.es
SUMMARY:Cuentacuentos
DESCRIPTION:  Cuentacuentos en la piscina municipal a las 18:30 los días 2 y 16 de agosto. Gratuito para los usuarios de la piscina. \n 
URL:https://www.sanmartindevaldeiglesias.es/evento/cuentacuentos-7/
LOCATION:Piscina Municipal\, Plaza de los deportes\, San Martín de Valdeiglesias\, Madrid\, 28680\, España
CATEGORIES:Educación,Fiestas
END:VEVENT
BEGIN:VEVENT
DTSTART;TZID=Europe/Madrid:20180802T213000
DTEND;TZID=Europe/Madrid:20180802T230000
DTSTAMP:20260422T130325
CREATED:20180713T110041Z
LAST-MODIFIED:20180724T093725Z
UID:12154-1533245400-1533250800@www.sanmartindevaldeiglesias.es
SUMMARY:Visitas teatralizadas nocturnas
DESCRIPTION:  \nTodos los jueves del mes de agosto a las 21:30 h. Reservas en 686 623 829
URL:https://www.sanmartindevaldeiglesias.es/evento/visitas-teatralizadas-nocturnas/
LOCATION:Castillo de la Coracera\, Calle Castillo\, San Martín de Valdeiglesias\, Madrid\, 28680\, España
CATEGORIES:Teatro
END:VEVENT
BEGIN:VEVENT
DTSTART;TZID=Europe/Madrid:20180802T223000
DTEND;TZID=Europe/Madrid:20180802T223000
DTSTAMP:20260422T130325
CREATED:20180713T112348Z
LAST-MODIFIED:20180713T112348Z
UID:12175-1533249000-1533249000@www.sanmartindevaldeiglesias.es
SUMMARY:Magia
DESCRIPTION:  Todos los jueves del mes de agosto
URL:https://www.sanmartindevaldeiglesias.es/evento/magia/
LOCATION:Castillo de la Coracera\, Calle Castillo\, San Martín de Valdeiglesias\, Madrid\, 28680\, España
CATEGORIES:Fiestas
END:VEVENT
BEGIN:VEVENT
DTSTART;TZID=Europe/Madrid:20180803T213000
DTEND;TZID=Europe/Madrid:20180803T233000
DTSTAMP:20260422T130325
CREATED:20180711T092103Z
LAST-MODIFIED:20180711T092103Z
UID:12088-1533331800-1533339000@www.sanmartindevaldeiglesias.es
SUMMARY:Senda medioambiental
DESCRIPTION:Senda medioambiental al paraje de «El canto del Guarro» \nViernes 3 de agosto a las 21: 30 en la Plaza Real. \nActividad gratuita sin inscripción previa de nivel medio. \nNecesario llevar ropa cómoda y linterna.
URL:https://www.sanmartindevaldeiglesias.es/evento/senda-medioambiental/
LOCATION:Plaza Real\, Plaza Real Nº1\, San Martín de Valdeiglesias\, Madrid\, 28680\, España
CATEGORIES:Deportes,Excursión
END:VEVENT
BEGIN:VEVENT
DTSTART;TZID=Europe/Madrid:20180804T210000
DTEND;TZID=Europe/Madrid:20180804T210000
DTSTAMP:20260422T130325
CREATED:20180711T092324Z
LAST-MODIFIED:20180801T125307Z
UID:12091-1533416400-1533416400@www.sanmartindevaldeiglesias.es
SUMMARY:Valdestrellas
DESCRIPTION:
URL:https://www.sanmartindevaldeiglesias.es/evento/valdestrellas-3/
LOCATION:San Martin De Valdeiglesias
CATEGORIES:Conciertos,Desarrollo económico,Mercado,Música,Participacion ciudadana,Turismo
END:VEVENT
BEGIN:VEVENT
DTSTART;VALUE=DATE:20180808
DTEND;VALUE=DATE:20180809
DTSTAMP:20260422T130325
CREATED:20180711T093746Z
LAST-MODIFIED:20180711T110141Z
UID:12093-1533686400-1533772799@www.sanmartindevaldeiglesias.es
SUMMARY:Parque Warner
DESCRIPTION:Excursión al Parque Warner de Madrid. \nPrecio: 24 euros hasta 18 años  y 30 euros para adultos (incluye transporte  y entrada al parque) \nInscripciones en el centro cultural «La Estación»  de 15 a 21 H. \n 
URL:https://www.sanmartindevaldeiglesias.es/evento/parque-warner/
LOCATION:parque warner
CATEGORIES:Excursión
END:VEVENT
BEGIN:VEVENT
DTSTART;TZID=Europe/Madrid:20180809T210000
DTEND;TZID=Europe/Madrid:20180809T230000
DTSTAMP:20260422T130325
CREATED:20180713T110213Z
LAST-MODIFIED:20180806T095818Z
UID:12161-1533848400-1533855600@www.sanmartindevaldeiglesias.es
SUMMARY:Visitas teatralizadas
DESCRIPTION:
URL:https://www.sanmartindevaldeiglesias.es/evento/visitas-teatralizadas/
LOCATION:Castillo de la Coracera\, Calle Castillo\, San Martín de Valdeiglesias\, Madrid\, 28680\, España
CATEGORIES:Teatro,Turismo
END:VEVENT
BEGIN:VEVENT
DTSTART;TZID=Europe/Madrid:20180809T220000
DTEND;TZID=Europe/Madrid:20180809T220000
DTSTAMP:20260422T130325
CREATED:20180702T073543Z
LAST-MODIFIED:20180702T073543Z
UID:12027-1533852000-1533852000@www.sanmartindevaldeiglesias.es
SUMMARY:Cine de verano
DESCRIPTION:Ciclo de cine de verano\, a las 22 horas en la plaza de toros \n-Jueves 5 de julio\, «Coco». Todos los publicos \n– Jueves 19 de Julio\, «Palmeras en la nieve». NO recomendada -16 años \n– Jueves 9 de agosto «Jumanji; Bienvenidos a la jungla» Todos los publicos \n– Jueves 23 de agosto «Perfectos desconocidos». No recomendada -13 años
URL:https://www.sanmartindevaldeiglesias.es/evento/cine-de-verano-3/
LOCATION:Plaza de toros
CATEGORIES:Cine
END:VEVENT
BEGIN:VEVENT
DTSTART;TZID=Europe/Madrid:20180810T210000
DTEND;TZID=Europe/Madrid:20180810T223000
DTSTAMP:20260422T130325
CREATED:20180806T095220Z
LAST-MODIFIED:20180806T095220Z
UID:12357-1533934800-1533940200@www.sanmartindevaldeiglesias.es
SUMMARY:Teatro infantil
DESCRIPTION:
URL:https://www.sanmartindevaldeiglesias.es/evento/teatro-infantil/
LOCATION:Anfiteatro de La Estación\, Calle Fuente\, San Martín de Valdeiglesias\, 28680
CATEGORIES:Teatro
END:VEVENT
BEGIN:VEVENT
DTSTART;TZID=Europe/Madrid:20180811T100000
DTEND;TZID=Europe/Madrid:20180811T140000
DTSTAMP:20260422T130325
CREATED:20180806T101438Z
LAST-MODIFIED:20180806T120932Z
UID:12365-1533981600-1533996000@www.sanmartindevaldeiglesias.es
SUMMARY:Cuestación contra el cancer
DESCRIPTION:
URL:https://www.sanmartindevaldeiglesias.es/evento/cuestacion-contra-el-cancer/
LOCATION:San Martin De Valdeiglesias
CATEGORIES:Salud
END:VEVENT
BEGIN:VEVENT
DTSTART;TZID=Europe/Madrid:20180811T210000
DTEND;TZID=Europe/Madrid:20180811T210000
DTSTAMP:20260422T130325
CREATED:20180713T114024Z
LAST-MODIFIED:20180713T114024Z
UID:12187-1534021200-1534021200@www.sanmartindevaldeiglesias.es
SUMMARY:Noche de Jazz
DESCRIPTION:
URL:https://www.sanmartindevaldeiglesias.es/evento/noche-de-jazz/
LOCATION:Castillo de la Coracera\, Calle Castillo\, San Martín de Valdeiglesias\, Madrid\, 28680\, España
CATEGORIES:Conciertos
END:VEVENT
BEGIN:VEVENT
DTSTART;TZID=Europe/Madrid:20180811T210000
DTEND;TZID=Europe/Madrid:20180811T223000
DTSTAMP:20260422T130325
CREATED:20180711T094229Z
LAST-MODIFIED:20180711T100926Z
UID:12097-1534021200-1534026600@www.sanmartindevaldeiglesias.es
SUMMARY:Espectaculo ecuestre
DESCRIPTION:Espectáculo ecuestre en la Plaza de Toros\, el sábado 11 de agosto a las 21 horas. \nHasta 4 años\, entrada gratuita\, de 5 a 10 años: 5 euros\, general: 10 euros \nVenta de entrada el día del espectáculo en la taquilla a partir de las 12 h.
URL:https://www.sanmartindevaldeiglesias.es/evento/espectaculo-ecuestre-2/
LOCATION:Plaza de toros
CATEGORIES:Fiestas
END:VEVENT
BEGIN:VEVENT
DTSTART;TZID=Europe/Madrid:20180811T220000
DTEND;TZID=Europe/Madrid:20180811T233000
DTSTAMP:20260422T130325
CREATED:20180711T094704Z
LAST-MODIFIED:20180811T135127Z
UID:12100-1534024800-1534030200@www.sanmartindevaldeiglesias.es
SUMMARY:Festival Flamenco
DESCRIPTION:  \nVenta de entradas el mismo día en la puerta.
URL:https://www.sanmartindevaldeiglesias.es/evento/festival-flamenco/
LOCATION:Castillo de la Coracera\, Calle Castillo\, San Martín de Valdeiglesias\, Madrid\, 28680\, España
CATEGORIES:Conciertos,Danza
END:VEVENT
BEGIN:VEVENT
DTSTART;TZID=Europe/Madrid:20180814T190000
DTEND;TZID=Europe/Madrid:20180814T210000
DTSTAMP:20260422T130325
CREATED:20180813T173028Z
LAST-MODIFIED:20180813T173059Z
UID:12413-1534273200-1534280400@www.sanmartindevaldeiglesias.es
SUMMARY:Pleno extraordinario
DESCRIPTION:
URL:https://www.sanmartindevaldeiglesias.es/evento/pleno-extraordinario-5/
LOCATION:Ayuntamiento
CATEGORIES:Desarrollo económico
END:VEVENT
BEGIN:VEVENT
DTSTART;TZID=Europe/Madrid:20180816T183000
DTEND;TZID=Europe/Madrid:20180816T190000
DTSTAMP:20260422T130325
CREATED:20180712T080216Z
LAST-MODIFIED:20180712T080216Z
UID:12133-1534444200-1534446000@www.sanmartindevaldeiglesias.es
SUMMARY:Cuentacuentos
DESCRIPTION:Cuentacuentos en la piscina municipal a las 18:30 los días 2 y 16 de agosto. Gratuito para los usuarios de la piscina. \n 
URL:https://www.sanmartindevaldeiglesias.es/evento/cuentacuentos-8/
LOCATION:Piscina Municipal\, Plaza de los deportes\, San Martín de Valdeiglesias\, Madrid\, 28680\, España
CATEGORIES:Educación,Fiestas
END:VEVENT
BEGIN:VEVENT
DTSTART;TZID=Europe/Madrid:20180817T210000
DTEND;TZID=Europe/Madrid:20180817T220000
DTSTAMP:20260422T130325
CREATED:20180817T115551Z
LAST-MODIFIED:20180817T120045Z
UID:12510-1534539600-1534543200@www.sanmartindevaldeiglesias.es
SUMMARY:Teatro infantil
DESCRIPTION:
URL:https://www.sanmartindevaldeiglesias.es/evento/teatro-infantil-2/
LOCATION:Anfiteatro de La Estación\, Calle Fuente\, San Martín de Valdeiglesias\, 28680
CATEGORIES:Educación,Teatro
END:VEVENT
BEGIN:VEVENT
DTSTART;TZID=Europe/Madrid:20180818T210000
DTEND;TZID=Europe/Madrid:20180818T223000
DTSTAMP:20260422T130325
CREATED:20180711T100116Z
LAST-MODIFIED:20180724T093153Z
UID:12103-1534626000-1534631400@www.sanmartindevaldeiglesias.es
SUMMARY:Divertilandia
DESCRIPTION:Espectáculo infantil. \nSabado 18 de agosto a las 21h\, en la Plaza de Toros \nEntradas anticipadas: 6 euros. Entradas en taquilla: 8 euros. \nVenta anticipada en bar La Parrilla\, Modas Sandra y Ayuntamiento de San Martín de Valdeigelsias.
URL:https://www.sanmartindevaldeiglesias.es/evento/divertilandia/
LOCATION:Plaza de toros
CATEGORIES:Fiestas,Música,Teatro
END:VEVENT
BEGIN:VEVENT
DTSTART;VALUE=DATE:20180820
DTEND;VALUE=DATE:20180827
DTSTAMP:20260422T130325
CREATED:20180712T071005Z
LAST-MODIFIED:20180815T072630Z
UID:12109-1534723200-1535327999@www.sanmartindevaldeiglesias.es
SUMMARY:Semana de la juventud
DESCRIPTION:[vc_row][vc_column][vc_column_text][/vc_column_text][/vc_column][/vc_row]
URL:https://www.sanmartindevaldeiglesias.es/evento/semana-de-la-juventud-2/
LOCATION:San Martin De Valdeiglesias
CATEGORIES:Deportes,Excursión,Fiestas,Medio Ambiente,Participacion ciudadana
END:VEVENT
BEGIN:VEVENT
DTSTART;TZID=Europe/Madrid:20180820T100000
DTEND;TZID=Europe/Madrid:20180820T120000
DTSTAMP:20260422T130325
CREATED:20180817T071509Z
LAST-MODIFIED:20180817T092206Z
UID:12446-1534759200-1534766400@www.sanmartindevaldeiglesias.es
SUMMARY:Ruta a caballo y minigolf
DESCRIPTION:      Ruta a caballo y minigolf en finca El Recreo \nA partir de 12 años. \nInscripciones en «La estación»
URL:https://www.sanmartindevaldeiglesias.es/evento/ruta-a-caballo-y-minigolf/
LOCATION:Finca El Recreo
CATEGORIES:Deportes,Excursión,Participacion ciudadana
END:VEVENT
BEGIN:VEVENT
DTSTART;TZID=Europe/Madrid:20180820T113000
DTEND;TZID=Europe/Madrid:20180820T203000
DTSTAMP:20260422T130325
CREATED:20180817T072201Z
LAST-MODIFIED:20180817T072201Z
UID:12450-1534764600-1534797000@www.sanmartindevaldeiglesias.es
SUMMARY:Especial piscina
DESCRIPTION:  Especial piscina\,los menores de 16 años pagan 0.50 céntimos.
URL:https://www.sanmartindevaldeiglesias.es/evento/especial-piscina-2/
LOCATION:Piscina Municipal\, Plaza de los deportes\, San Martín de Valdeiglesias\, Madrid\, 28680\, España
CATEGORIES:Fiestas
END:VEVENT
BEGIN:VEVENT
DTSTART;TZID=Europe/Madrid:20180820T173000
DTEND;TZID=Europe/Madrid:20180820T193000
DTSTAMP:20260422T130325
CREATED:20180817T073041Z
LAST-MODIFIED:20180817T091954Z
UID:12452-1534786200-1534793400@www.sanmartindevaldeiglesias.es
SUMMARY:Taller de marionetas
DESCRIPTION:Actividad gratuita\, inscripciones en La Estación. \nMenores de 3 a 8 años. Los menores de 3 a 5 deben ir acompañados.
URL:https://www.sanmartindevaldeiglesias.es/evento/marionetas/
LOCATION:Centro «Los Lavaderos»\, Plaza de Teodoro Bravo\, 15\, San Martín de Valdeiglesias\, Madrid\, 28680\, España
CATEGORIES:CURSOS
END:VEVENT
BEGIN:VEVENT
DTSTART;TZID=Europe/Madrid:20180820T200000
DTEND;TZID=Europe/Madrid:20180820T200000
DTSTAMP:20260422T130325
CREATED:20180817T073853Z
LAST-MODIFIED:20180817T073853Z
UID:12455-1534795200-1534795200@www.sanmartindevaldeiglesias.es
SUMMARY:Concurso de fotografia
DESCRIPTION:Concurso fotografico en el Bosque encantado. Premio de una tarjeta «4 estaciones» para visitar el parque gratuitamente durante todo el año a las dos mejores fotos
URL:https://www.sanmartindevaldeiglesias.es/evento/concurso-de-fotografia/
LOCATION:El Bosque Encantado
END:VEVENT
BEGIN:VEVENT
DTSTART;TZID=Europe/Madrid:20180821T173000
DTEND;TZID=Europe/Madrid:20180821T193000
DTSTAMP:20260422T130325
CREATED:20180817T080544Z
LAST-MODIFIED:20180817T080544Z
UID:12460-1534872600-1534879800@www.sanmartindevaldeiglesias.es
SUMMARY:Bolsos
DESCRIPTION: Taller de creación de bolsos con material reciclado \nA partir de 6 años. Taller gratuito. Inscripciones en La Estación
URL:https://www.sanmartindevaldeiglesias.es/evento/bolsos/
LOCATION:Centro «Los Lavaderos»\, Plaza de Teodoro Bravo\, 15\, San Martín de Valdeiglesias\, Madrid\, 28680\, España
CATEGORIES:CURSOS,Medio Ambiente
END:VEVENT
BEGIN:VEVENT
DTSTART;TZID=Europe/Madrid:20180821T213000
DTEND;TZID=Europe/Madrid:20180821T213000
DTSTAMP:20260422T130325
CREATED:20180817T080924Z
LAST-MODIFIED:20180817T092423Z
UID:12463-1534887000-1534887000@www.sanmartindevaldeiglesias.es
SUMMARY:Gymkana nocturna
DESCRIPTION:     Gymkana nocturna de 6 a 12 años (menores de 11 acompañados) \nLugar: anfiteatro de la estación
URL:https://www.sanmartindevaldeiglesias.es/evento/12463/
LOCATION:Anfiteatro de La Estación\, Calle Fuente\, San Martín de Valdeiglesias\, 28680
CATEGORIES:Deportes,Fiestas
END:VEVENT
BEGIN:VEVENT
DTSTART;TZID=Europe/Madrid:20180822T110000
DTEND;TZID=Europe/Madrid:20180822T130000
DTSTAMP:20260422T130325
CREATED:20180817T081857Z
LAST-MODIFIED:20180817T081857Z
UID:12468-1534935600-1534942800@www.sanmartindevaldeiglesias.es
SUMMARY:Taller de percusión
DESCRIPTION:Taller de percusión gratuito\, a partir de 7 años en la Escuela de música. Organiza Julio Rodríguez Sanz
URL:https://www.sanmartindevaldeiglesias.es/evento/taller-de-percusion/
LOCATION:Escuela Municipal de Música y Danza «Maestro Joaquín Rodrigo»\, General Martinez Benito 4\, San Martín de Valdeiglesias\, Madrid\, 28680\, España
CATEGORIES:CURSOS,Música
END:VEVENT
BEGIN:VEVENT
DTSTART;TZID=Europe/Madrid:20180822T160000
DTEND;TZID=Europe/Madrid:20180822T200000
DTSTAMP:20260422T130325
CREATED:20180817T082143Z
LAST-MODIFIED:20180817T093108Z
UID:12471-1534953600-1534968000@www.sanmartindevaldeiglesias.es
SUMMARY:Hinchables
DESCRIPTION:  Durante toda la tarde con tu entrada normal de la piscina \, podrás disfrutar de los hinchables
URL:https://www.sanmartindevaldeiglesias.es/evento/hinchables/
LOCATION:Piscina Municipal\, Plaza de los deportes\, San Martín de Valdeiglesias\, Madrid\, 28680\, España
CATEGORIES:Fiestas
END:VEVENT
BEGIN:VEVENT
DTSTART;TZID=Europe/Madrid:20180822T203000
DTEND;TZID=Europe/Madrid:20180822T233000
DTSTAMP:20260422T130325
CREATED:20180817T082526Z
LAST-MODIFIED:20180817T082526Z
UID:12474-1534969800-1534980600@www.sanmartindevaldeiglesias.es
SUMMARY:Futbol bubble
DESCRIPTION:   Forma tu equipo de 5 jugadores y apúntate gratis en las oficinas del polideportivo
URL:https://www.sanmartindevaldeiglesias.es/evento/futbol-bubble/
LOCATION:Patronato municipal de deportes\, Calle salamanca 17\, San Martín de valdeiglesias\, Madrid\, 28680\, España
CATEGORIES:Deportes
END:VEVENT
BEGIN:VEVENT
DTSTART;TZID=Europe/Madrid:20180823T110000
DTEND;TZID=Europe/Madrid:20180823T130000
DTSTAMP:20260422T130325
CREATED:20180817T083703Z
LAST-MODIFIED:20180817T083703Z
UID:12477-1535022000-1535029200@www.sanmartindevaldeiglesias.es
SUMMARY:Trivial
DESCRIPTION:  A partir de 9 años. Inscripciones gratuitas en Las Estación
URL:https://www.sanmartindevaldeiglesias.es/evento/trivial/
LOCATION:Centro «Los Lavaderos»\, Plaza de Teodoro Bravo\, 15\, San Martín de Valdeiglesias\, Madrid\, 28680\, España
CATEGORIES:Fiestas
END:VEVENT
BEGIN:VEVENT
DTSTART;TZID=Europe/Madrid:20180823T180000
DTEND;TZID=Europe/Madrid:20180823T180000
DTSTAMP:20260422T130325
CREATED:20180817T084132Z
LAST-MODIFIED:20180817T084132Z
UID:12480-1535047200-1535047200@www.sanmartindevaldeiglesias.es
SUMMARY:Multiaventura
DESCRIPTION:   Mutiaventura en Indiana. Incrispciones en La Estacion. Altura minima 1.40 cm
URL:https://www.sanmartindevaldeiglesias.es/evento/multiaventura/
LOCATION:Madrid
CATEGORIES:Deportes
END:VEVENT
BEGIN:VEVENT
DTSTART;TZID=Europe/Madrid:20180823T213000
DTEND;TZID=Europe/Madrid:20180823T230000
DTSTAMP:20260422T130325
CREATED:20180713T110929Z
LAST-MODIFIED:20180724T091610Z
UID:12166-1535059800-1535065200@www.sanmartindevaldeiglesias.es
SUMMARY:Visitas teatralizadas
DESCRIPTION:
URL:https://www.sanmartindevaldeiglesias.es/evento/visitas-teatralizadas-3/
LOCATION:Castillo de la Coracera\, Calle Castillo\, San Martín de Valdeiglesias\, Madrid\, 28680\, España
CATEGORIES:Teatro
END:VEVENT
END:VCALENDAR