BEGIN:VCALENDAR
VERSION:2.0
PRODID:-//San Martín de Valdeiglesias - ECPv6.15.20//NONSGML v1.0//EN
CALSCALE:GREGORIAN
METHOD:PUBLISH
X-WR-CALNAME:San Martín de Valdeiglesias
X-ORIGINAL-URL:https://www.sanmartindevaldeiglesias.es
X-WR-CALDESC:Eventos para San Martín de Valdeiglesias
REFRESH-INTERVAL;VALUE=DURATION:PT1H
X-Robots-Tag:noindex
X-PUBLISHED-TTL:PT1H
BEGIN:VTIMEZONE
TZID:Europe/Madrid
BEGIN:DAYLIGHT
TZOFFSETFROM:+0100
TZOFFSETTO:+0200
TZNAME:CEST
DTSTART:20180325T010000
END:DAYLIGHT
BEGIN:STANDARD
TZOFFSETFROM:+0200
TZOFFSETTO:+0100
TZNAME:CET
DTSTART:20181028T010000
END:STANDARD
BEGIN:DAYLIGHT
TZOFFSETFROM:+0100
TZOFFSETTO:+0200
TZNAME:CEST
DTSTART:20190331T010000
END:DAYLIGHT
BEGIN:STANDARD
TZOFFSETFROM:+0200
TZOFFSETTO:+0100
TZNAME:CET
DTSTART:20191027T010000
END:STANDARD
BEGIN:DAYLIGHT
TZOFFSETFROM:+0100
TZOFFSETTO:+0200
TZNAME:CEST
DTSTART:20200329T010000
END:DAYLIGHT
BEGIN:STANDARD
TZOFFSETFROM:+0200
TZOFFSETTO:+0100
TZNAME:CET
DTSTART:20201025T010000
END:STANDARD
END:VTIMEZONE
BEGIN:VEVENT
DTSTART;TZID=Europe/Madrid:20190301T204500
DTEND;TZID=Europe/Madrid:20190301T220000
DTSTAMP:20260422T234559
CREATED:20190214T122010Z
LAST-MODIFIED:20190214T122010Z
UID:13709-1551473100-1551477600@www.sanmartindevaldeiglesias.es
SUMMARY:Concierto: Tributo a Héroes del Silencio
DESCRIPTION:
URL:https://www.sanmartindevaldeiglesias.es/evento/concierto-tributo-a-heroes-del-silencio/
LOCATION:Teatro municipal\, Calle Fuente 4\, San Martín de Valdeiglesias\, Madrid\, 28680\, España
CATEGORIES:Conciertos
END:VEVENT
BEGIN:VEVENT
DTSTART;TZID=Europe/Madrid:20190312T093000
DTEND;TZID=Europe/Madrid:20190312T130000
DTSTAMP:20260422T234559
CREATED:20190214T131746Z
LAST-MODIFIED:20190214T135836Z
UID:13716-1552383000-1552395600@www.sanmartindevaldeiglesias.es
SUMMARY:DNI: toma de datos
DESCRIPTION:Un equipo del equipo de Atención Rural de la Policía se desplaza a San Martín para  renovar/expedir el DNI. \nRequiere cita previa que se tramita en las dependencias de la Policía Local o aquí https://plsmv.youcanbook.me/?fbclid=IwAR2JB_y3mWuUh5MKYi9Amtqnd116ZASvM4DMISdBa8Bt-9Oe01ndkcb_Zs0
URL:https://www.sanmartindevaldeiglesias.es/evento/dni-toma-de-datos/
LOCATION:Ayuntamiento
END:VEVENT
BEGIN:VEVENT
DTSTART;TZID=Europe/Madrid:20190316T200000
DTEND;TZID=Europe/Madrid:20190316T213000
DTSTAMP:20260422T234559
CREATED:20190111T100027Z
LAST-MODIFIED:20190111T100027Z
UID:13475-1552766400-1552771800@www.sanmartindevaldeiglesias.es
SUMMARY:Teatro: Gag Movie
DESCRIPTION:
URL:https://www.sanmartindevaldeiglesias.es/evento/teatro-gag-movie/
LOCATION:Teatro municipal\, Calle Fuente 4\, San Martín de Valdeiglesias\, Madrid\, 28680\, España
CATEGORIES:Teatro
END:VEVENT
BEGIN:VEVENT
DTSTART;VALUE=DATE:20190322
DTEND;VALUE=DATE:20190411
DTSTAMP:20260422T234559
CREATED:20190322T123503Z
LAST-MODIFIED:20190322T132338Z
UID:14069-1553212800-1554940799@www.sanmartindevaldeiglesias.es
SUMMARY:Expo: "Los nuestros. Un puente de palabras"
DESCRIPTION:
URL:https://www.sanmartindevaldeiglesias.es/evento/expo-los-nuestros-un-puente-de-palabras/
LOCATION:Madrid
END:VEVENT
BEGIN:VEVENT
DTSTART;TZID=Europe/Madrid:20190322T204500
DTEND;TZID=Europe/Madrid:20190322T220000
DTSTAMP:20260422T234559
CREATED:20190214T122242Z
LAST-MODIFIED:20190321T113541Z
UID:13712-1553287500-1553292000@www.sanmartindevaldeiglesias.es
SUMMARY:Concierto: Tributo a Queen
DESCRIPTION:
URL:https://www.sanmartindevaldeiglesias.es/evento/concierto-tributo-a-queen/
LOCATION:Teatro municipal\, Calle Fuente 4\, San Martín de Valdeiglesias\, Madrid\, 28680\, España
CATEGORIES:Conciertos
END:VEVENT
BEGIN:VEVENT
DTSTART;TZID=Europe/Madrid:20190326T164500
DTEND;TZID=Europe/Madrid:20190326T180000
DTSTAMP:20260422T234559
CREATED:20190325T121947Z
LAST-MODIFIED:20190325T121947Z
UID:14079-1553618700-1553623200@www.sanmartindevaldeiglesias.es
SUMMARY:Encuentro cultural CEPA
DESCRIPTION:
URL:https://www.sanmartindevaldeiglesias.es/evento/encuentro-cultural-cepa-2/
LOCATION:Teatro municipal\, Calle Fuente 4\, San Martín de Valdeiglesias\, Madrid\, 28680\, España
CATEGORIES:Educación
END:VEVENT
BEGIN:VEVENT
DTSTART;TZID=Europe/Madrid:20190328T174000
DTEND;TZID=Europe/Madrid:20190328T201500
DTSTAMP:20260422T234559
CREATED:20190325T123048Z
LAST-MODIFIED:20190325T123048Z
UID:14083-1553794800-1553804100@www.sanmartindevaldeiglesias.es
SUMMARY:Donación sangre
DESCRIPTION:
URL:https://www.sanmartindevaldeiglesias.es/evento/donacion-sangre-3/
LOCATION:Plaza de la Corredera\, Plaza de la Corredera\, San Martín de Valdeiglesias\, Madrid\, 28680\, España
CATEGORIES:Salud
END:VEVENT
BEGIN:VEVENT
DTSTART;TZID=Europe/Madrid:20190328T200000
DTEND;TZID=Europe/Madrid:20190328T220000
DTSTAMP:20260422T234559
CREATED:20190326T112756Z
LAST-MODIFIED:20190326T112756Z
UID:14087-1553803200-1553810400@www.sanmartindevaldeiglesias.es
SUMMARY:Pleno ordinario
DESCRIPTION:
URL:https://www.sanmartindevaldeiglesias.es/evento/pleno-ordinario-17/
LOCATION:Ayuntamiento
END:VEVENT
END:VCALENDAR