BEGIN:VCALENDAR
VERSION:2.0
PRODID:-//San Martín de Valdeiglesias - ECPv6.15.20//NONSGML v1.0//EN
CALSCALE:GREGORIAN
METHOD:PUBLISH
X-ORIGINAL-URL:https://www.sanmartindevaldeiglesias.es
X-WR-CALDESC:Eventos para San Martín de Valdeiglesias
REFRESH-INTERVAL;VALUE=DURATION:PT1H
X-Robots-Tag:noindex
X-PUBLISHED-TTL:PT1H
BEGIN:VTIMEZONE
TZID:Europe/Madrid
BEGIN:DAYLIGHT
TZOFFSETFROM:+0100
TZOFFSETTO:+0200
TZNAME:CEST
DTSTART:20190331T010000
END:DAYLIGHT
BEGIN:STANDARD
TZOFFSETFROM:+0200
TZOFFSETTO:+0100
TZNAME:CET
DTSTART:20191027T010000
END:STANDARD
BEGIN:DAYLIGHT
TZOFFSETFROM:+0100
TZOFFSETTO:+0200
TZNAME:CEST
DTSTART:20200329T010000
END:DAYLIGHT
BEGIN:STANDARD
TZOFFSETFROM:+0200
TZOFFSETTO:+0100
TZNAME:CET
DTSTART:20201025T010000
END:STANDARD
BEGIN:DAYLIGHT
TZOFFSETFROM:+0100
TZOFFSETTO:+0200
TZNAME:CEST
DTSTART:20210328T010000
END:DAYLIGHT
BEGIN:STANDARD
TZOFFSETFROM:+0200
TZOFFSETTO:+0100
TZNAME:CET
DTSTART:20211031T010000
END:STANDARD
END:VTIMEZONE
BEGIN:VEVENT
DTSTART;TZID=Europe/Madrid:20200202T110000
DTEND;TZID=Europe/Madrid:20200202T143000
DTSTAMP:20260423T151335
CREATED:20200130T155724Z
LAST-MODIFIED:20200130T160241Z
UID:16123-1580641200-1580653800@www.sanmartindevaldeiglesias.es
SUMMARY:Muestra vehículos Mustang
DESCRIPTION:
URL:https://www.sanmartindevaldeiglesias.es/evento/muestra-vehiculos-mustang/
LOCATION:Plaza Real\, Plaza Real Nº1\, San Martín de Valdeiglesias\, Madrid\, 28680\, España
CATEGORIES:Turismo
END:VEVENT
BEGIN:VEVENT
DTSTART;TZID=Europe/Madrid:20200204T110000
DTEND;TZID=Europe/Madrid:20200204T123000
DTSTAMP:20260423T151335
CREATED:20200204T083157Z
LAST-MODIFIED:20200204T083157Z
UID:16140-1580814000-1580819400@www.sanmartindevaldeiglesias.es
SUMMARY:Taller de salud
DESCRIPTION:
URL:https://www.sanmartindevaldeiglesias.es/evento/taller-de-salud-4/
LOCATION:Centro «Los Lavaderos»\, Plaza de Teodoro Bravo\, 15\, San Martín de Valdeiglesias\, Madrid\, 28680\, España
CATEGORIES:Salud
END:VEVENT
BEGIN:VEVENT
DTSTART;TZID=Europe/Madrid:20200214T204500
DTEND;TZID=Europe/Madrid:20200214T220000
DTSTAMP:20260423T151335
CREATED:20200212T084732Z
LAST-MODIFIED:20200212T084732Z
UID:16200-1581713100-1581717600@www.sanmartindevaldeiglesias.es
SUMMARY:Cine: La Suite Nupcial
DESCRIPTION:
URL:https://www.sanmartindevaldeiglesias.es/evento/cine-la-suite-nupcial/
LOCATION:Teatro municipal\, Calle Fuente 4\, San Martín de Valdeiglesias\, Madrid\, 28680\, España
CATEGORIES:Cine
END:VEVENT
BEGIN:VEVENT
DTSTART;TZID=Europe/Madrid:20200215T200000
DTEND;TZID=Europe/Madrid:20200215T213000
DTSTAMP:20260423T151335
CREATED:20200113T084022Z
LAST-MODIFIED:20200113T090731Z
UID:15997-1581796800-1581802200@www.sanmartindevaldeiglesias.es
SUMMARY:Teatro: Cuidados intensivos
DESCRIPTION:
URL:https://www.sanmartindevaldeiglesias.es/evento/teatro-cuidados-intensivos/
LOCATION:Teatro municipal\, Calle Fuente 4\, San Martín de Valdeiglesias\, Madrid\, 28680\, España
CATEGORIES:Teatro
END:VEVENT
BEGIN:VEVENT
DTSTART;TZID=Europe/Madrid:20200220T190000
DTEND;TZID=Europe/Madrid:20200220T203000
DTSTAMP:20260423T151335
CREATED:20200217T140530Z
LAST-MODIFIED:20200217T140530Z
UID:16238-1582225200-1582230600@www.sanmartindevaldeiglesias.es
SUMMARY:Pleno extraordinario
DESCRIPTION:
URL:https://www.sanmartindevaldeiglesias.es/evento/pleno-extraordinario-18/
LOCATION:Ayuntamiento
CATEGORIES:Pleno
END:VEVENT
BEGIN:VEVENT
DTSTART;TZID=Europe/Madrid:20200221T113000
DTEND;TZID=Europe/Madrid:20200221T130000
DTSTAMP:20260423T151335
CREATED:20200219T103422Z
LAST-MODIFIED:20200219T110329Z
UID:16240-1582284600-1582290000@www.sanmartindevaldeiglesias.es
SUMMARY:Reunión informativa ayudas Leader
DESCRIPTION:
URL:https://www.sanmartindevaldeiglesias.es/evento/16240/
LOCATION:Ayuntamiento
CATEGORIES:Desarrollo económico
END:VEVENT
BEGIN:VEVENT
DTSTART;TZID=Europe/Madrid:20200221T180000
DTEND;TZID=Europe/Madrid:20200221T190000
DTSTAMP:20260423T151335
CREATED:20200219T114110Z
LAST-MODIFIED:20200219T114110Z
UID:16248-1582308000-1582311600@www.sanmartindevaldeiglesias.es
SUMMARY:Cuentacuentos
DESCRIPTION:
URL:https://www.sanmartindevaldeiglesias.es/evento/cuentacuentos-16/
LOCATION:Biblioteca Municipal\, C/ Fuente\, 4\, San Martín de Valdeiglesias\, Madrid\, 28680\, España
CATEGORIES:Exposiciones
END:VEVENT
BEGIN:VEVENT
DTSTART;TZID=Europe/Madrid:20200225T180000
DTEND;TZID=Europe/Madrid:20200225T220000
DTSTAMP:20260423T151335
CREATED:20200205T084345Z
LAST-MODIFIED:20200205T084345Z
UID:16155-1582653600-1582668000@www.sanmartindevaldeiglesias.es
SUMMARY:Desfile y baile de disfraces
DESCRIPTION:
URL:https://www.sanmartindevaldeiglesias.es/evento/desfile-y-baile-de-disfraces/
LOCATION:Madrid
CATEGORIES:Carnaval
END:VEVENT
BEGIN:VEVENT
DTSTART;TZID=Europe/Madrid:20200226T200000
DTEND;TZID=Europe/Madrid:20200226T220000
DTSTAMP:20260423T151335
CREATED:20200205T084539Z
LAST-MODIFIED:20200205T084539Z
UID:16160-1582747200-1582754400@www.sanmartindevaldeiglesias.es
SUMMARY:Entierro de la sardina
DESCRIPTION:la
URL:https://www.sanmartindevaldeiglesias.es/evento/entierro-de-la-sardina-2/
LOCATION:Plaza Real\, Plaza Real Nº1\, San Martín de Valdeiglesias\, Madrid\, 28680\, España
CATEGORIES:Carnaval
END:VEVENT
BEGIN:VEVENT
DTSTART;TZID=Europe/Madrid:20200227T103000
DTEND;TZID=Europe/Madrid:20200227T123000
DTSTAMP:20260423T151335
CREATED:20200205T084748Z
LAST-MODIFIED:20200205T084748Z
UID:16162-1582799400-1582806600@www.sanmartindevaldeiglesias.es
SUMMARY:Disfraces infantiles
DESCRIPTION:
URL:https://www.sanmartindevaldeiglesias.es/evento/disfraces-infantiles-2/
LOCATION:Avda\, Felix Rodriguez de la Fuente.
CATEGORIES:Carnaval
END:VEVENT
BEGIN:VEVENT
DTSTART;TZID=Europe/Madrid:20200227T190000
DTEND;TZID=Europe/Madrid:20200227T203000
DTSTAMP:20260423T151335
CREATED:20200205T084944Z
LAST-MODIFIED:20200205T084944Z
UID:16164-1582830000-1582835400@www.sanmartindevaldeiglesias.es
SUMMARY:Master class: bailes de Carnaval
DESCRIPTION:
URL:https://www.sanmartindevaldeiglesias.es/evento/master-class-bailes-de-carnaval/
LOCATION:Escuela Municipal de Música y Danza «Maestro Joaquín Rodrigo»\, General Martinez Benito 4\, San Martín de Valdeiglesias\, Madrid\, 28680\, España
CATEGORIES:Carnaval
END:VEVENT
BEGIN:VEVENT
DTSTART;TZID=Europe/Madrid:20200228T180000
DTEND;TZID=Europe/Madrid:20200228T190000
DTSTAMP:20260423T151335
CREATED:20200224T121918Z
LAST-MODIFIED:20200224T121918Z
UID:16291-1582912800-1582916400@www.sanmartindevaldeiglesias.es
SUMMARY:Firma convenio
DESCRIPTION:
URL:https://www.sanmartindevaldeiglesias.es/evento/firma-convenio-2/
LOCATION:Ayuntamiento
END:VEVENT
BEGIN:VEVENT
DTSTART;TZID=Europe/Madrid:20200228T190000
DTEND;TZID=Europe/Madrid:20200228T203000
DTSTAMP:20260423T151335
CREATED:20200205T085130Z
LAST-MODIFIED:20200205T085130Z
UID:16166-1582916400-1582921800@www.sanmartindevaldeiglesias.es
SUMMARY:Karaoke de Carnaval
DESCRIPTION:va
URL:https://www.sanmartindevaldeiglesias.es/evento/karaoke-de-carnaval/
LOCATION:Plaza de toros
CATEGORIES:Carnaval
END:VEVENT
BEGIN:VEVENT
DTSTART;TZID=Europe/Madrid:20200229T210000
DTEND;TZID=Europe/Madrid:20200229T233000
DTSTAMP:20260423T151335
CREATED:20200205T085435Z
LAST-MODIFIED:20200205T085435Z
UID:16168-1583010000-1583019000@www.sanmartindevaldeiglesias.es
SUMMARY:Gran Fiesta de Carnaval
DESCRIPTION:
URL:https://www.sanmartindevaldeiglesias.es/evento/gran-fiesta-de-carnaval/
LOCATION:Plaza de toros
CATEGORIES:Carnaval
END:VEVENT
END:VCALENDAR