BEGIN:VCALENDAR
VERSION:2.0
PRODID:-//San Martín de Valdeiglesias - ECPv6.15.20//NONSGML v1.0//EN
CALSCALE:GREGORIAN
METHOD:PUBLISH
X-ORIGINAL-URL:https://www.sanmartindevaldeiglesias.es
X-WR-CALDESC:Eventos para San Martín de Valdeiglesias
REFRESH-INTERVAL;VALUE=DURATION:PT1H
X-Robots-Tag:noindex
X-PUBLISHED-TTL:PT1H
BEGIN:VTIMEZONE
TZID:Europe/Madrid
BEGIN:DAYLIGHT
TZOFFSETFROM:+0100
TZOFFSETTO:+0200
TZNAME:CEST
DTSTART:20190331T010000
END:DAYLIGHT
BEGIN:STANDARD
TZOFFSETFROM:+0200
TZOFFSETTO:+0100
TZNAME:CET
DTSTART:20191027T010000
END:STANDARD
BEGIN:DAYLIGHT
TZOFFSETFROM:+0100
TZOFFSETTO:+0200
TZNAME:CEST
DTSTART:20200329T010000
END:DAYLIGHT
BEGIN:STANDARD
TZOFFSETFROM:+0200
TZOFFSETTO:+0100
TZNAME:CET
DTSTART:20201025T010000
END:STANDARD
BEGIN:DAYLIGHT
TZOFFSETFROM:+0100
TZOFFSETTO:+0200
TZNAME:CEST
DTSTART:20210328T010000
END:DAYLIGHT
BEGIN:STANDARD
TZOFFSETFROM:+0200
TZOFFSETTO:+0100
TZNAME:CET
DTSTART:20211031T010000
END:STANDARD
END:VTIMEZONE
BEGIN:VEVENT
DTSTART;TZID=Europe/Madrid:20201003T200000
DTEND;TZID=Europe/Madrid:20201003T213000
DTSTAMP:20260421T103934
CREATED:20200113T090546Z
LAST-MODIFIED:20200504T092557Z
UID:16000-1601755200-1601760600@www.sanmartindevaldeiglesias.es
SUMMARY:Teatro: Hombres que escriben...
DESCRIPTION:
URL:https://www.sanmartindevaldeiglesias.es/evento/teatro-ciudados-intensivos/
LOCATION:Teatro municipal\, Calle Fuente 4\, San Martín de Valdeiglesias\, Madrid\, 28680\, España
CATEGORIES:Teatro
END:VEVENT
BEGIN:VEVENT
DTSTART;TZID=Europe/Madrid:20201024T200000
DTEND;TZID=Europe/Madrid:20201024T220000
DTSTAMP:20260421T103934
CREATED:20201020T130022Z
LAST-MODIFIED:20201020T130409Z
UID:19148-1603569600-1603576800@www.sanmartindevaldeiglesias.es
SUMMARY:Teatro: Yllana
DESCRIPTION:
URL:https://www.sanmartindevaldeiglesias.es/evento/teatro-yllana/
LOCATION:Teatro municipal\, Calle Fuente 4\, San Martín de Valdeiglesias\, Madrid\, 28680\, España
CATEGORIES:Teatro
END:VEVENT
BEGIN:VEVENT
DTSTART;TZID=Europe/Madrid:20201030T120000
DTEND;TZID=Europe/Madrid:20201030T130000
DTSTAMP:20260421T103934
CREATED:20201030T131156Z
LAST-MODIFIED:20201103T095021Z
UID:19186-1604059200-1604062800@www.sanmartindevaldeiglesias.es
SUMMARY:Pleno
DESCRIPTION:El Ayuntamiento de San Martín de Valdeiglesias celebrará\nSESIÓN EXTRAORDINARIA\ndel pleno a las 12\,00 horas del día 30 de octubre de 2020 \n  \nCon el siguiente ORDEN DEL DÍA: \n1.- EXPEDIENTE 2935/2020: REC 004/2020 GASTOS EJERCICIOS ANTERIORES APLICADOS AL PRESUPUESTO – Subcarpeta R.E.C. 004/2020. \n2.- CREACIÓN DE COMISIÓN ESPECIAL SOBRE LA “DESAPARICIÓN” DEL CÉSPED ARTIFICIAL RETIRADO DEL CAMPO DE FÚTBOL Y DE LAS PISTAS DE PADEL.
URL:https://www.sanmartindevaldeiglesias.es/evento/pleno-ordinario-25/
LOCATION:Ayuntamiento
CATEGORIES:Pleno
END:VEVENT
BEGIN:VEVENT
DTSTART;TZID=Europe/Madrid:20201031T120000
DTEND;TZID=Europe/Madrid:20201031T150000
DTSTAMP:20260421T103934
CREATED:20201030T132017Z
LAST-MODIFIED:20201030T132355Z
UID:19188-1604145600-1604156400@www.sanmartindevaldeiglesias.es
SUMMARY:Concierto: "Sesión Vermú"
DESCRIPTION:
URL:https://www.sanmartindevaldeiglesias.es/evento/concierto-sesion-vermu/
LOCATION:Plaza de la Corredera\, Plaza de la Corredera\, San Martín de Valdeiglesias\, Madrid\, 28680\, España
CATEGORIES:Conciertos
END:VEVENT
END:VCALENDAR