BEGIN:VCALENDAR
VERSION:2.0
PRODID:-//San Martín de Valdeiglesias - ECPv6.15.20//NONSGML v1.0//EN
CALSCALE:GREGORIAN
METHOD:PUBLISH
X-ORIGINAL-URL:https://www.sanmartindevaldeiglesias.es
X-WR-CALDESC:Eventos para San Martín de Valdeiglesias
REFRESH-INTERVAL;VALUE=DURATION:PT1H
X-Robots-Tag:noindex
X-PUBLISHED-TTL:PT1H
BEGIN:VTIMEZONE
TZID:Europe/Madrid
BEGIN:DAYLIGHT
TZOFFSETFROM:+0100
TZOFFSETTO:+0200
TZNAME:CEST
DTSTART:20190331T010000
END:DAYLIGHT
BEGIN:STANDARD
TZOFFSETFROM:+0200
TZOFFSETTO:+0100
TZNAME:CET
DTSTART:20191027T010000
END:STANDARD
BEGIN:DAYLIGHT
TZOFFSETFROM:+0100
TZOFFSETTO:+0200
TZNAME:CEST
DTSTART:20200329T010000
END:DAYLIGHT
BEGIN:STANDARD
TZOFFSETFROM:+0200
TZOFFSETTO:+0100
TZNAME:CET
DTSTART:20201025T010000
END:STANDARD
BEGIN:DAYLIGHT
TZOFFSETFROM:+0100
TZOFFSETTO:+0200
TZNAME:CEST
DTSTART:20210328T010000
END:DAYLIGHT
BEGIN:STANDARD
TZOFFSETFROM:+0200
TZOFFSETTO:+0100
TZNAME:CET
DTSTART:20211031T010000
END:STANDARD
BEGIN:DAYLIGHT
TZOFFSETFROM:+0100
TZOFFSETTO:+0200
TZNAME:CEST
DTSTART:20220327T010000
END:DAYLIGHT
BEGIN:STANDARD
TZOFFSETFROM:+0200
TZOFFSETTO:+0100
TZNAME:CET
DTSTART:20221030T010000
END:STANDARD
END:VTIMEZONE
BEGIN:VEVENT
DTSTART;TZID=Europe/Madrid:20201201T090000
DTEND;TZID=Europe/Madrid:20201201T123000
DTSTAMP:20260421T074525
CREATED:20201110T095143Z
LAST-MODIFIED:20201110T095157Z
UID:19239-1606813200-1606825800@www.sanmartindevaldeiglesias.es
SUMMARY:Renovación del DNI
DESCRIPTION:
URL:https://www.sanmartindevaldeiglesias.es/evento/renovacion-del-dni/
LOCATION:Ayuntamiento
END:VEVENT
BEGIN:VEVENT
DTSTART;TZID=Europe/Madrid:20201203T190000
DTEND;TZID=Europe/Madrid:20201203T220000
DTSTAMP:20260421T074525
CREATED:20201201T085630Z
LAST-MODIFIED:20201201T085630Z
UID:19295-1607022000-1607032800@www.sanmartindevaldeiglesias.es
SUMMARY:Pleno ordinario
DESCRIPTION:El Ayuntamiento de San Martín de Valdeiglesias\ncelebrará sesión del pleno ordinaria\,\nel 3 de diciembre de 2020\, a las 19 h. con el siguiente\nORDEN DEL DÍA:\n1. APROBACIÓN DE ACTAS \n1.1.- Aprobación del acta de la sesión ordinaria celebrada el día 24 de septiembre de 2020 (PNL 2020/9) \n1.2- Aprobación del acta de la sesión extraordinaria celebrada el día 30 de octubre de 2020 (PNL 2020/10) \n2. PARTE DE RESOLUCIÓN \n2.1.- ASUNTOS DICTAMINADOS \n2.1.1.- EXPEDIENTE 5585/2020: Aprobación de la valoración y relación de puestos de trabajo del Ayuntamiento de San Martín de Valdeiglesias. \n2.1.2.- EXPEDIENTE 2955/2020: Encomienda de gestión al Ayuntamiento de Torrelodones para la emisión de informes urbanísticos. \n2.1.3.- EXPEDIENTE 5751/2020: Aprobación del acuerdo regulador del régimen especial de condiciones de trabajo del Cuerpo de Policía Local de este Ayuntamiento. \n2.1.4.- EXPEDIENTE 5712/2020. Aprobación del Plan Municipal de Protección Civil del municipio de San Martín de Valdeiglesias (PLATESANMAR) \n2.1.5.- EXPEDIENTE 4158/2020. Aprobación de las fiestas locales laborales para el año 2021. \n2.1.6.- EXPEDIENTE 3326/2020: Elección del cargo de juez de paz titular. \n3. PARTE DE INFORMACIÓN Y CONTROL \n3.1.- Dación de cuenta de las resoluciones y decretos dictados por alcaldesa y concejales delegados del día 21 de septiembre de 2020 al 29 de noviembre de 2020 (Nº 2020-1892 AL 2020-3008). \n3.2.- Dación de cuenta de los informes  trimestrales de morosidad 2 trimestre 2020 (EXPEDIENTE 3046/2020) \n3.3.- Dación de cuenta de los informes trimestrales de morosidad 3 trimestre 2020 (EXPEDIENTE 4337/2020) \n3.4.- Dación de cuenta de la ejecución trimestral del presupuesto 4 trimestre 2019 (EXPEDIENTE 590/2019) \n3.5.- Dación de cuentas de la ejecución trimestral del presupuesto 2 trimestre 2020 (EXPEDIENTE 3048/2020) \n3.6.- Dación de cuentas de la ejecución trimestral del presupuesto 3 trimestre 2020 (EXPEDIENTE 4386/2020) \n3.7.- Dación de cuentas seguimiento plan de ajuste 2 trimestre 2020 (EXPEDIENTE 3049/2020) \n3.8.- Dación de cuentas seguimiento plan de ajuste 3 trimestre 2020 (EXPEDIENTE 4384/2020) \n3.9.- Dación de cuentas del informe anual de intervención relativo al cumplimiento del Plan de Reducción de deuda 2015-2019 (EXPEDIENTE 5820/2020). \n4. RUEGOS Y PREGUNTAS
URL:https://www.sanmartindevaldeiglesias.es/evento/pleno-ordinario-26/
LOCATION:Ayuntamiento
CATEGORIES:Pleno
END:VEVENT
BEGIN:VEVENT
DTSTART;TZID=Europe/Madrid:20201204T120000
DTEND;TZID=Europe/Madrid:20210130T200000
DTSTAMP:20260421T074525
CREATED:20201203T123736Z
LAST-MODIFIED:20210120T122439Z
UID:19321-1607083200-1612036800@www.sanmartindevaldeiglesias.es
SUMMARY:Exposición: Vive la Magia
DESCRIPTION:
URL:https://www.sanmartindevaldeiglesias.es/evento/exposicion-vive-la-magia/
LOCATION:Centro «Los Lavaderos»\, Plaza de Teodoro Bravo\, 15\, San Martín de Valdeiglesias\, Madrid\, 28680\, España
CATEGORIES:Exposiciones
END:VEVENT
BEGIN:VEVENT
DTSTART;TZID=Europe/Madrid:20201211T120000
DTEND;TZID=Europe/Madrid:20201211T133000
DTSTAMP:20260421T074525
CREATED:20201203T124500Z
LAST-MODIFIED:20201203T124500Z
UID:19323-1607688000-1607693400@www.sanmartindevaldeiglesias.es
SUMMARY:Visita virtual al Real Centro Universitario María Cristina
DESCRIPTION:
URL:https://www.sanmartindevaldeiglesias.es/evento/visita-virtual-al-real-centro-universitario-maria-cristina/
LOCATION:Madrid
CATEGORIES:CURSOS
END:VEVENT
BEGIN:VEVENT
DTSTART;TZID=Europe/Madrid:20201212T201500
DTEND;TZID=Europe/Madrid:20201212T220000
DTSTAMP:20260421T074525
CREATED:20201023T104942Z
LAST-MODIFIED:20201023T104942Z
UID:19177-1607804100-1607810400@www.sanmartindevaldeiglesias.es
SUMMARY:Teatro: Lunátika
DESCRIPTION:
URL:https://www.sanmartindevaldeiglesias.es/evento/teatro-lunatika/
LOCATION:Teatro municipal\, Calle Fuente 4\, San Martín de Valdeiglesias\, Madrid\, 28680\, España
CATEGORIES:Teatro
END:VEVENT
BEGIN:VEVENT
DTSTART;TZID=Europe/Madrid:20201213T170000
DTEND;TZID=Europe/Madrid:20201213T183000
DTSTAMP:20260421T074525
CREATED:20201203T130342Z
LAST-MODIFIED:20201203T130342Z
UID:19326-1607878800-1607884200@www.sanmartindevaldeiglesias.es
SUMMARY:Espectáculo de magia
DESCRIPTION:La magia de Fernando  Arribas
URL:https://www.sanmartindevaldeiglesias.es/evento/espectaculo-de-magia/
LOCATION:Teatro municipal\, Calle Fuente 4\, San Martín de Valdeiglesias\, Madrid\, 28680\, España
END:VEVENT
BEGIN:VEVENT
DTSTART;TZID=Europe/Madrid:20201219T170000
DTEND;TZID=Europe/Madrid:20201219T183000
DTSTAMP:20260421T074525
CREATED:20201203T131215Z
LAST-MODIFIED:20201203T131537Z
UID:19329-1608397200-1608402600@www.sanmartindevaldeiglesias.es
SUMMARY:Espectáculo de magia
DESCRIPTION:Espectáculo a cargo de los magos  Mad Martín  y Mario Wenceslao.
URL:https://www.sanmartindevaldeiglesias.es/evento/espectaculo-de-magia-2/
LOCATION:Teatro municipal\, Calle Fuente 4\, San Martín de Valdeiglesias\, Madrid\, 28680\, España
END:VEVENT
BEGIN:VEVENT
DTSTART;TZID=Europe/Madrid:20201223T170000
DTEND;TZID=Europe/Madrid:20201223T170000
DTSTAMP:20260421T074525
CREATED:20201223T135308Z
LAST-MODIFIED:20201223T135308Z
UID:19398-1608742800-1608742800@www.sanmartindevaldeiglesias.es
SUMMARY:Visita Papá Noel y cine
DESCRIPTION:
URL:https://www.sanmartindevaldeiglesias.es/evento/visita-papa-noel-y-cine/
LOCATION:Teatro municipal\, Calle Fuente 4\, San Martín de Valdeiglesias\, Madrid\, 28680\, España
END:VEVENT
BEGIN:VEVENT
DTSTART;TZID=Europe/Madrid:20201224T120000
DTEND;TZID=Europe/Madrid:20201224T140000
DTSTAMP:20260421T074525
CREATED:20201223T135555Z
LAST-MODIFIED:20201223T135555Z
UID:19401-1608811200-1608818400@www.sanmartindevaldeiglesias.es
SUMMARY:Visita Papá Noel y cine
DESCRIPTION:
URL:https://www.sanmartindevaldeiglesias.es/evento/visita-papa-noel-y-cine-2/
LOCATION:Teatro municipal\, Calle Fuente 4\, San Martín de Valdeiglesias\, Madrid\, 28680\, España
CATEGORIES:Cine,Fiestas
END:VEVENT
BEGIN:VEVENT
DTSTART;TZID=Europe/Madrid:20201226T170000
DTEND;TZID=Europe/Madrid:20201226T183000
DTSTAMP:20260421T074525
CREATED:20201203T131507Z
LAST-MODIFIED:20201203T131606Z
UID:19331-1609002000-1609007400@www.sanmartindevaldeiglesias.es
SUMMARY:Espectáculo de magia
DESCRIPTION:A cargo de Carlos Adriano y Coral Serrate.
URL:https://www.sanmartindevaldeiglesias.es/evento/espectaculo-de-magia-3/
LOCATION:Teatro municipal\, Calle Fuente 4\, San Martín de Valdeiglesias\, Madrid\, 28680\, España
END:VEVENT
BEGIN:VEVENT
DTSTART;TZID=Europe/Madrid:20201229T193000
DTEND;TZID=Europe/Madrid:20201229T210000
DTSTAMP:20260421T074525
CREATED:20201228T104424Z
LAST-MODIFIED:20201228T104424Z
UID:19403-1609270200-1609275600@www.sanmartindevaldeiglesias.es
SUMMARY:Concierto: Unión Musical
DESCRIPTION:
URL:https://www.sanmartindevaldeiglesias.es/evento/concierto-union-musical-3/
LOCATION:Teatro municipal\, Calle Fuente 4\, San Martín de Valdeiglesias\, Madrid\, 28680\, España
CATEGORIES:Conciertos
END:VEVENT
BEGIN:VEVENT
DTSTART;TZID=Europe/Madrid:20201230T170000
DTEND;TZID=Europe/Madrid:20201230T183000
DTSTAMP:20260421T074525
CREATED:20201203T131811Z
LAST-MODIFIED:20201228T104711Z
UID:19333-1609347600-1609353000@www.sanmartindevaldeiglesias.es
SUMMARY:Espectáculo de Magia
DESCRIPTION:A cargo de Miguel Gómez y Luis Noval.
URL:https://www.sanmartindevaldeiglesias.es/evento/espectaculo-de-magia-4/
LOCATION:Teatro municipal\, Calle Fuente 4\, San Martín de Valdeiglesias\, Madrid\, 28680\, España
CATEGORIES:Fiestas,Teatro
END:VEVENT
END:VCALENDAR