BEGIN:VCALENDAR
VERSION:2.0
PRODID:-//San Martín de Valdeiglesias - ECPv6.15.20//NONSGML v1.0//EN
CALSCALE:GREGORIAN
METHOD:PUBLISH
X-ORIGINAL-URL:https://www.sanmartindevaldeiglesias.es
X-WR-CALDESC:Eventos para San Martín de Valdeiglesias
REFRESH-INTERVAL;VALUE=DURATION:PT1H
X-Robots-Tag:noindex
X-PUBLISHED-TTL:PT1H
BEGIN:VTIMEZONE
TZID:Europe/Madrid
BEGIN:DAYLIGHT
TZOFFSETFROM:+0100
TZOFFSETTO:+0200
TZNAME:CEST
DTSTART:20200329T010000
END:DAYLIGHT
BEGIN:STANDARD
TZOFFSETFROM:+0200
TZOFFSETTO:+0100
TZNAME:CET
DTSTART:20201025T010000
END:STANDARD
BEGIN:DAYLIGHT
TZOFFSETFROM:+0100
TZOFFSETTO:+0200
TZNAME:CEST
DTSTART:20210328T010000
END:DAYLIGHT
BEGIN:STANDARD
TZOFFSETFROM:+0200
TZOFFSETTO:+0100
TZNAME:CET
DTSTART:20211031T010000
END:STANDARD
BEGIN:DAYLIGHT
TZOFFSETFROM:+0100
TZOFFSETTO:+0200
TZNAME:CEST
DTSTART:20220327T010000
END:DAYLIGHT
BEGIN:STANDARD
TZOFFSETFROM:+0200
TZOFFSETTO:+0100
TZNAME:CET
DTSTART:20221030T010000
END:STANDARD
END:VTIMEZONE
BEGIN:VEVENT
DTSTART;VALUE=DATE:20210205
DTEND;VALUE=DATE:20210307
DTSTAMP:20260421T042902
CREATED:20210217T130311Z
LAST-MODIFIED:20210217T130311Z
UID:19489-1612483200-1615075199@www.sanmartindevaldeiglesias.es
SUMMARY:Concurso de fotografía
DESCRIPTION:  \nBases del concurso: + info
URL:https://www.sanmartindevaldeiglesias.es/evento/concurso-de-fotografia-2/
LOCATION:Madrid
CATEGORIES:Participacion ciudadana
END:VEVENT
BEGIN:VEVENT
DTSTART;TZID=Europe/Madrid:20210227T190000
DTEND;TZID=Europe/Madrid:20210227T210000
DTSTAMP:20260421T042902
CREATED:20210202T123633Z
LAST-MODIFIED:20210225T084721Z
UID:19443-1614452400-1614459600@www.sanmartindevaldeiglesias.es
SUMMARY:Teatro: Mentiras inteligentes
DESCRIPTION:Información y venta de entradas anticipadas en el centro cultural La Estación.  Horario de lunes a viernes de 10 a 15 h.(s necesario concertar cita previa. Tel. 91 861 24 20 – cultura@sanmartindevaldeiglesias.es)
URL:https://www.sanmartindevaldeiglesias.es/evento/teatro-mentiras-inteligentes/
LOCATION:Teatro municipal\, Calle Fuente 4\, San Martín de Valdeiglesias\, Madrid\, 28680\, España
CATEGORIES:Teatro
END:VEVENT
END:VCALENDAR