BEGIN:VCALENDAR
VERSION:2.0
PRODID:-//San Martín de Valdeiglesias - ECPv6.15.20//NONSGML v1.0//EN
CALSCALE:GREGORIAN
METHOD:PUBLISH
X-ORIGINAL-URL:https://www.sanmartindevaldeiglesias.es
X-WR-CALDESC:Eventos para San Martín de Valdeiglesias
REFRESH-INTERVAL;VALUE=DURATION:PT1H
X-Robots-Tag:noindex
X-PUBLISHED-TTL:PT1H
BEGIN:VTIMEZONE
TZID:Europe/Madrid
BEGIN:DAYLIGHT
TZOFFSETFROM:+0100
TZOFFSETTO:+0200
TZNAME:CEST
DTSTART:20200329T010000
END:DAYLIGHT
BEGIN:STANDARD
TZOFFSETFROM:+0200
TZOFFSETTO:+0100
TZNAME:CET
DTSTART:20201025T010000
END:STANDARD
BEGIN:DAYLIGHT
TZOFFSETFROM:+0100
TZOFFSETTO:+0200
TZNAME:CEST
DTSTART:20210328T010000
END:DAYLIGHT
BEGIN:STANDARD
TZOFFSETFROM:+0200
TZOFFSETTO:+0100
TZNAME:CET
DTSTART:20211031T010000
END:STANDARD
BEGIN:DAYLIGHT
TZOFFSETFROM:+0100
TZOFFSETTO:+0200
TZNAME:CEST
DTSTART:20220327T010000
END:DAYLIGHT
BEGIN:STANDARD
TZOFFSETFROM:+0200
TZOFFSETTO:+0100
TZNAME:CET
DTSTART:20221030T010000
END:STANDARD
END:VTIMEZONE
BEGIN:VEVENT
DTSTART;VALUE=DATE:20210514
DTEND;VALUE=DATE:20210607
DTSTAMP:20260420T215035
CREATED:20210518T070802Z
LAST-MODIFIED:20210518T070802Z
UID:19786-1620950400-1623023999@www.sanmartindevaldeiglesias.es
SUMMARY:Exposición: "El Paso de Filomena"
DESCRIPTION:
URL:https://www.sanmartindevaldeiglesias.es/evento/exposicion-el-paso-de-filomena/
LOCATION:Centro cultural «La Estación»\, Av. del Ferrocarril\, 14B\,\, San Martín de Valdeiglesias\, Madrid\, 28680\, España
CATEGORIES:Exposiciones
END:VEVENT
BEGIN:VEVENT
DTSTART;VALUE=DATE:20210517
DTEND;VALUE=DATE:20210701
DTSTAMP:20260420T215035
CREATED:20210518T071314Z
LAST-MODIFIED:20210518T071314Z
UID:19790-1621209600-1625097599@www.sanmartindevaldeiglesias.es
SUMMARY:Campaña vacunación antirrábica
DESCRIPTION:.
URL:https://www.sanmartindevaldeiglesias.es/evento/campana-vacunacion-antirrabica-2/
LOCATION:Madrid
CATEGORIES:Salud
END:VEVENT
BEGIN:VEVENT
DTSTART;TZID=Europe/Madrid:20210611T150000
DTEND;TZID=Europe/Madrid:20210611T180000
DTSTAMP:20260420T215035
CREATED:20210604T122454Z
LAST-MODIFIED:20210604T122454Z
UID:19874-1623423600-1623434400@www.sanmartindevaldeiglesias.es
SUMMARY:Atención al consumidor
DESCRIPTION:Servicio de atención e información al consumidor. \nJueves\, 11 de junio de 15 a 18 h.  \nPara acceder a este servicio es necesario concertar cita previa en el teléfono 91 861 18 10 – desarrollo@sanmartindevaldeiglesias.es
URL:https://www.sanmartindevaldeiglesias.es/evento/atencion-al-consumidor-duplicate-1-4/
LOCATION:Centro de Formación y Desarrollo\, Ctra. de Toledo\, s/n\, San Martín de Valdeiglesias\, Madrid\, 28680\, España
CATEGORIES:Servicios a la ciudadanía
END:VEVENT
BEGIN:VEVENT
DTSTART;VALUE=DATE:20210612
DTEND;VALUE=DATE:20210614
DTSTAMP:20260420T215035
CREATED:20210520T164324Z
LAST-MODIFIED:20210520T164324Z
UID:19824-1623456000-1623628799@www.sanmartindevaldeiglesias.es
SUMMARY:Feria del vino
DESCRIPTION:
URL:https://www.sanmartindevaldeiglesias.es/evento/feria-del-vino/
LOCATION:Plaza de toros
CATEGORIES:Desarrollo económico,Medio Ambiente,Turismo
END:VEVENT
BEGIN:VEVENT
DTSTART;TZID=Europe/Madrid:20210620T110000
DTEND;TZID=Europe/Madrid:20210620T143000
DTSTAMP:20260420T215035
CREATED:20210604T123216Z
LAST-MODIFIED:20210604T123216Z
UID:19879-1624186800-1624199400@www.sanmartindevaldeiglesias.es
SUMMARY:Campeonato de culturismo
DESCRIPTION:
URL:https://www.sanmartindevaldeiglesias.es/evento/campeonato-de-culturismo/
LOCATION:Teatro municipal\, Calle Fuente 4\, San Martín de Valdeiglesias\, Madrid\, 28680\, España
CATEGORIES:Deportes
END:VEVENT
BEGIN:VEVENT
DTSTART;TZID=Europe/Madrid:20210621T200000
DTEND;TZID=Europe/Madrid:20210621T210000
DTSTAMP:20260420T215035
CREATED:20210621T115753Z
LAST-MODIFIED:20210621T115753Z
UID:19900-1624305600-1624309200@www.sanmartindevaldeiglesias.es
SUMMARY:Audición aula de guitarra
DESCRIPTION:
URL:https://www.sanmartindevaldeiglesias.es/evento/audicion-aula-de-guitarra/
LOCATION:Plaza de toros
CATEGORIES:Conciertos
END:VEVENT
BEGIN:VEVENT
DTSTART;TZID=Europe/Madrid:20210622T200000
DTEND;TZID=Europe/Madrid:20210622T210000
DTSTAMP:20260420T215035
CREATED:20210621T115852Z
LAST-MODIFIED:20210621T115852Z
UID:19903-1624392000-1624395600@www.sanmartindevaldeiglesias.es
SUMMARY:Audición de piano y clarinete
DESCRIPTION:
URL:https://www.sanmartindevaldeiglesias.es/evento/audicion-aula-de-guitarra-duplicate-1/
LOCATION:Plaza de toros
CATEGORIES:Conciertos
END:VEVENT
BEGIN:VEVENT
DTSTART;TZID=Europe/Madrid:20210623T200000
DTEND;TZID=Europe/Madrid:20210623T210000
DTSTAMP:20260420T215035
CREATED:20210621T115943Z
LAST-MODIFIED:20210621T115943Z
UID:19905-1624478400-1624482000@www.sanmartindevaldeiglesias.es
SUMMARY:Audición aulas de canto y violín
DESCRIPTION:
URL:https://www.sanmartindevaldeiglesias.es/evento/audicion-de-piano-y-clarinete-duplicate-1/
LOCATION:Plaza de toros
CATEGORIES:Conciertos
END:VEVENT
BEGIN:VEVENT
DTSTART;TZID=Europe/Madrid:20210624T200000
DTEND;TZID=Europe/Madrid:20210624T213000
DTSTAMP:20260420T215035
CREATED:20210621T120041Z
LAST-MODIFIED:20210621T120041Z
UID:19907-1624564800-1624570200@www.sanmartindevaldeiglesias.es
SUMMARY:Audición: saxofón\, bailes de salón\, violín
DESCRIPTION:
URL:https://www.sanmartindevaldeiglesias.es/evento/audicion-aulas-de-canto-y-violin-duplicate-1/
LOCATION:Plaza de toros
CATEGORIES:Conciertos
END:VEVENT
BEGIN:VEVENT
DTSTART;TZID=Europe/Madrid:20210625T150000
DTEND;TZID=Europe/Madrid:20210625T180000
DTSTAMP:20260420T215035
CREATED:20210604T122543Z
LAST-MODIFIED:20210604T122543Z
UID:19876-1624633200-1624644000@www.sanmartindevaldeiglesias.es
SUMMARY:Atención al consumidor
DESCRIPTION:Servicio de atención e información al consumidor. \nJueves\, 25 de junio de 15 a 18 h.  \nPara acceder a este servicio es necesario concertar cita previa en el teléfono 91 861 18 10 – desarrollo@sanmartindevaldeiglesias.es
URL:https://www.sanmartindevaldeiglesias.es/evento/atencion-al-consumidor-duplicate-1-5/
LOCATION:Centro de Formación y Desarrollo\, Ctra. de Toledo\, s/n\, San Martín de Valdeiglesias\, Madrid\, 28680\, España
CATEGORIES:Servicios a la ciudadanía
END:VEVENT
BEGIN:VEVENT
DTSTART;TZID=Europe/Madrid:20210625T200000
DTEND;TZID=Europe/Madrid:20210625T213000
DTSTAMP:20260420T215035
CREATED:20210621T120148Z
LAST-MODIFIED:20210621T120148Z
UID:19909-1624651200-1624656600@www.sanmartindevaldeiglesias.es
SUMMARY:Audición: trompeta/viento metal e iniciación
DESCRIPTION:
URL:https://www.sanmartindevaldeiglesias.es/evento/audicion-saxofon-bailes-de-salon-violin-duplicate-1/
LOCATION:Plaza de toros
CATEGORIES:Conciertos
END:VEVENT
END:VCALENDAR