BEGIN:VCALENDAR
VERSION:2.0
PRODID:-//San Martín de Valdeiglesias - ECPv6.15.20//NONSGML v1.0//EN
CALSCALE:GREGORIAN
METHOD:PUBLISH
X-WR-CALNAME:San Martín de Valdeiglesias
X-ORIGINAL-URL:https://www.sanmartindevaldeiglesias.es
X-WR-CALDESC:Eventos para San Martín de Valdeiglesias
REFRESH-INTERVAL;VALUE=DURATION:PT1H
X-Robots-Tag:noindex
X-PUBLISHED-TTL:PT1H
BEGIN:VTIMEZONE
TZID:Europe/Madrid
BEGIN:DAYLIGHT
TZOFFSETFROM:+0100
TZOFFSETTO:+0200
TZNAME:CEST
DTSTART:20200329T010000
END:DAYLIGHT
BEGIN:STANDARD
TZOFFSETFROM:+0200
TZOFFSETTO:+0100
TZNAME:CET
DTSTART:20201025T010000
END:STANDARD
BEGIN:DAYLIGHT
TZOFFSETFROM:+0100
TZOFFSETTO:+0200
TZNAME:CEST
DTSTART:20210328T010000
END:DAYLIGHT
BEGIN:STANDARD
TZOFFSETFROM:+0200
TZOFFSETTO:+0100
TZNAME:CET
DTSTART:20211031T010000
END:STANDARD
BEGIN:DAYLIGHT
TZOFFSETFROM:+0100
TZOFFSETTO:+0200
TZNAME:CEST
DTSTART:20220327T010000
END:DAYLIGHT
BEGIN:STANDARD
TZOFFSETFROM:+0200
TZOFFSETTO:+0100
TZNAME:CET
DTSTART:20221030T010000
END:STANDARD
END:VTIMEZONE
BEGIN:VEVENT
DTSTART;TZID=Europe/Madrid:20211106T200000
DTEND;TZID=Europe/Madrid:20211106T213000
DTSTAMP:20260420T141651
CREATED:20210915T082914Z
LAST-MODIFIED:20210915T082914Z
UID:20260-1636228800-1636234200@www.sanmartindevaldeiglesias.es
SUMMARY:Teatro: Imbécil (Midiendo las palabras)
DESCRIPTION:INTÉRPRETE: Álex O´Dogherty \nEDAD RECOMENDADA: Adultos. \nDURACIÓN: 100 minutos \nAUTOR Y DIRECTOR: Álex O´Dogherty \nSINOPSIS: Álex O’Dogherty es IMBÉCIL. Mide mucho las palabras. Además\, le afectan mucho. Las palabras. Las buenas poco\, las malas mucho. ¿Es o no es IMBÉCIL? ¿Por qué nos afectan tanto las palabras? Se pregunta Álex O’Dogherty en este divertido monólogo sobre el poder de las palabras. Que en realidad no va sobre el poder de las palabras\, si no sobre el poder que tenemos los que las usamos. Una palabra es sólo una reunión de letras\, pero puede hacerte reír\, llorar\, sorprenderte\, sonrojarte\, enamorarte\, enfadarte. Bueno\, la palabra no\, la persona que la utiliza.
URL:https://www.sanmartindevaldeiglesias.es/evento/teatro-imbecil-midiendo-las-palabras/
LOCATION:Teatro municipal\, Calle Fuente 4\, San Martín de Valdeiglesias\, Madrid\, 28680\, España
CATEGORIES:Teatro
END:VEVENT
BEGIN:VEVENT
DTSTART;VALUE=DATE:20211110
DTEND;VALUE=DATE:20211115
DTSTAMP:20260420T141651
CREATED:20211102T134343Z
LAST-MODIFIED:20211102T134343Z
UID:20460-1636502400-1636934399@www.sanmartindevaldeiglesias.es
SUMMARY:Fiestas de San Martín de Tours
DESCRIPTION:Pinchar sobre la imagen para ver el programa de actividades
URL:https://www.sanmartindevaldeiglesias.es/evento/fiestas-de-san-martin-de-tours-2/
LOCATION:Madrid
CATEGORIES:Fiestas,Participacion ciudadana
END:VEVENT
BEGIN:VEVENT
DTSTART;VALUE=DATE:20211112
DTEND;VALUE=DATE:20211113
DTSTAMP:20260420T141651
CREATED:20211027T083748Z
LAST-MODIFIED:20211027T083748Z
UID:20425-1636675200-1636761599@www.sanmartindevaldeiglesias.es
SUMMARY:Concurso de Dj
DESCRIPTION:I Concurso de DJ San Martín de Valdeiglesias. \n12 de noviembre. \nInscripciones en el Ayuntamiento.
URL:https://www.sanmartindevaldeiglesias.es/evento/concurso-de-dj/
LOCATION:Madrid
CATEGORIES:Fiestas
END:VEVENT
BEGIN:VEVENT
DTSTART;TZID=Europe/Madrid:20211113T120000
DTEND;TZID=Europe/Madrid:20211114T160000
DTSTAMP:20260420T141651
CREATED:20211102T133412Z
LAST-MODIFIED:20211102T133412Z
UID:20458-1636804800-1636905600@www.sanmartindevaldeiglesias.es
SUMMARY:Ruta de la Tapa
DESCRIPTION:
URL:https://www.sanmartindevaldeiglesias.es/evento/ruta-de-la-tapa/
LOCATION:Madrid
CATEGORIES:Desarrollo económico,Fiestas
END:VEVENT
BEGIN:VEVENT
DTSTART;TZID=Europe/Madrid:20211127T200000
DTEND;TZID=Europe/Madrid:20211127T213000
DTSTAMP:20260420T141651
CREATED:20210915T083342Z
LAST-MODIFIED:20210915T083342Z
UID:20262-1638043200-1638048600@www.sanmartindevaldeiglesias.es
SUMMARY:Teatro: La señorita Doña Margarita
DESCRIPTION:CÍA: Petra Martínez y Buen Margallo. \nINTÉRPETRES: Petra Martínez \nEDAD RECOMENDADA: Público adulto \nDURACIÓN: 80 minutos. \nAUTOR: Roberto Athayde. \nDIRECCIÓN:  Juan Margallo. \nSINOPSIS: La señorita Doña Margarita es maestra. Autoritaria\, ecologista\, ególatra\, violenta\, sensible\, cariñosa y muchas otras cosas\, trata de iniciarnos en el mundo de los adultos. Por tanto\, el mundo de la alfabetización informática\, el who is who\, o reconocer que no somos nada\, forma parte del bagaje que Dª Margarita quiere transmitirnos para prepararnos para «la vida moderna».
URL:https://www.sanmartindevaldeiglesias.es/evento/teatro-la-senorita-dona-margarita/
LOCATION:Teatro municipal\, Calle Fuente 4\, San Martín de Valdeiglesias\, Madrid\, 28680\, España
CATEGORIES:Teatro
END:VEVENT
END:VCALENDAR