BEGIN:VCALENDAR
VERSION:2.0
PRODID:-//San Martín de Valdeiglesias - ECPv6.15.20//NONSGML v1.0//EN
CALSCALE:GREGORIAN
METHOD:PUBLISH
X-WR-CALNAME:San Martín de Valdeiglesias
X-ORIGINAL-URL:https://www.sanmartindevaldeiglesias.es
X-WR-CALDESC:Eventos para San Martín de Valdeiglesias
REFRESH-INTERVAL;VALUE=DURATION:PT1H
X-Robots-Tag:noindex
X-PUBLISHED-TTL:PT1H
BEGIN:VTIMEZONE
TZID:Europe/Madrid
BEGIN:DAYLIGHT
TZOFFSETFROM:+0100
TZOFFSETTO:+0200
TZNAME:CEST
DTSTART:20210328T010000
END:DAYLIGHT
BEGIN:STANDARD
TZOFFSETFROM:+0200
TZOFFSETTO:+0100
TZNAME:CET
DTSTART:20211031T010000
END:STANDARD
BEGIN:DAYLIGHT
TZOFFSETFROM:+0100
TZOFFSETTO:+0200
TZNAME:CEST
DTSTART:20220327T010000
END:DAYLIGHT
BEGIN:STANDARD
TZOFFSETFROM:+0200
TZOFFSETTO:+0100
TZNAME:CET
DTSTART:20221030T010000
END:STANDARD
BEGIN:DAYLIGHT
TZOFFSETFROM:+0100
TZOFFSETTO:+0200
TZNAME:CEST
DTSTART:20230326T010000
END:DAYLIGHT
BEGIN:STANDARD
TZOFFSETFROM:+0200
TZOFFSETTO:+0100
TZNAME:CET
DTSTART:20231029T010000
END:STANDARD
END:VTIMEZONE
BEGIN:VEVENT
DTSTART;TZID=Europe/Madrid:20220101T190000
DTEND;TZID=Europe/Madrid:20220101T203000
DTSTAMP:20260420T111209
CREATED:20211209T130058Z
LAST-MODIFIED:20211229T164117Z
UID:20565-1641063600-1641069000@www.sanmartindevaldeiglesias.es
SUMMARY:Tributo al Circo del Sol
DESCRIPTION:Un espectáculo lleno de magia\, ilusión y fantasía. \nAforo limitado. \nObligatorio el uso de mascarilla. \nEntradas en el Ayuntamiento. Una entrada por cada 20 € de compra en los establecimientos adheridos. \nPrograma completo de actividades (.pdf) 4.070 kb. (abre nueva ventana).
URL:https://www.sanmartindevaldeiglesias.es/evento/tributo-al-circo-del-sol/
LOCATION:Teatro municipal\, Calle Fuente 4\, San Martín de Valdeiglesias\, Madrid\, 28680\, España
CATEGORIES:Desarrollo económico
END:VEVENT
BEGIN:VEVENT
DTSTART;TZID=Europe/Madrid:20220103T190000
DTEND;TZID=Europe/Madrid:20220103T203000
DTSTAMP:20260420T111209
CREATED:20211209T130821Z
LAST-MODIFIED:20211229T164005Z
UID:20569-1641236400-1641241800@www.sanmartindevaldeiglesias.es
SUMMARY:Espectáculo: Burbujas mágicas
DESCRIPTION:Espectáculo para toda la familia. \nRecogida de entradas en el Ayuntamiento. Una entrada por cada 10 € de compra en los establecimientos adheridos (presenta tu tickets). \nAforo limitado. \nObligatorio el uso de mascarilla. \nPrograma completo de actividades (.pdf) 4.070 kb. (abre nueva ventana).
URL:https://www.sanmartindevaldeiglesias.es/evento/espectaculo-burbujas-magicas/
LOCATION:Teatro municipal\, Calle Fuente 4\, San Martín de Valdeiglesias\, Madrid\, 28680\, España
CATEGORIES:Desarrollo económico
END:VEVENT
BEGIN:VEVENT
DTSTART;VALUE=DATE:20220104
DTEND;VALUE=DATE:20220105
DTSTAMP:20260420T111209
CREATED:20211209T132036Z
LAST-MODIFIED:20211229T163922Z
UID:20571-1641254400-1641340799@www.sanmartindevaldeiglesias.es
SUMMARY:Visita del Paje Real
DESCRIPTION:Visita del ayudante de sus Majestades los Reyes de Oriente con el tren de la Navidad. \nEl buzón  para depositar las últimas cartas a los Reyes estará ubicado en la Plaza Real. \nHorario de 12 a 14 h. y de 17 a 19 h. \nObligatorio el uso de mascarilla. \nPrograma completo de actividades (.pdf) 4.070 kb. (abre nueva ventana).
URL:https://www.sanmartindevaldeiglesias.es/evento/visita-del-paje-real-3/
LOCATION:Madrid
END:VEVENT
BEGIN:VEVENT
DTSTART;TZID=Europe/Madrid:20220104T160000
DTEND;TZID=Europe/Madrid:20220104T173000
DTSTAMP:20260420T111209
CREATED:20211209T120946Z
LAST-MODIFIED:20211229T163828Z
UID:20545-1641312000-1641317400@www.sanmartindevaldeiglesias.es
SUMMARY:Carrera de Triciclos
DESCRIPTION:Categorías: Mini Babys de 1-2 años.  Babys de 3 a 4 años.  Adulto desde los 16 años. \nObligatorio participar con disfraz Disney. \nOrganizado por Burguer El Castillo. \nObligatorio el uso de mascarilla. \nPrograma completo de actividades (.pdf) 4.070 kb. (abre nueva ventana).
URL:https://www.sanmartindevaldeiglesias.es/evento/carrera-de-triciclos-2/
LOCATION:Plaza de Teodoro Bravo\, Plaza de Teodoro Bravo\, San Martín de Valdeiglesias\, Madrid\, 28680
CATEGORIES:Deportes
END:VEVENT
BEGIN:VEVENT
DTSTART;TZID=Europe/Madrid:20220104T190000
DTEND;TZID=Europe/Madrid:20220104T203000
DTSTAMP:20260420T111209
CREATED:20211209T132554Z
LAST-MODIFIED:20211229T163722Z
UID:20573-1641322800-1641328200@www.sanmartindevaldeiglesias.es
SUMMARY:Musical: La magia de los cuentos
DESCRIPTION:Espectáculo Musical. \nAforo limitado. \nPrecio de las entradas: \n\nVenta anticipada general: 15 € –  Anticipada con descuento: 11 €\nTaquilla: 18 €.\n\nEntrada gratuita por cada 20 € de compra en los establecimientos adheridos a la campaña especial para promocionar las empresas locales. (presenta tu tickets). \nRecogida de entradas en el Ayuntamiento. \nObligatorio el uso de mascarilla. \nPrograma completo de actividades (.pdf) 4.070 kb. (abre nueva ventana).
URL:https://www.sanmartindevaldeiglesias.es/evento/musical-anastasia/
LOCATION:Teatro municipal\, Calle Fuente 4\, San Martín de Valdeiglesias\, Madrid\, 28680\, España
CATEGORIES:Desarrollo económico,Teatro
END:VEVENT
BEGIN:VEVENT
DTSTART;VALUE=DATE:20220105
DTEND;VALUE=DATE:20220106
DTSTAMP:20260420T111209
CREATED:20211209T132827Z
LAST-MODIFIED:20211229T163756Z
UID:20575-1641340800-1641427199@www.sanmartindevaldeiglesias.es
SUMMARY:Gran Cabalgata de Reyes
DESCRIPTION:Las calles del municipio se llenarán de luz\, magia\, ilusión y color junto a los tan esperados Reyes Magos de Oriente. \nInformación del recorrido y horario unos días antes por las redes sociales municipales. \nFinal de la cabalgata en la Plaza de Toros. \nObligatorio el uso de mascarilla. \nPrograma completo de actividades (.pdf) 4.070 kb. (abre nueva ventana).
URL:https://www.sanmartindevaldeiglesias.es/evento/gran-cabalgata-de-reyes-2/
LOCATION:Madrid
CATEGORIES:Desarrollo económico,Participacion ciudadana
END:VEVENT
BEGIN:VEVENT
DTSTART;TZID=Europe/Madrid:20220119T120000
DTEND;TZID=Europe/Madrid:20220119T133000
DTSTAMP:20260420T111209
CREATED:20220118T092502Z
LAST-MODIFIED:20220118T092502Z
UID:20640-1642593600-1642599000@www.sanmartindevaldeiglesias.es
SUMMARY:Pleno extraordinario
DESCRIPTION:El Ayuntamiento de San Martín de Valdeiglesias celebrará SESIÓN EXTRAORDINARIA DEL PLENO\, a las 12 horas del día 19 de enero de 2022 con el siguiente Orden del día: \nPRIMERO: DAR CUENTA DE: \n1.- Expediente 1633/2021 \n2.- Todos los expedientes judiciales abiertos actualmente en el Ayuntamiento y todos los costes producidos por los mismos. \n3.- Las sentencias de los procedimientos en los que sean parte trabajadores municipales. \nSEGUNDO:  \n1.- Someter a votación el desestimiento por parte del Ayuntamiento de la querella interpuesta referente al expediente 1633/2020\, en virtud del acuerdo plenario de fecha 28/11/2020 en el que se evocaban las competencias delegadas en la Junta de Gobierno al pleno del Ayuntamiento.
URL:https://www.sanmartindevaldeiglesias.es/evento/pleno-extraordinario-21/
LOCATION:Ayuntamiento
CATEGORIES:Pleno
END:VEVENT
BEGIN:VEVENT
DTSTART;TZID=Europe/Madrid:20220127T190000
DTEND;TZID=Europe/Madrid:20220127T203000
DTSTAMP:20260420T111209
CREATED:20220125T103721Z
LAST-MODIFIED:20220125T103746Z
UID:20683-1643310000-1643315400@www.sanmartindevaldeiglesias.es
SUMMARY:Pleno ordinario
DESCRIPTION:El Ayuntamiento de San Martín de Valdeiglesias celebrará sesión ORDINARIA del Pleno\, el día 27 de enero de 2022\, a las 19 h.\, con el siguiente orden del día: \nA) PARTE RESOLUTIVA: \n\nAprobación del acta de la sesión anterior.\nExpediente 7127/2021. Solicitud de cese en el cargo público.\nExpediente 5041/2021 Imposición y ordenación de tributos. Ordenanza de recogida de animales.\n\nB) ACTIVIDAD DE CONTROL \nLibro de decretos del día 29 de noviembre del 2021 al 23 de enero de 2022. \nC) RUEGOS Y PREGUNTAS
URL:https://www.sanmartindevaldeiglesias.es/evento/pleno-ordinario-32/
LOCATION:Ayuntamiento
CATEGORIES:Pleno
END:VEVENT
BEGIN:VEVENT
DTSTART;TZID=Europe/Madrid:20220128T180000
DTEND;TZID=Europe/Madrid:20220128T200000
DTSTAMP:20260420T111209
CREATED:20220121T080700Z
LAST-MODIFIED:20220121T080700Z
UID:20675-1643392800-1643400000@www.sanmartindevaldeiglesias.es
SUMMARY:III Gala Pinche
DESCRIPTION:
URL:https://www.sanmartindevaldeiglesias.es/evento/iii-gala-pinche/
LOCATION:Teatro municipal\, Calle Fuente 4\, San Martín de Valdeiglesias\, Madrid\, 28680\, España
CATEGORIES:Teatro
END:VEVENT
BEGIN:VEVENT
DTSTART;TZID=Europe/Madrid:20220129T200000
DTEND;TZID=Europe/Madrid:20220129T213000
DTSTAMP:20260420T111209
CREATED:20220118T100234Z
LAST-MODIFIED:20220118T100234Z
UID:20645-1643486400-1643491800@www.sanmartindevaldeiglesias.es
SUMMARY:Teatro: Hoy puede ser mi gran noche
DESCRIPTION:Compañía: Teatro en vilo \nIntérpretes: Noemí Rodríguez y Darlene Rodríguez. \nEdad recomendada: Adultos +12 años. \nDuración: 10 minutos. \nAutor: Noemí Rodríguez. \nDirección: Andrea Jiménez. \nSinopsis: Divertida\, valiente y profunda\, una celebración de lo que ya no está\, de lo que pudo ser y no fue\, un canto a los perdedores\, a los que nunca dejan de esperar su momento. \nUn relato desgarrador donde Teatro En Vilo vuelve a desplegar toda la elocuencia de su poética teatral\, la irreverencia\, la ternura y el humor para acercarnos a la batalla de una mujer que se pelea entre lo extraordinario\, la hazaña y la derrota\, el deber ser y la felicidad verdadera. \nEn colaboración con la Red de Teatros de la Comunidad de Madrid. \nVenta de entradas anticipadas en el centro cultural La Estación\, teléfono 91 861 24 20\,  horario de lunes a viernes de 10 a 15 h. \n  \n 
URL:https://www.sanmartindevaldeiglesias.es/evento/teatro-hoy-puede-ser-mi-gran-noche/
LOCATION:Teatro municipal\, Calle Fuente 4\, San Martín de Valdeiglesias\, Madrid\, 28680\, España
CATEGORIES:Teatro
END:VEVENT
END:VCALENDAR