BEGIN:VCALENDAR
VERSION:2.0
PRODID:-//San Martín de Valdeiglesias - ECPv6.15.20//NONSGML v1.0//EN
CALSCALE:GREGORIAN
METHOD:PUBLISH
X-ORIGINAL-URL:https://www.sanmartindevaldeiglesias.es
X-WR-CALDESC:Eventos para San Martín de Valdeiglesias
REFRESH-INTERVAL;VALUE=DURATION:PT1H
X-Robots-Tag:noindex
X-PUBLISHED-TTL:PT1H
BEGIN:VTIMEZONE
TZID:Europe/Madrid
BEGIN:DAYLIGHT
TZOFFSETFROM:+0100
TZOFFSETTO:+0200
TZNAME:CEST
DTSTART:20210328T010000
END:DAYLIGHT
BEGIN:STANDARD
TZOFFSETFROM:+0200
TZOFFSETTO:+0100
TZNAME:CET
DTSTART:20211031T010000
END:STANDARD
BEGIN:DAYLIGHT
TZOFFSETFROM:+0100
TZOFFSETTO:+0200
TZNAME:CEST
DTSTART:20220327T010000
END:DAYLIGHT
BEGIN:STANDARD
TZOFFSETFROM:+0200
TZOFFSETTO:+0100
TZNAME:CET
DTSTART:20221030T010000
END:STANDARD
BEGIN:DAYLIGHT
TZOFFSETFROM:+0100
TZOFFSETTO:+0200
TZNAME:CEST
DTSTART:20230326T010000
END:DAYLIGHT
BEGIN:STANDARD
TZOFFSETFROM:+0200
TZOFFSETTO:+0100
TZNAME:CET
DTSTART:20231029T010000
END:STANDARD
END:VTIMEZONE
BEGIN:VEVENT
DTSTART;TZID=Europe/Madrid:20220301T170000
DTEND;TZID=Europe/Madrid:20220301T230000
DTSTAMP:20260420T080445
CREATED:20220301T120710Z
LAST-MODIFIED:20220301T120710Z
UID:20781-1646154000-1646175600@www.sanmartindevaldeiglesias.es
SUMMARY:Desfile y baile de carnaval
DESCRIPTION:al
URL:https://www.sanmartindevaldeiglesias.es/evento/desfile-y-baile-de-carnaval/
LOCATION:Plaza de toros
CATEGORIES:Carnaval
END:VEVENT
BEGIN:VEVENT
DTSTART;TZID=Europe/Madrid:20220302T200000
DTEND;TZID=Europe/Madrid:20220302T220000
DTSTAMP:20260420T080445
CREATED:20220301T121045Z
LAST-MODIFIED:20220301T121045Z
UID:20784-1646251200-1646258400@www.sanmartindevaldeiglesias.es
SUMMARY:Entierro de la sardina
DESCRIPTION:Entierro de la sardina: Salida a las 20:00 h. desde la Plaza Real acompañados por la Unión Musical de San Martín de Valdeiglesias. Sardina y limonada para todos en la carpa de la Plaza de Toros. \nColabora: Bodega D. Álvaro de Luna.  Asociación mujeres en Igualdad San Martín de Valdeiglesias. \n 
URL:https://www.sanmartindevaldeiglesias.es/evento/entierro-de-la-sardina-3/
LOCATION:Plaza de toros
CATEGORIES:Carnaval
END:VEVENT
BEGIN:VEVENT
DTSTART;TZID=Europe/Madrid:20220305T130000
DTEND;TZID=Europe/Madrid:20220305T170000
DTSTAMP:20260420T080445
CREATED:20220301T121428Z
LAST-MODIFIED:20220301T121428Z
UID:20786-1646485200-1646499600@www.sanmartindevaldeiglesias.es
SUMMARY:Ruta de la tapa carnavalera
DESCRIPTION:DIFRÁZATE\, TAPEA Y BAILA: Amenizado por la charanga «La Nota»\, aprovéchate de las promocione que tienen nuestros establecimientos de Hostelería\, para aquellos disfrazados de Carnaval.  Horario de 13 a 17 h.
URL:https://www.sanmartindevaldeiglesias.es/evento/ruta-de-la-tapa-carnavalera/
LOCATION:Madrid
CATEGORIES:Carnaval
END:VEVENT
BEGIN:VEVENT
DTSTART;TZID=Europe/Madrid:20220305T210000
DTEND;TZID=Europe/Madrid:20220306T030000
DTSTAMP:20260420T080445
CREATED:20220301T121704Z
LAST-MODIFIED:20220303T132840Z
UID:20788-1646514000-1646535600@www.sanmartindevaldeiglesias.es
SUMMARY:Fiesta de DJ
DESCRIPTION:Fiesta de DJ con motivo del Carnaval\, amenizado con Dj\, luz y color. \nHorario: de 21 a 23 h. música para todas las edades. De 23 a 3 de la madrugada aumentamos el ritmo. \nColabora: GUSMUSIC-PRO. \nObligatorio el uso de mascarilla.
URL:https://www.sanmartindevaldeiglesias.es/evento/fiesta-de-dj/
LOCATION:Plaza de toros
CATEGORIES:Carnaval
END:VEVENT
BEGIN:VEVENT
DTSTART;TZID=Europe/Madrid:20220306T170000
DTEND;TZID=Europe/Madrid:20220306T233000
DTSTAMP:20260420T080445
CREATED:20220301T122217Z
LAST-MODIFIED:20220303T124134Z
UID:20790-1646586000-1646609400@www.sanmartindevaldeiglesias.es
SUMMARY:Fiesta de Carnaval
DESCRIPTION:DESFILE\, CONCURSO Y FIESTA DE CARNAVAL \nZancudos\, burbujas\, luces\, música \, animación y sorpresas.  Salida desde la Plaza de Toros acompañados por la Unión Musical de San Martín de Valdeiglesias.  Llegada a la carpa de la Plaza de Toros\, donde se desarrollará la fiesta de Carnaval y la entrega de premios. \nCATEGORÍA POR GRUPOS: 1º PREMIO: 300 €. –  2º PREMIO: 200 € – 3º PREMIO: 100 €. \nCATEGORÍA INDIVIDUAL: 1º PREMIO: 150 € – 2º PREMIO: 100 € – 3º PREMIO: 50 € \n(Inscripciones en el Ayuntamiento de San Martín de Valdeiglesias y 30 minutos antes del desfile).
URL:https://www.sanmartindevaldeiglesias.es/evento/fiesta-de-carnaval-2/
LOCATION:Plaza de toros
CATEGORIES:Carnaval
END:VEVENT
BEGIN:VEVENT
DTSTART;VALUE=DATE:20220307
DTEND;VALUE=DATE:20220314
DTSTAMP:20260420T080445
CREATED:20220302T094109Z
LAST-MODIFIED:20220302T094109Z
UID:20798-1646611200-1647215999@www.sanmartindevaldeiglesias.es
SUMMARY:Semana de la Mujer
DESCRIPTION:
URL:https://www.sanmartindevaldeiglesias.es/evento/semana-de-la-mujer-2/
LOCATION:Madrid
CATEGORIES:Bienestar social,Participacion ciudadana
END:VEVENT
BEGIN:VEVENT
DTSTART;TZID=Europe/Madrid:20220312T200000
DTEND;TZID=Europe/Madrid:20220312T213000
DTSTAMP:20260420T080445
CREATED:20220311T091818Z
LAST-MODIFIED:20220311T091818Z
UID:20813-1647115200-1647120600@www.sanmartindevaldeiglesias.es
SUMMARY:Concierto de órgano
DESCRIPTION:
URL:https://www.sanmartindevaldeiglesias.es/evento/concierto-de-organo-2/
LOCATION:Iglesia Parroquial\, Plaza Real\, s/n\, San Martín de Valdeiglesias\, Madrid\, 28680\, España
CATEGORIES:Conciertos
END:VEVENT
BEGIN:VEVENT
DTSTART;VALUE=DATE:20220315
DTEND;VALUE=DATE:20220327
DTSTAMP:20260420T080445
CREATED:20220318T094227Z
LAST-MODIFIED:20220318T094422Z
UID:20821-1647302400-1648339199@www.sanmartindevaldeiglesias.es
SUMMARY:Exposición: Homeira Mazinani
DESCRIPTION:Horario de la exposición: De lunes a viernes de 10 a 15:30 h. Jueves de 16:30 a 19:30 h. y sábados de 11 a 14 h.
URL:https://www.sanmartindevaldeiglesias.es/evento/exposicion-homeira-mazinani/
LOCATION:Centro cultural «La Estación»\, Av. del Ferrocarril\, 14B\,\, San Martín de Valdeiglesias\, Madrid\, 28680\, España
CATEGORIES:Exposiciones
END:VEVENT
BEGIN:VEVENT
DTSTART;TZID=Europe/Madrid:20220319T200000
DTEND;TZID=Europe/Madrid:20220319T213000
DTSTAMP:20260420T080445
CREATED:20220118T125507Z
LAST-MODIFIED:20220118T125507Z
UID:20651-1647720000-1647725400@www.sanmartindevaldeiglesias.es
SUMMARY:Teatro:"Bunker. Una comedia apocalíptica"
DESCRIPTION:Compañía: Circeater \nIntérpretes: Fernando Gil \nEdad recomendada: A partir de 16 años. \nDuración: 80 minutos. \nAutor y dirección: Fernando Gil \nSinopsis: Un altísimo ejecutivo\, experto en marketing\, se ve obligado a escapar de sus «enojadísimos» jefes y decide esconderse en un mega resort de lujo hasta tener preparada la campaña comercial más agresiva y maléfica jamás inventada. Un monstruoso «fake news» que de golpe convenza a toda la humanidad de que el apocalipsis final ya está aquí. Tendrá que parir una idea de auténtico genio para poder saquear las cuentas de las grandes fortunas mundiales. Vendiéndoles el producto más disparatado que se pueda imaginar: Exclusivos bunkers de lujo. ¿Conseguirá nuestro avispado ejecutivo activar «EL APOCALIPSIS WOW! Vaya usted a saber… \nEspectáculo dentro del abono. \nCon la Colaboración de la Red de Teatros de la Comunidad de Madrid. \nVenta de entadas anticipadas en el centro cultural La Estación \, Tel. 91 861 24 20. Horario de lunes a viernes de 10 a 15 h.
URL:https://www.sanmartindevaldeiglesias.es/evento/teatrobunker-una-comedia-apocaliptica/
LOCATION:Teatro municipal\, Calle Fuente 4\, San Martín de Valdeiglesias\, Madrid\, 28680\, España
CATEGORIES:Teatro
END:VEVENT
BEGIN:VEVENT
DTSTART;TZID=Europe/Madrid:20220325T200000
DTEND;TZID=Europe/Madrid:20220325T213000
DTSTAMP:20260420T080445
CREATED:20220324T174440Z
LAST-MODIFIED:20220324T175636Z
UID:20839-1648238400-1648243800@www.sanmartindevaldeiglesias.es
SUMMARY:Presentación del libro
DESCRIPTION:Presentación del libro: San Martín de Valdeiglesias\, capital vitivinícola del suroeste madrileño. D. Lorenzo Gómez Gómez\nPrologo: Dª Mercedes Zarzalejo Carbajo (Alcaldesa de San Martín de Valdeiglesias) y D. Antonio Reguilón (Presidente de C.R.D.O. Vinos de Madrid).
URL:https://www.sanmartindevaldeiglesias.es/evento/presentacion-del-libro-2/
LOCATION:Teatro municipal\, Calle Fuente 4\, San Martín de Valdeiglesias\, Madrid\, 28680\, España
CATEGORIES:Desarrollo económico,Participacion ciudadana
END:VEVENT
BEGIN:VEVENT
DTSTART;TZID=Europe/Madrid:20220331T190000
DTEND;TZID=Europe/Madrid:20220331T210000
DTSTAMP:20260420T080445
CREATED:20220405T083313Z
LAST-MODIFIED:20220405T105535Z
UID:20848-1648753200-1648760400@www.sanmartindevaldeiglesias.es
SUMMARY:Pleno ordinario
DESCRIPTION:El Ayuntamiento de San Martín de Valdeiglesias celebrará sesión ordinaria\, a las 19 horas del día 31 de marzo de 2022 con el siguiente \nORDEN DEL DÍA: \nA) PARTE RESOLUTIVA \n\nAprobación del acta de la sesión anterior.\nExpediente 1085/2022. Cargos públicos (Nombramiento o cese). Toma de posesión de la concejala Mariela Gómez.\nExpediente 1062/2022. Modificación Impuesto Plusvalía.\n\nB) ACTIVIDAD DE CONTROL \n4.  Expediente 782/2022. Información Económico-Financiera seguimiento plan de ajuste 4º trimestre 2021. \n5. Expediente 612/2022. Plan de Tesorería informe trimestral morosidad 4º trimestre 2021. \n          6. Expediente 623/2022. Información económico-Financiera ejecuciones trimestrales del presupuesto 4º trimestre. \n7. Dar cuenta del acuerdo de la Comisión de urbanismo de Madrid. \n8. Libro de Decretos del día 24 de enero del 2022 al día 27 de marzo de 2022. \nC) RUEGOS Y PREGUNTAS 
URL:https://www.sanmartindevaldeiglesias.es/evento/pleno-ordinario-33/
LOCATION:Ayuntamiento
CATEGORIES:Pleno
END:VEVENT
END:VCALENDAR