BEGIN:VCALENDAR
VERSION:2.0
PRODID:-//San Martín de Valdeiglesias - ECPv6.15.20//NONSGML v1.0//EN
CALSCALE:GREGORIAN
METHOD:PUBLISH
X-ORIGINAL-URL:https://www.sanmartindevaldeiglesias.es
X-WR-CALDESC:Eventos para San Martín de Valdeiglesias
REFRESH-INTERVAL;VALUE=DURATION:PT1H
X-Robots-Tag:noindex
X-PUBLISHED-TTL:PT1H
BEGIN:VTIMEZONE
TZID:Europe/Madrid
BEGIN:DAYLIGHT
TZOFFSETFROM:+0100
TZOFFSETTO:+0200
TZNAME:CEST
DTSTART:20210328T010000
END:DAYLIGHT
BEGIN:STANDARD
TZOFFSETFROM:+0200
TZOFFSETTO:+0100
TZNAME:CET
DTSTART:20211031T010000
END:STANDARD
BEGIN:DAYLIGHT
TZOFFSETFROM:+0100
TZOFFSETTO:+0200
TZNAME:CEST
DTSTART:20220327T010000
END:DAYLIGHT
BEGIN:STANDARD
TZOFFSETFROM:+0200
TZOFFSETTO:+0100
TZNAME:CET
DTSTART:20221030T010000
END:STANDARD
BEGIN:DAYLIGHT
TZOFFSETFROM:+0100
TZOFFSETTO:+0200
TZNAME:CEST
DTSTART:20230326T010000
END:DAYLIGHT
BEGIN:STANDARD
TZOFFSETFROM:+0200
TZOFFSETTO:+0100
TZNAME:CET
DTSTART:20231029T010000
END:STANDARD
END:VTIMEZONE
BEGIN:VEVENT
DTSTART;TZID=Europe/Madrid:20221002T100000
DTEND;TZID=Europe/Madrid:20221002T130000
DTSTAMP:20260419T212223
CREATED:20220930T111343Z
LAST-MODIFIED:20221123T232925Z
UID:21438-1664704800-1664715600@www.sanmartindevaldeiglesias.es
SUMMARY:Marcha de Talismán
DESCRIPTION:XIII MARCHA SOLIDARIA\, Organizada por la Asociación Talismán.  Donativo de la marcha: 5 euros.  Donativo con comida: 10 €.
URL:https://www.sanmartindevaldeiglesias.es/evento/marcha-de-talisman/
LOCATION:Vivero de Talismán\, Avda. del Ferrocarril\, 26\, San Martín de Valdeiglesias\, Madrid\, 28680\, España
CATEGORIES:Bienestar social,Servicios a la ciudadanía
END:VEVENT
BEGIN:VEVENT
DTSTART;TZID=Europe/Madrid:20221008T100000
DTEND;TZID=Europe/Madrid:20221008T130000
DTSTAMP:20260419T212223
CREATED:20220930T091210Z
LAST-MODIFIED:20221123T232925Z
UID:21426-1665223200-1665234000@www.sanmartindevaldeiglesias.es
SUMMARY:Campaña Comercios Mágicos
DESCRIPTION:Comercios Mágicos es una iniciativa de la Comunidad de Madrid para incentivar la compra en los pequeños establecimientos comerciales\, a través de una campaña de dinamización y promoción.  Habrá actividades de magia\, una pequeña exposición y los consumidores podrán conseguir premios y regalos.
URL:https://www.sanmartindevaldeiglesias.es/evento/campana-comercios-magicos/
LOCATION:Plaza de la Corredera\, Plaza de la Corredera\, San Martín de Valdeiglesias\, Madrid\, 28680\, España
CATEGORIES:Desarrollo económico
END:VEVENT
BEGIN:VEVENT
DTSTART;VALUE=DATE:20221017
DTEND;VALUE=DATE:20221024
DTSTAMP:20260419T212223
CREATED:20221014T103606Z
LAST-MODIFIED:20221123T232925Z
UID:21463-1665964800-1666569599@www.sanmartindevaldeiglesias.es
SUMMARY:Semana Lucha contra cáncer de mama
DESCRIPTION:
URL:https://www.sanmartindevaldeiglesias.es/evento/semana-lucha-contra-cancer-de-mama/
LOCATION:Madrid
CATEGORIES:Salud
END:VEVENT
BEGIN:VEVENT
DTSTART;VALUE=DATE:20221017
DTEND;VALUE=DATE:20221031
DTSTAMP:20260419T212223
CREATED:20221024T103009Z
LAST-MODIFIED:20221123T232925Z
UID:21478-1665964800-1667174399@www.sanmartindevaldeiglesias.es
SUMMARY:Exposición: Vita naturalis
DESCRIPTION:Exposición fotográfica  de Clara Cruz\, titulada: Vita Naturalis.  Del 17 al 30 de octubre. Horario de visita de Lunes a Viernes de 10:30 a 14:30 h.  y de 16:30 a 18:30 h.
URL:https://www.sanmartindevaldeiglesias.es/evento/exposicion-vita-naturalis/
LOCATION:Centro cultural «La Estación»\, Av. del Ferrocarril\, 14B\,\, San Martín de Valdeiglesias\, Madrid\, 28680\, España
CATEGORIES:Exposiciones
END:VEVENT
BEGIN:VEVENT
DTSTART;TZID=Europe/Madrid:20221022T200000
DTEND;TZID=Europe/Madrid:20221022T213000
DTSTAMP:20260419T212223
CREATED:20220915T105657Z
LAST-MODIFIED:20221123T232925Z
UID:21377-1666468800-1666474200@www.sanmartindevaldeiglesias.es
SUMMARY:Teatro: Boeing boeing
DESCRIPTION:Compañía: Cabaret 42 Producciones S.L. \nIntérpretes: Andoni Ferreño\, Agustín Bravo\, Alberto Closas\, María José Garrido\, Sara Canora\, Laura Artolachipi. \nEdad recomendada: Todos los públicos. \nDuración: 90 minutos. \nAutor: Marc Camolletti. \nDirección: Ricard Reguant. \nSinopsis: Bernardo\, exitoso periodista\, mantiene una extraña relación con tres azafatas de vuelo de diferentes compañías. Las recibe en su apartamento en días y horas diferentes para que no puedan coincidir. El problema llega el día que las compañías aéreas se ponen de huelga. Entonces\, comienza el genial enredo de la obra. Las tres azafatas coinciden el mismo día en el apartamento. Y por si esto fuera poco\, Bernardo también tendrá la inesperada visita de su amigo Roberto. \n  \nObra programada en colaboración con la red de teatros de la Comunidad de Madrid. 
URL:https://www.sanmartindevaldeiglesias.es/evento/teatro-boeing-boeing/
LOCATION:Teatro municipal\, Calle Fuente 4\, San Martín de Valdeiglesias\, Madrid\, 28680\, España
CATEGORIES:Teatro
END:VEVENT
BEGIN:VEVENT
DTSTART;TZID=Europe/Madrid:20221024T180000
DTEND;TZID=Europe/Madrid:20221024T190000
DTSTAMP:20260419T212223
CREATED:20221024T103242Z
LAST-MODIFIED:20221123T232925Z
UID:21481-1666634400-1666638000@www.sanmartindevaldeiglesias.es
SUMMARY:Cuentacuentos
DESCRIPTION:
URL:https://www.sanmartindevaldeiglesias.es/evento/cuentacuentos-18/
LOCATION:Biblioteca Municipal\, C/ Fuente\, 4\, San Martín de Valdeiglesias\, Madrid\, 28680\, España
CATEGORIES:Educación
END:VEVENT
BEGIN:VEVENT
DTSTART;TZID=Europe/Madrid:20221029T120000
DTEND;TZID=Europe/Madrid:20221029T133000
DTSTAMP:20260419T212223
CREATED:20220914T082129Z
LAST-MODIFIED:20221123T232925Z
UID:21369-1667044800-1667050200@www.sanmartindevaldeiglesias.es
SUMMARY:Concierto: A Villa Voz
DESCRIPTION:Concierto del Coro de la Comunidad de Madrid\, dentro del ciclo «A VILLA VOZ» que recorre los municipios que forman parte del  programa turístico «Villas de Madrid». \nDirector: Jordi Casas. \nPROGRAMA: \nXavier  Montsalvatge. Punto de habanera\nPedro Guerrero. Más dura que mármol \nFelix  Mendelssohn. Verleih uns Frieden gnädiglich (Concédenos la Paz)\nGabriel Fauré. Cantique de Jean Racine\nJohannes Brahms. Danza húngara n° 2\nAnton García Abril. Del rosal vengo\, mi madre\nFederico Mompou. Damunt de tu només les flors (Encima de ti solo las flores)\nManuel Oltra. Tres canciones de amor (“Madrigalillo”\, “Eco”\, “Preludi”)\nJorge Argüelles. Un cuchillo de luna\nIsaac Albéniz. Aragón\nFrancisco Asenjo Barbieri. El barberillo de Lavapiés (“Dicen que en el Pardo…”)\nTomás Bretón. Verbena de la Paloma (“Seguidillas”)\nPablo Sorozábal. Don Manolito (“Viva Madrid”) \nEntrada libre hasta completar aforo.
URL:https://www.sanmartindevaldeiglesias.es/evento/concierto-a-villa-voz-4/
LOCATION:Iglesia Parroquial\, Plaza Real\, s/n\, San Martín de Valdeiglesias\, Madrid\, 28680\, España
CATEGORIES:Conciertos
END:VEVENT
BEGIN:VEVENT
DTSTART;TZID=Europe/Madrid:20221031T180000
DTEND;TZID=Europe/Madrid:20221031T200000
DTSTAMP:20260419T212223
CREATED:20221031T104434Z
LAST-MODIFIED:20221123T232925Z
UID:21506-1667239200-1667246400@www.sanmartindevaldeiglesias.es
SUMMARY:Fiesta de Halloween
DESCRIPTION:
URL:https://www.sanmartindevaldeiglesias.es/evento/fiesta-de-halloween-2/
LOCATION:Castillo de la Coracera\, Calle Castillo\, San Martín de Valdeiglesias\, Madrid\, 28680\, España
CATEGORIES:Fiestas
END:VEVENT
BEGIN:VEVENT
DTSTART;TZID=Europe/Madrid:20221031T220000
DTEND;TZID=Europe/Madrid:20221031T233000
DTSTAMP:20260419T212223
CREATED:20221031T104848Z
LAST-MODIFIED:20221123T232925Z
UID:21508-1667253600-1667259000@www.sanmartindevaldeiglesias.es
SUMMARY:Conferencias de Misterio
DESCRIPTION:
URL:https://www.sanmartindevaldeiglesias.es/evento/conferencias-de-misterio/
LOCATION:Café-Teatro\, Plaza del Rucero\, San Martín de Valdeiglesias\, Madrid\, 28680\, España
CATEGORIES:Fiestas
END:VEVENT
END:VCALENDAR