BEGIN:VCALENDAR
VERSION:2.0
PRODID:-//San Martín de Valdeiglesias - ECPv6.15.20//NONSGML v1.0//EN
CALSCALE:GREGORIAN
METHOD:PUBLISH
X-WR-CALNAME:San Martín de Valdeiglesias
X-ORIGINAL-URL:https://www.sanmartindevaldeiglesias.es
X-WR-CALDESC:Eventos para San Martín de Valdeiglesias
REFRESH-INTERVAL;VALUE=DURATION:PT1H
X-Robots-Tag:noindex
X-PUBLISHED-TTL:PT1H
BEGIN:VTIMEZONE
TZID:Europe/Madrid
BEGIN:DAYLIGHT
TZOFFSETFROM:+0100
TZOFFSETTO:+0200
TZNAME:CEST
DTSTART:20210328T010000
END:DAYLIGHT
BEGIN:STANDARD
TZOFFSETFROM:+0200
TZOFFSETTO:+0100
TZNAME:CET
DTSTART:20211031T010000
END:STANDARD
BEGIN:DAYLIGHT
TZOFFSETFROM:+0100
TZOFFSETTO:+0200
TZNAME:CEST
DTSTART:20220327T010000
END:DAYLIGHT
BEGIN:STANDARD
TZOFFSETFROM:+0200
TZOFFSETTO:+0100
TZNAME:CET
DTSTART:20221030T010000
END:STANDARD
BEGIN:DAYLIGHT
TZOFFSETFROM:+0100
TZOFFSETTO:+0200
TZNAME:CEST
DTSTART:20230326T010000
END:DAYLIGHT
BEGIN:STANDARD
TZOFFSETFROM:+0200
TZOFFSETTO:+0100
TZNAME:CET
DTSTART:20231029T010000
END:STANDARD
END:VTIMEZONE
BEGIN:VEVENT
DTSTART;TZID=Europe/Madrid:20221104T200000
DTEND;TZID=Europe/Madrid:20221104T213000
DTSTAMP:20260419T195145
CREATED:20221104T103851Z
LAST-MODIFIED:20221123T232925Z
UID:21518-1667592000-1667597400@www.sanmartindevaldeiglesias.es
SUMMARY:Presentación de libro
DESCRIPTION:
URL:https://www.sanmartindevaldeiglesias.es/evento/presentacion-de-libro-3/
LOCATION:Café-Teatro\, Plaza del Rucero\, San Martín de Valdeiglesias\, Madrid\, 28680\, España
CATEGORIES:Participacion ciudadana
END:VEVENT
BEGIN:VEVENT
DTSTART;TZID=Europe/Madrid:20221105T200000
DTEND;TZID=Europe/Madrid:20221105T213000
DTSTAMP:20260419T195145
CREATED:20220916T081322Z
LAST-MODIFIED:20221123T232925Z
UID:21383-1667678400-1667683800@www.sanmartindevaldeiglesias.es
SUMMARY:TEATRO: Lorca\, Vicenta
DESCRIPTION:https://youtu.be/6mKa7D1cgwI \nEn colaboración con la Red de Teatros de la Comunidad de Madrid.
URL:https://www.sanmartindevaldeiglesias.es/evento/teatro-lorca-vicenta/
LOCATION:Teatro municipal\, Calle Fuente 4\, San Martín de Valdeiglesias\, Madrid\, 28680\, España
CATEGORIES:Teatro
END:VEVENT
BEGIN:VEVENT
DTSTART;TZID=Europe/Madrid:20221109T190000
DTEND;TZID=Europe/Madrid:20221109T200000
DTSTAMP:20260419T195145
CREATED:20221114T090300Z
LAST-MODIFIED:20221123T232925Z
UID:21539-1668020400-1668024000@www.sanmartindevaldeiglesias.es
SUMMARY:Encuentro de autores
DESCRIPTION:
URL:https://www.sanmartindevaldeiglesias.es/evento/encuentro-de-autores/
LOCATION:Biblioteca Municipal\, C/ Fuente\, 4\, San Martín de Valdeiglesias\, Madrid\, 28680\, España
END:VEVENT
BEGIN:VEVENT
DTSTART;VALUE=DATE:20221111
DTEND;VALUE=DATE:20221114
DTSTAMP:20260419T195145
CREATED:20221108T124001Z
LAST-MODIFIED:20221123T232924Z
UID:21533-1668124800-1668383999@www.sanmartindevaldeiglesias.es
SUMMARY:Fiestas de San Martín de Tours
DESCRIPTION:(Pinchar en la imagen para ver el programa completo)
URL:https://www.sanmartindevaldeiglesias.es/evento/fiestas-de-san-martin-de-tours-3/
LOCATION:Madrid
CATEGORIES:Fiestas
END:VEVENT
BEGIN:VEVENT
DTSTART;TZID=Europe/Madrid:20221112T120000
DTEND;TZID=Europe/Madrid:20221113T150000
DTSTAMP:20260419T195145
CREATED:20221014T102900Z
LAST-MODIFIED:20221123T232924Z
UID:21461-1668254400-1668351600@www.sanmartindevaldeiglesias.es
SUMMARY:Ruta de la Tapa
DESCRIPTION:
URL:https://www.sanmartindevaldeiglesias.es/evento/ruta-de-la-tapa-2/
LOCATION:Madrid
CATEGORIES:Desarrollo económico
END:VEVENT
BEGIN:VEVENT
DTSTART;TZID=Europe/Madrid:20221116T190000
DTEND;TZID=Europe/Madrid:20221116T200000
DTSTAMP:20260419T195145
CREATED:20221114T091228Z
LAST-MODIFIED:20221123T232924Z
UID:21542-1668625200-1668628800@www.sanmartindevaldeiglesias.es
SUMMARY:Encuentro de autores
DESCRIPTION: 
URL:https://www.sanmartindevaldeiglesias.es/evento/encuentro-de-autores-2/
LOCATION:Biblioteca Municipal\, C/ Fuente\, 4\, San Martín de Valdeiglesias\, Madrid\, 28680\, España
END:VEVENT
BEGIN:VEVENT
DTSTART;TZID=Europe/Madrid:20221123T190000
DTEND;TZID=Europe/Madrid:20221123T203000
DTSTAMP:20260419T195145
CREATED:20221114T091450Z
LAST-MODIFIED:20221123T232924Z
UID:21545-1669230000-1669235400@www.sanmartindevaldeiglesias.es
SUMMARY:Encuentro de autores
DESCRIPTION:
URL:https://www.sanmartindevaldeiglesias.es/evento/encuentro-de-autores-3/
LOCATION:Biblioteca Municipal\, C/ Fuente\, 4\, San Martín de Valdeiglesias\, Madrid\, 28680\, España
END:VEVENT
BEGIN:VEVENT
DTSTART;TZID=Europe/Madrid:20221124T190000
DTEND;TZID=Europe/Madrid:20221124T210000
DTSTAMP:20260419T195145
CREATED:20221124T111903Z
LAST-MODIFIED:20221124T111903Z
UID:21612-1669316400-1669323600@www.sanmartindevaldeiglesias.es
SUMMARY:Pleno ordinario
DESCRIPTION:El Ayuntamiento de San Martín de Valdeiglesias celebrará sesión ordinaria del pleno\, con el siguiente orden del día: \nA) PARTE RESOLUTIVA \n\nAprobación del acta de la sesión anterior.\nExpediente 6985/Imposición y ordenación de Tributos.\nExpediente 2829/2022. Disposiciones normativas (Aprobación\, modificación o derogación).\nExpediente 6986/2022. Consultas populares.\n\nB) ACTIVIDAD DE CONTROL \n\nExpediente 6917/2022. Seguimiento plan de ajuste 3 trimestre 2022.\nExpediente 6216/2022. Informe de morosidad 3 trimestre 2022.\nLibro de decretos del 26/09/2022 al 20/11/2022.\n\nC) Ruegos y preguntas. 
URL:https://www.sanmartindevaldeiglesias.es/evento/pleno-ordinario-37/
LOCATION:Ayuntamiento
CATEGORIES:Pleno
END:VEVENT
BEGIN:VEVENT
DTSTART;VALUE=DATE:20221125
DTEND;VALUE=DATE:20221126
DTSTAMP:20260419T195145
CREATED:20221122T102457Z
LAST-MODIFIED:20221123T232924Z
UID:21558-1669334400-1669420799@www.sanmartindevaldeiglesias.es
SUMMARY:Contra la violencia de género
DESCRIPTION:Actividades para sumar a la población en el rechazo a la violencia de género. \n\nTEATRO:  Déjate llevar:\nUna obra para los jóvenes del IES Pedro de Tolosa\, sobre la importancia de rechazar de forma activa actitudes\, estereotipos y roles sexistas que promueven o justifican la violencia de género.\n\n  \n\nMARCHA CONTRA LA VIOLENCIA DE GÉNERO:\n17:30 h. Salida desde la Plaza de la Corredera hasta llegar a la Plaza Real\, donde se leerá un manifiesto.\nEntrega de calendarios elaborados por los colegios de la comarca.\n\n 
URL:https://www.sanmartindevaldeiglesias.es/evento/contra-la-violencia-de-genero/
LOCATION:Madrid
CATEGORIES:Igualdad
END:VEVENT
BEGIN:VEVENT
DTSTART;VALUE=DATE:20221126
DTEND;VALUE=DATE:20221127
DTSTAMP:20260419T195145
CREATED:20221121T135111Z
LAST-MODIFIED:20221123T232924Z
UID:21550-1669420800-1669507199@www.sanmartindevaldeiglesias.es
SUMMARY:I Feria del libro
DESCRIPTION:
URL:https://www.sanmartindevaldeiglesias.es/evento/i-feria-del-libro/
LOCATION:Centro «Los Lavaderos»\, Plaza de Teodoro Bravo\, 15\, San Martín de Valdeiglesias\, Madrid\, 28680\, España
CATEGORIES:Exposiciones,Fiestas
END:VEVENT
BEGIN:VEVENT
DTSTART;TZID=Europe/Madrid:20221126T100000
DTEND;TZID=Europe/Madrid:20221126T140000
DTSTAMP:20260419T195145
CREATED:20221124T114023Z
LAST-MODIFIED:20221124T114023Z
UID:21614-1669456800-1669471200@www.sanmartindevaldeiglesias.es
SUMMARY:Jornada prevención de incendios en familia
DESCRIPTION:10:00 h.  Comienzo de la Jornada de prevención en familia.\nExhibición de vehículos y equipamiento material del Cuerpo de Bomberos de la Comunidad de Madrid\, Policía Local y Protección Civil.\nTalleres prácticos y simultáneos de prevención de incendios y autoprotección en diferentes estaciones:\n\n\nCómo actuar ante un fuego en la cocina.\nManejo de extintores.\nTaller de primeros auxilios y soporte vital básico.\nParque de la Prevención y la Fundación MAPFRE: Taller y práctica de evacuación en caso de incendio en vivienda sobre simulador.\nCasita de homo: explicación del desarrollo de un incendio y programación del humo en un bloque de viviendas simulado por una maqueta.\nTaller de prevención de incendios y actuación en caso de incendio en entorno forestal: «El mejor cortafuegos eres Tú».\nProyección de vídeos de intervenciones del Cuerpo de Bomberos de la Comunidad de Madrid y vídeos de prevención de incendios en vivienda en zona urbana y urbanizaciones en entorno forestal.\n\n\n11:00 h. Taller para mayores: «Prevención de riesgos en el hogar».\nClase práctica destinada a nuestros mayores. Con apoyo de la casita de humo y un monitor\, se mostrarán los distintos riesgos de incendio en el hogar dentro de la campaña de prevención #CalorSeguros.\nLas personas mayores que asistan al taller recibirán como obsequio un detector de humo.\n11:30 h. Visita del Consejero de Presidencia\, Justicia e Interior.\nPresentación de la semana de Prevención de Incendios.\n12:00 h. Simulacro de accidentes de tráfico.\nInterrupción de las estaciones para la realización de una maniobra de extinción y rescate en un accidente de tráfico.\n12:30 h. Reinicio de las actividades en los talleres/estaciones.\n14:00 h. Fin de la jornada. \n\nLos talleres de prevención de incendios están organizados por la Fundación MAPRFE\,
URL:https://www.sanmartindevaldeiglesias.es/evento/jornada-prevencion-de-incendios-en-familia/
LOCATION:Plaza de toros
CATEGORIES:Medio Ambiente,Participacion ciudadana
END:VEVENT
BEGIN:VEVENT
DTSTART;TZID=Europe/Madrid:20221126T200000
DTEND;TZID=Europe/Madrid:20221126T213000
DTSTAMP:20260419T195145
CREATED:20220916T081837Z
LAST-MODIFIED:20221123T232924Z
UID:21385-1669492800-1669498200@www.sanmartindevaldeiglesias.es
SUMMARY:TEATRO: Tarántula
DESCRIPTION:En colaboración con la Red de Teatros de la Comunidad de Madrid.
URL:https://www.sanmartindevaldeiglesias.es/evento/teatro-tarantula/
LOCATION:Teatro municipal\, Calle Fuente 4\, San Martín de Valdeiglesias\, Madrid\, 28680\, España
CATEGORIES:Teatro
END:VEVENT
END:VCALENDAR