BEGIN:VCALENDAR
VERSION:2.0
PRODID:-//San Martín de Valdeiglesias - ECPv6.15.20//NONSGML v1.0//EN
CALSCALE:GREGORIAN
METHOD:PUBLISH
X-WR-CALNAME:San Martín de Valdeiglesias
X-ORIGINAL-URL:https://www.sanmartindevaldeiglesias.es
X-WR-CALDESC:Eventos para San Martín de Valdeiglesias
REFRESH-INTERVAL;VALUE=DURATION:PT1H
X-Robots-Tag:noindex
X-PUBLISHED-TTL:PT1H
BEGIN:VTIMEZONE
TZID:Europe/Madrid
BEGIN:DAYLIGHT
TZOFFSETFROM:+0100
TZOFFSETTO:+0200
TZNAME:CEST
DTSTART:20210328T010000
END:DAYLIGHT
BEGIN:STANDARD
TZOFFSETFROM:+0200
TZOFFSETTO:+0100
TZNAME:CET
DTSTART:20211031T010000
END:STANDARD
BEGIN:DAYLIGHT
TZOFFSETFROM:+0100
TZOFFSETTO:+0200
TZNAME:CEST
DTSTART:20220327T010000
END:DAYLIGHT
BEGIN:STANDARD
TZOFFSETFROM:+0200
TZOFFSETTO:+0100
TZNAME:CET
DTSTART:20221030T010000
END:STANDARD
BEGIN:DAYLIGHT
TZOFFSETFROM:+0100
TZOFFSETTO:+0200
TZNAME:CEST
DTSTART:20230326T010000
END:DAYLIGHT
BEGIN:STANDARD
TZOFFSETFROM:+0200
TZOFFSETTO:+0100
TZNAME:CET
DTSTART:20231029T010000
END:STANDARD
BEGIN:DAYLIGHT
TZOFFSETFROM:+0100
TZOFFSETTO:+0200
TZNAME:CEST
DTSTART:20240331T010000
END:DAYLIGHT
BEGIN:STANDARD
TZOFFSETFROM:+0200
TZOFFSETTO:+0100
TZNAME:CET
DTSTART:20241027T010000
END:STANDARD
END:VTIMEZONE
BEGIN:VEVENT
DTSTART;VALUE=DATE:20221216
DTEND;VALUE=DATE:20230106
DTSTAMP:20260419T165951
CREATED:20221220T104644Z
LAST-MODIFIED:20221220T104644Z
UID:21664-1671148800-1672963199@www.sanmartindevaldeiglesias.es
SUMMARY:Exposición fotografía aérea
DESCRIPTION:
URL:https://www.sanmartindevaldeiglesias.es/evento/exposicion-fotografia-aerea/
LOCATION:Centro cultural «La Estación»\, Av. del Ferrocarril\, 14B\,\, San Martín de Valdeiglesias\, Madrid\, 28680\, España
CATEGORIES:Exposiciones
END:VEVENT
BEGIN:VEVENT
DTSTART;TZID=Europe/Madrid:20230102T190000
DTEND;TZID=Europe/Madrid:20230102T203000
DTSTAMP:20260419T165951
CREATED:20221221T120311Z
LAST-MODIFIED:20221221T120325Z
UID:21694-1672686000-1672691400@www.sanmartindevaldeiglesias.es
SUMMARY:La Magia de la luz
DESCRIPTION:
URL:https://www.sanmartindevaldeiglesias.es/evento/la-magia-de-la-luz-duplicate-1/
LOCATION:Plaza de toros
CATEGORIES:Fiestas
END:VEVENT
BEGIN:VEVENT
DTSTART;TZID=Europe/Madrid:20230102T203000
DTEND;TZID=Europe/Madrid:20230102T213000
DTSTAMP:20260419T165951
CREATED:20221222T172110Z
LAST-MODIFIED:20221222T172110Z
UID:21724-1672691400-1672695000@www.sanmartindevaldeiglesias.es
SUMMARY:El Circo de la Navidad
DESCRIPTION:Auténtico espectáculo circense\, equilibristas\, malabaristas\, habilidades y muchas más sorpresas. \nPrecio: 2 Actipuntos.
URL:https://www.sanmartindevaldeiglesias.es/evento/el-circo-de-la-navidad/
LOCATION:Plaza de toros
CATEGORIES:Fiestas
END:VEVENT
BEGIN:VEVENT
DTSTART;TZID=Europe/Madrid:20230103T190000
DTEND;TZID=Europe/Madrid:20230103T203000
DTSTAMP:20260419T165951
CREATED:20221221T120536Z
LAST-MODIFIED:20221221T120536Z
UID:21700-1672772400-1672777800@www.sanmartindevaldeiglesias.es
SUMMARY:Magia de cerca
DESCRIPTION:
URL:https://www.sanmartindevaldeiglesias.es/evento/magia-de-cerca-duplicate-1/
LOCATION:Plaza de toros
CATEGORIES:Fiestas
END:VEVENT
BEGIN:VEVENT
DTSTART;TZID=Europe/Madrid:20230104T180000
DTEND;TZID=Europe/Madrid:20230104T200000
DTSTAMP:20260419T165951
CREATED:20221222T173006Z
LAST-MODIFIED:20221222T173006Z
UID:21728-1672855200-1672862400@www.sanmartindevaldeiglesias.es
SUMMARY:Llegada del paje Real
DESCRIPTION:Este año el Paje Real estará acompañado de un buzón bastante curioso y un poco inquieto. \nLugar: Circo de la Navidad.
URL:https://www.sanmartindevaldeiglesias.es/evento/llegada-del-paje-real/
LOCATION:Plaza de toros
CATEGORIES:Fiestas
END:VEVENT
BEGIN:VEVENT
DTSTART;TZID=Europe/Madrid:20230105T160000
DTEND;TZID=Europe/Madrid:20230105T200000
DTSTAMP:20260419T165951
CREATED:20230105T092321Z
LAST-MODIFIED:20230105T092354Z
UID:21780-1672934400-1672948800@www.sanmartindevaldeiglesias.es
SUMMARY:Gran cabalgata de Reyes
DESCRIPTION:Descargar recorrido de la Cabalgata (.pdf) 1\,5 Mb
URL:https://www.sanmartindevaldeiglesias.es/evento/gran-cabalgata-de-reyes-3/
LOCATION:Madrid
CATEGORIES:Fiestas
END:VEVENT
BEGIN:VEVENT
DTSTART;VALUE=DATE:20230113
DTEND;VALUE=DATE:20230121
DTSTAMP:20260419T165951
CREATED:20230111T092610Z
LAST-MODIFIED:20230111T092610Z
UID:21785-1673568000-1674259199@www.sanmartindevaldeiglesias.es
SUMMARY:Exposición: La Tercera Persona
DESCRIPTION:
URL:https://www.sanmartindevaldeiglesias.es/evento/exposicion-la-tercera-persona/
LOCATION:Centro cultural «La Estación»\, Av. del Ferrocarril\, 14B\,\, San Martín de Valdeiglesias\, Madrid\, 28680\, España
CATEGORIES:Exposiciones
END:VEVENT
BEGIN:VEVENT
DTSTART;TZID=Europe/Madrid:20230113T093000
DTEND;TZID=Europe/Madrid:20230113T130000
DTSTAMP:20260419T165951
CREATED:20221221T104753Z
LAST-MODIFIED:20221221T104753Z
UID:21669-1673602200-1673614800@www.sanmartindevaldeiglesias.es
SUMMARY:Expedición/Renov. DNI
DESCRIPTION:
URL:https://www.sanmartindevaldeiglesias.es/evento/expedicion-renov-dni/
LOCATION:Ayuntamiento
END:VEVENT
BEGIN:VEVENT
DTSTART;TZID=Europe/Madrid:20230121T200000
DTEND;TZID=Europe/Madrid:20230121T213000
DTSTAMP:20260419T165951
CREATED:20230102T130220Z
LAST-MODIFIED:20230102T131531Z
UID:21744-1674331200-1674336600@www.sanmartindevaldeiglesias.es
SUMMARY:Teatro: "Campeones de la comedia"
DESCRIPTION:Producción: JLJ Producciones \nGénero: Comedia \nDuración: 80 minutos \nIntérpretes: Gloria Ramos\, José de Luna\, Claudia Fesser\, Emilia Gaviria\, Alberto Nieto y Alec Whaite. \nSINOPSIS:  \nGloria de Josete se acaban de independizar bajo la tutela de Glaudia. Ante la necesidad de encontrar un trabajo para poder tener un sueldo con el que mantenerse\, Claudia les propone que intenten dedicarse a algo que les guste de verdad. Ellos quieren ser artistas. Para ello deberían encontrar un representante. Y resulta que Gloria lleva tiempo hablando con uno a través de una app de ligues… aunque usando una foto de Claudia sin que ésta se enterase.  A pesar de sus reticencias iniciales\, Claudia accede a encontrarse con él para pedirle\, como favor\, que represente a sus amigos. \nPrecio de las entradas: \nVenta anticipada general: 15 € – con descuento: 11 €.\nTaquilla: 18 €. \nVenta anticipada de entras en el Centro Cultural  La Estación. \nCon el apoyo de la Red de Teatros de la Comunidad de Madrid.
URL:https://www.sanmartindevaldeiglesias.es/evento/teatro-campeones-de-la-comedia/
LOCATION:Madrid
CATEGORIES:Teatro
END:VEVENT
END:VCALENDAR