BEGIN:VCALENDAR
VERSION:2.0
PRODID:-//San Martín de Valdeiglesias - ECPv6.15.20//NONSGML v1.0//EN
CALSCALE:GREGORIAN
METHOD:PUBLISH
X-WR-CALNAME:San Martín de Valdeiglesias
X-ORIGINAL-URL:https://www.sanmartindevaldeiglesias.es
X-WR-CALDESC:Eventos para San Martín de Valdeiglesias
REFRESH-INTERVAL;VALUE=DURATION:PT1H
X-Robots-Tag:noindex
X-PUBLISHED-TTL:PT1H
BEGIN:VTIMEZONE
TZID:Europe/Madrid
BEGIN:DAYLIGHT
TZOFFSETFROM:+0100
TZOFFSETTO:+0200
TZNAME:CEST
DTSTART:20220327T010000
END:DAYLIGHT
BEGIN:STANDARD
TZOFFSETFROM:+0200
TZOFFSETTO:+0100
TZNAME:CET
DTSTART:20221030T010000
END:STANDARD
BEGIN:DAYLIGHT
TZOFFSETFROM:+0100
TZOFFSETTO:+0200
TZNAME:CEST
DTSTART:20230326T010000
END:DAYLIGHT
BEGIN:STANDARD
TZOFFSETFROM:+0200
TZOFFSETTO:+0100
TZNAME:CET
DTSTART:20231029T010000
END:STANDARD
BEGIN:DAYLIGHT
TZOFFSETFROM:+0100
TZOFFSETTO:+0200
TZNAME:CEST
DTSTART:20240331T010000
END:DAYLIGHT
BEGIN:STANDARD
TZOFFSETFROM:+0200
TZOFFSETTO:+0100
TZNAME:CET
DTSTART:20241027T010000
END:STANDARD
END:VTIMEZONE
BEGIN:VEVENT
DTSTART;TZID=Europe/Madrid:20230211T200000
DTEND;TZID=Europe/Madrid:20230211T213000
DTSTAMP:20260419T154159
CREATED:20230102T131437Z
LAST-MODIFIED:20230207T122800Z
UID:21747-1676145600-1676151000@www.sanmartindevaldeiglesias.es
SUMMARY:Teatro: Primital Prime
DESCRIPTION:Primitals Brothers \nIntérpretes: Íñigo García\, Adri Soto\, Pedro Herrero\, Manu Pilas.\nEdad recomendada: Todos los públicos.\nDuración: 90 minutos.\nAutor: Primital Brothers y Héctor de Miguel.\nDirección: Héctor de Miguel.\nDirección musical: Santiago Ibarretxe.\nSINOPSIS: Una nueva plataforma de contenido online está a punto de salir al mercado.\nLos lumbreras de marketing contratan a un cuarteto vocal delirante como maestros de ceremonias en la presentación oficial de la plataforma. ¿Qué podría salir mal?\nLlega Primital Prime\, un cóctel disparatado de música\, humor y fantaciencia. La magia de lo impredecible frente a la dictadura de los algoritmos. \nPrecio de las entradas: \nVenta anticipada general: 15 €- Venta anticipada con descuento: 11 €\nEntradas en taquilla: 18 €.\nVenta anticipada de entradas en el centro Cultural La Estación. \nCon el apoyo de la Red de Teatros de la Comunidad de Madrid.\nEspectáculo de Abono. \n  \n  \n  \n 
URL:https://www.sanmartindevaldeiglesias.es/evento/teatro-primital-prime/
LOCATION:Teatro municipal\, Calle Fuente 4\, San Martín de Valdeiglesias\, Madrid\, 28680\, España
CATEGORIES:Teatro
END:VEVENT
BEGIN:VEVENT
DTSTART;VALUE=DATE:20230221
DTEND;VALUE=DATE:20230227
DTSTAMP:20260419T154159
CREATED:20230210T112039Z
LAST-MODIFIED:20230210T112200Z
UID:21811-1676937600-1677455999@www.sanmartindevaldeiglesias.es
SUMMARY:Carnaval 2023
DESCRIPTION:  \n\nMartes 21 de febrero: \n17:00 h. DESFILE Y BAILE DE CARNAVAL: Salida desde la Plaza Real\, acompañados por la Unión Musical de San Martín de Valdeiglesias\, hasta la Plaza de la Corredera\, donde habrá baile amenizado por el grupo «La Locura del Zurdo».\n\n  \n\nMiércoles\, 22 de febrero:\n19:00 h. ENTIERRO DE LA SARDINA. Salida de la comitiva fúnebre desde la Plaza Real\, acompañados por la Unión Musical de San Martín de Valdeiglesias\, hasta la Plaza de Toros. Sardinas y limonada para todos.\n\n\nSábado 25 de febrero:\n19:00 h. FIESTA INFANTIL DE CARNAVAL. Anímate\, ponte tu disfraz y diviértete en la noche de carnaval. Disfruta junto a personajes con la mejor música infantil.  Lugar: Carpa Plaza de Toros.23:00 h. FIESTA JOVEN CARNAVAL. DJ´S\, Robot Led\, cañones y mucha fiesta. Lugar: Carpa Plaza de Toros.\n\n\nDomingo 26 de febrero: \n17:00 h.  DESFILE\, CONCURSO Y CONCIERTO. Participa solo o con tu grupo en el concurso de Carnaval. Gogos y Zancudos. Con la colaboración del grupo de baile Aguja y Tacón. Pabellón polideportivo.\n\nPremios:\nCategoría individual: 50 € al más original.\nCategoría grupo. Entre 2 y 5 participantes: 100 €.\nCategoría grupo. Más de 5 participantes: Primer premio: 300 euros – Segundo premio: 250 € – Tercer premio: 200 €. \nPre-inscripciones para el concurso de Carnaval en el Ayuntamiento de San Martín de Valdeiglesias.
URL:https://www.sanmartindevaldeiglesias.es/evento/carnaval-2023/
LOCATION:Madrid
CATEGORIES:Fiestas
END:VEVENT
BEGIN:VEVENT
DTSTART;TZID=Europe/Madrid:20230225T200000
DTEND;TZID=Europe/Madrid:20230225T213000
DTSTAMP:20260419T154159
CREATED:20230102T123955Z
LAST-MODIFIED:20230223T104702Z
UID:21741-1677355200-1677360600@www.sanmartindevaldeiglesias.es
SUMMARY:Espectáculo: "Bingo Arquímedes"
DESCRIPTION:Edad recomendada: A partir de 16 años. \nDuración: 90 minutos. \nSINOPSIS:  Silvia Magari presenta: «Bingo Arquímedes»\, un espectáculo de humor\, música ¡y bingo!. Con sus cartones\, sus rotuladores y sus regalos que te trasportarán al colegio\, a los anuncios de Farala\, a Barrio Sésamo\, a Mazinger Z… a ese tiempo de felicidad. \nComo enuncia el propio Arquímedes\, saldrás del espectáculo con un empuje vertical hacia arriba y un poco de esa felicidad de entonces. \nSilvia Magari es una cantautora madrileña de propuesta desenfadada que fue pase de oro en Got Talent España 2021 con su temazo «Pelo Pelo» \nTiene 3 discos con BMG/Sony.  Ha compuesto y ha hecho duetos con artistas como Tiziano Ferro\, La Húngara o Ricardo Arjona. \nPrecio de las entradas: Venta anticipada general: 12 € – Venta anticipada con descuento: 10 €.\nPrecio en taquilla: 15 €.\nVenta anticipada de entradas en el Centro Cultural La Estación.
URL:https://www.sanmartindevaldeiglesias.es/evento/espectaculo-bingo-arquimedes/
LOCATION:Teatro municipal\, Calle Fuente 4\, San Martín de Valdeiglesias\, Madrid\, 28680\, España
CATEGORIES:Teatro
END:VEVENT
END:VCALENDAR