BEGIN:VCALENDAR
VERSION:2.0
PRODID:-//San Martín de Valdeiglesias - ECPv6.15.20//NONSGML v1.0//EN
CALSCALE:GREGORIAN
METHOD:PUBLISH
X-WR-CALNAME:San Martín de Valdeiglesias
X-ORIGINAL-URL:https://www.sanmartindevaldeiglesias.es
X-WR-CALDESC:Eventos para San Martín de Valdeiglesias
REFRESH-INTERVAL;VALUE=DURATION:PT1H
X-Robots-Tag:noindex
X-PUBLISHED-TTL:PT1H
BEGIN:VTIMEZONE
TZID:Europe/Madrid
BEGIN:DAYLIGHT
TZOFFSETFROM:+0100
TZOFFSETTO:+0200
TZNAME:CEST
DTSTART:20220327T010000
END:DAYLIGHT
BEGIN:STANDARD
TZOFFSETFROM:+0200
TZOFFSETTO:+0100
TZNAME:CET
DTSTART:20221030T010000
END:STANDARD
BEGIN:DAYLIGHT
TZOFFSETFROM:+0100
TZOFFSETTO:+0200
TZNAME:CEST
DTSTART:20230326T010000
END:DAYLIGHT
BEGIN:STANDARD
TZOFFSETFROM:+0200
TZOFFSETTO:+0100
TZNAME:CET
DTSTART:20231029T010000
END:STANDARD
BEGIN:DAYLIGHT
TZOFFSETFROM:+0100
TZOFFSETTO:+0200
TZNAME:CEST
DTSTART:20240331T010000
END:DAYLIGHT
BEGIN:STANDARD
TZOFFSETFROM:+0200
TZOFFSETTO:+0100
TZNAME:CET
DTSTART:20241027T010000
END:STANDARD
END:VTIMEZONE
BEGIN:VEVENT
DTSTART;VALUE=DATE:20230414
DTEND;VALUE=DATE:20230516
DTSTAMP:20260419T142106
CREATED:20230228T103405Z
LAST-MODIFIED:20230228T103405Z
UID:21858-1681430400-1684195199@www.sanmartindevaldeiglesias.es
SUMMARY:Exposición: No solo musas
DESCRIPTION:
URL:https://www.sanmartindevaldeiglesias.es/evento/exposicion-no-solo-musas/
LOCATION:Centro cultural «La Estación»\, Av. del Ferrocarril\, 14B\,\, San Martín de Valdeiglesias\, Madrid\, 28680\, España
CATEGORIES:Exposiciones
END:VEVENT
BEGIN:VEVENT
DTSTART;VALUE=DATE:20230429
DTEND;VALUE=DATE:20230502
DTSTAMP:20260419T142106
CREATED:20230419T100202Z
LAST-MODIFIED:20230419T104128Z
UID:21959-1682726400-1682985599@www.sanmartindevaldeiglesias.es
SUMMARY:Feria Flamenca
DESCRIPTION:Ver programa de actividades \n 
URL:https://www.sanmartindevaldeiglesias.es/evento/feria-flamenca-4/
LOCATION:Plaza de toros
CATEGORIES:Fiestas
END:VEVENT
BEGIN:VEVENT
DTSTART;TZID=Europe/Madrid:20230506T200000
DTEND;TZID=Europe/Madrid:20230506T213000
DTSTAMP:20260419T142106
CREATED:20230505T095020Z
LAST-MODIFIED:20230505T100456Z
UID:22014-1683403200-1683408600@www.sanmartindevaldeiglesias.es
SUMMARY:Teatro: Tributo a Lina Morgan
DESCRIPTION:Producciones Datasa. \nEDAD RECOMENDADA: Todos los públicos. \nDURACIÓN: 90 minutos. \nINTÉRPRETES: Amanda Mora\, Jesús Manuel Ruiz\, Ana Torres. \nSINOPSIS:  Gracias por venir s el homenaje a la mejor cómica del siglo xx. Lina Morgan fue la estrella que convirtió su papel en un género diferente. Comedia\, revista\, color\, música\, baile\, plumas y espectáculo. Y un recuerdo. El recuerdo a la madrileña que con su vestido negro\, su gorro y su pierna dislocada llegó al corazón de su público. La actriz Amanda Mora no imita a Lina Morgan. Es Lina Morgan. El actor Jesús Manuel Ruiz\, en su papel de Hipólito y Peter\, desquicia a dos mujeres. La tercera es la vedette valenciana Ana Torres en su papel de Marian. Un trio. Una única realidad. Y un desenlace donde sueña la música y el pasado se convierte en presente. Lina Morgan ha vuelto. \nENTRADAS:\nVenta anticipada en el Centro Cultural La Estación. 15 € entrada general – 12 € con descuento. Taquilla: 18 €.  Teléfono de información 91 861 24 20. \n 
URL:https://www.sanmartindevaldeiglesias.es/evento/teatro-tributo-a-lina-morgan/
LOCATION:Teatro municipal\, Calle Fuente 4\, San Martín de Valdeiglesias\, Madrid\, 28680\, España
CATEGORIES:Teatro
END:VEVENT
BEGIN:VEVENT
DTSTART;VALUE=DATE:20230515
DTEND;VALUE=DATE:20230701
DTSTAMP:20260419T142106
CREATED:20230510T093333Z
LAST-MODIFIED:20230510T093745Z
UID:22035-1684108800-1688169599@www.sanmartindevaldeiglesias.es
SUMMARY:Vacunación antirrábica
DESCRIPTION:
URL:https://www.sanmartindevaldeiglesias.es/evento/vacunacion-antirrabica/
LOCATION:Madrid
CATEGORIES:Medio Ambiente,Salud
END:VEVENT
BEGIN:VEVENT
DTSTART;TZID=Europe/Madrid:20230529T193000
DTEND;TZID=Europe/Madrid:20230529T213000
DTSTAMP:20260419T142106
CREATED:20230526T111401Z
LAST-MODIFIED:20230526T111401Z
UID:22046-1685388600-1685395800@www.sanmartindevaldeiglesias.es
SUMMARY:Audición de clarinete y violín
DESCRIPTION:
URL:https://www.sanmartindevaldeiglesias.es/evento/audicion-de-clarinete-y-violin/
LOCATION:Escuela Municipal de Música y Danza «Maestro Joaquín Rodrigo»\, General Martinez Benito 4\, San Martín de Valdeiglesias\, Madrid\, 28680\, España
CATEGORIES:Conciertos
END:VEVENT
BEGIN:VEVENT
DTSTART;TZID=Europe/Madrid:20230530T193000
DTEND;TZID=Europe/Madrid:20230530T213000
DTSTAMP:20260419T142106
CREATED:20230526T111527Z
LAST-MODIFIED:20230526T111527Z
UID:22049-1685475000-1685482200@www.sanmartindevaldeiglesias.es
SUMMARY:Audición de piano
DESCRIPTION:
URL:https://www.sanmartindevaldeiglesias.es/evento/audicion-de-piano-4/
LOCATION:Escuela Municipal de Música y Danza «Maestro Joaquín Rodrigo»\, General Martinez Benito 4\, San Martín de Valdeiglesias\, Madrid\, 28680\, España
CATEGORIES:Conciertos
END:VEVENT
BEGIN:VEVENT
DTSTART;TZID=Europe/Madrid:20230531T193000
DTEND;TZID=Europe/Madrid:20230531T213000
DTSTAMP:20260419T142106
CREATED:20230526T111824Z
LAST-MODIFIED:20230526T111824Z
UID:22051-1685561400-1685568600@www.sanmartindevaldeiglesias.es
SUMMARY:Audición técnicas de canto
DESCRIPTION:
URL:https://www.sanmartindevaldeiglesias.es/evento/audicion-tecnicas-de-canto-2/
LOCATION:Escuela Municipal de Música y Danza «Maestro Joaquín Rodrigo»\, General Martinez Benito 4\, San Martín de Valdeiglesias\, Madrid\, 28680\, España
CATEGORIES:Conciertos
END:VEVENT
END:VCALENDAR