BEGIN:VCALENDAR
VERSION:2.0
PRODID:-//San Martín de Valdeiglesias - ECPv6.15.20//NONSGML v1.0//EN
CALSCALE:GREGORIAN
METHOD:PUBLISH
X-ORIGINAL-URL:https://www.sanmartindevaldeiglesias.es
X-WR-CALDESC:Eventos para San Martín de Valdeiglesias
REFRESH-INTERVAL;VALUE=DURATION:PT1H
X-Robots-Tag:noindex
X-PUBLISHED-TTL:PT1H
BEGIN:VTIMEZONE
TZID:Europe/Madrid
BEGIN:DAYLIGHT
TZOFFSETFROM:+0100
TZOFFSETTO:+0200
TZNAME:CEST
DTSTART:20220327T010000
END:DAYLIGHT
BEGIN:STANDARD
TZOFFSETFROM:+0200
TZOFFSETTO:+0100
TZNAME:CET
DTSTART:20221030T010000
END:STANDARD
BEGIN:DAYLIGHT
TZOFFSETFROM:+0100
TZOFFSETTO:+0200
TZNAME:CEST
DTSTART:20230326T010000
END:DAYLIGHT
BEGIN:STANDARD
TZOFFSETFROM:+0200
TZOFFSETTO:+0100
TZNAME:CET
DTSTART:20231029T010000
END:STANDARD
BEGIN:DAYLIGHT
TZOFFSETFROM:+0100
TZOFFSETTO:+0200
TZNAME:CEST
DTSTART:20240331T010000
END:DAYLIGHT
BEGIN:STANDARD
TZOFFSETFROM:+0200
TZOFFSETTO:+0100
TZNAME:CET
DTSTART:20241027T010000
END:STANDARD
END:VTIMEZONE
BEGIN:VEVENT
DTSTART;VALUE=DATE:20230515
DTEND;VALUE=DATE:20230701
DTSTAMP:20260419T154206
CREATED:20230510T093333Z
LAST-MODIFIED:20230510T093745Z
UID:22035-1684108800-1688169599@www.sanmartindevaldeiglesias.es
SUMMARY:Vacunación antirrábica
DESCRIPTION:
URL:https://www.sanmartindevaldeiglesias.es/evento/vacunacion-antirrabica/
LOCATION:Madrid
CATEGORIES:Medio Ambiente,Salud
END:VEVENT
BEGIN:VEVENT
DTSTART;TZID=Europe/Madrid:20230601T193000
DTEND;TZID=Europe/Madrid:20230601T213000
DTSTAMP:20260419T154206
CREATED:20230526T112009Z
LAST-MODIFIED:20230526T112009Z
UID:22053-1685647800-1685655000@www.sanmartindevaldeiglesias.es
SUMMARY:Audición: Viento metal
DESCRIPTION:
URL:https://www.sanmartindevaldeiglesias.es/evento/audicion-viento-metal/
LOCATION:Escuela Municipal de Música y Danza «Maestro Joaquín Rodrigo»\, General Martinez Benito 4\, San Martín de Valdeiglesias\, Madrid\, 28680\, España
CATEGORIES:CURSOS
END:VEVENT
BEGIN:VEVENT
DTSTART;TZID=Europe/Madrid:20230602T193000
DTEND;TZID=Europe/Madrid:20230602T213000
DTSTAMP:20260419T154206
CREATED:20230526T112141Z
LAST-MODIFIED:20230526T112141Z
UID:22055-1685734200-1685741400@www.sanmartindevaldeiglesias.es
SUMMARY:Audición de saxofón
DESCRIPTION:
URL:https://www.sanmartindevaldeiglesias.es/evento/audicion-de-saxofon-2/
LOCATION:Escuela Municipal de Música y Danza «Maestro Joaquín Rodrigo»\, General Martinez Benito 4\, San Martín de Valdeiglesias\, Madrid\, 28680\, España
CATEGORIES:Conciertos
END:VEVENT
BEGIN:VEVENT
DTSTART;TZID=Europe/Madrid:20230606T193000
DTEND;TZID=Europe/Madrid:20230606T213000
DTSTAMP:20260419T154206
CREATED:20230526T112407Z
LAST-MODIFIED:20230526T112407Z
UID:22057-1686079800-1686087000@www.sanmartindevaldeiglesias.es
SUMMARY:Audición: flauta y música actual
DESCRIPTION:
URL:https://www.sanmartindevaldeiglesias.es/evento/audicion-flauta-y-musica-actual/
LOCATION:Escuela Municipal de Música y Danza «Maestro Joaquín Rodrigo»\, General Martinez Benito 4\, San Martín de Valdeiglesias\, Madrid\, 28680\, España
CATEGORIES:Conciertos
END:VEVENT
BEGIN:VEVENT
DTSTART;TZID=Europe/Madrid:20230607T193000
DTEND;TZID=Europe/Madrid:20230607T210000
DTSTAMP:20260419T154206
CREATED:20230526T112542Z
LAST-MODIFIED:20230526T112542Z
UID:22059-1686166200-1686171600@www.sanmartindevaldeiglesias.es
SUMMARY:Audición de percusión
DESCRIPTION:
URL:https://www.sanmartindevaldeiglesias.es/evento/audicion-de-percusion-2/
LOCATION:Escuela Municipal de Música y Danza «Maestro Joaquín Rodrigo»\, General Martinez Benito 4\, San Martín de Valdeiglesias\, Madrid\, 28680\, España
CATEGORIES:Conciertos
END:VEVENT
BEGIN:VEVENT
DTSTART;TZID=Europe/Madrid:20230609T193000
DTEND;TZID=Europe/Madrid:20230609T213000
DTSTAMP:20260419T154206
CREATED:20230526T112726Z
LAST-MODIFIED:20230526T112726Z
UID:22061-1686339000-1686346200@www.sanmartindevaldeiglesias.es
SUMMARY:Audición guitarra y música actual
DESCRIPTION:
URL:https://www.sanmartindevaldeiglesias.es/evento/audicion-guitarra-y-musica-actual/
LOCATION:Escuela Municipal de Música y Danza «Maestro Joaquín Rodrigo»\, General Martinez Benito 4\, San Martín de Valdeiglesias\, Madrid\, 28680\, España
CATEGORIES:Conciertos
END:VEVENT
BEGIN:VEVENT
DTSTART;TZID=Europe/Madrid:20230610T100000
DTEND;TZID=Europe/Madrid:20230610T150000
DTSTAMP:20260419T154206
CREATED:20230606T115726Z
LAST-MODIFIED:20230606T115726Z
UID:22096-1686391200-1686409200@www.sanmartindevaldeiglesias.es
SUMMARY:Campaña Comercios Mágicos
DESCRIPTION:Campaña de promoción del comercio local: actividades de dinamización\, espectáculos de magia\, sorteos entre los consumidores de los establecimientos adheridos…
URL:https://www.sanmartindevaldeiglesias.es/evento/campana-comercios-magicos-2/
LOCATION:Plaza de la Corredera\, Plaza de la Corredera\, San Martín de Valdeiglesias\, Madrid\, 28680\, España
CATEGORIES:Desarrollo económico
END:VEVENT
BEGIN:VEVENT
DTSTART;TZID=Europe/Madrid:20230610T123000
DTEND;TZID=Europe/Madrid:20230610T140000
DTSTAMP:20260419T154206
CREATED:20230526T113016Z
LAST-MODIFIED:20230526T113016Z
UID:22063-1686400200-1686405600@www.sanmartindevaldeiglesias.es
SUMMARY:Encuentro viento metal
DESCRIPTION:
URL:https://www.sanmartindevaldeiglesias.es/evento/encuentro-viento-metal/
LOCATION:Escuela Municipal de Música y Danza «Maestro Joaquín Rodrigo»\, General Martinez Benito 4\, San Martín de Valdeiglesias\, Madrid\, 28680\, España
CATEGORIES:Conciertos
END:VEVENT
BEGIN:VEVENT
DTSTART;TZID=Europe/Madrid:20230615T200000
DTEND;TZID=Europe/Madrid:20230615T210000
DTSTAMP:20260419T154206
CREATED:20230614T120622Z
LAST-MODIFIED:20230614T120622Z
UID:22123-1686859200-1686862800@www.sanmartindevaldeiglesias.es
SUMMARY:Acto en memoria...
DESCRIPTION:Acto en memoria de Mika P. Selander\, profesor de la Escuela Municipal de Música. \n 
URL:https://www.sanmartindevaldeiglesias.es/evento/acto-en-memoria/
LOCATION:Escuela Municipal de Música y Danza «Maestro Joaquín Rodrigo»\, General Martinez Benito 4\, San Martín de Valdeiglesias\, Madrid\, 28680\, España
CATEGORIES:Conciertos
END:VEVENT
BEGIN:VEVENT
DTSTART;TZID=Europe/Madrid:20230616T200000
DTEND;TZID=Europe/Madrid:20230616T220000
DTSTAMP:20260419T154206
CREATED:20230526T113326Z
LAST-MODIFIED:20230526T113919Z
UID:22065-1686945600-1686952800@www.sanmartindevaldeiglesias.es
SUMMARY:Audición aula iniciación
DESCRIPTION:
URL:https://www.sanmartindevaldeiglesias.es/evento/audicion-aula-iniciacion-2/
LOCATION:Teatro municipal\, Calle Fuente 4\, San Martín de Valdeiglesias\, Madrid\, 28680\, España
CATEGORIES:Conciertos
END:VEVENT
BEGIN:VEVENT
DTSTART;TZID=Europe/Madrid:20230617T100000
DTEND;TZID=Europe/Madrid:20230617T113000
DTSTAMP:20260419T154206
CREATED:20230614T122534Z
LAST-MODIFIED:20230614T123016Z
UID:22127-1686996000-1687001400@www.sanmartindevaldeiglesias.es
SUMMARY:Pleno ordinario
DESCRIPTION:El  Ayuntamiento de San Martín de Valdeiglesias celebrará sesión ordinaria del Pleno\, que se celebrará\, en el salón de plenos del Ayuntamiento\, el día: \n\n17 de junio de 2023\, a las 10:00 h. en primera convocatoria.\n20 de junio de 2023\, a las 10:00 h. en segunda convocatoria.\n\nDe no existir el quórum legalmente establecido para la celebración de la sesión\, se celebrará\, en segunda convocatoria\, dos días después a la misma hora sin necesidad de nueva notificación. \nLa sesión discurrirá conforme al siguiente \nORDEN DEL DÍA:  \n\n\n\nParte resolutiva\n\nConstitución de la nueva Corporación Municipal.\nElección de Alcalde-Presidente.\n\n\n\n\n\nDescargar convocatoria en  .pdf – 153 Kb
URL:https://www.sanmartindevaldeiglesias.es/evento/pleno-ordinario-39/
LOCATION:Ayuntamiento
CATEGORIES:Pleno
END:VEVENT
BEGIN:VEVENT
DTSTART;TZID=Europe/Madrid:20230620T210000
DTEND;TZID=Europe/Madrid:20230620T223000
DTSTAMP:20260419T154206
CREATED:20230621T075039Z
LAST-MODIFIED:20230621T075535Z
UID:22161-1687294800-1687300200@www.sanmartindevaldeiglesias.es
SUMMARY:Actuación: la pianista roja
DESCRIPTION:Concierto de música en el que la pianista está en el agua\, sobre una balsa. El público se sitúa en la orilla.
URL:https://www.sanmartindevaldeiglesias.es/evento/actuacion-la-pianista-roja/
LOCATION:Pantano de San Juan. Chiringuito la Martuka\, Carretera del pantano\, 5\, San Martín de Valdeiglesias\, Madrid\, 28680\, España
CATEGORIES:Conciertos
END:VEVENT
BEGIN:VEVENT
DTSTART;TZID=Europe/Madrid:20230621T200000
DTEND;TZID=Europe/Madrid:20230621T210000
DTSTAMP:20260419T154206
CREATED:20230621T072717Z
LAST-MODIFIED:20230621T072717Z
UID:22149-1687377600-1687381200@www.sanmartindevaldeiglesias.es
SUMMARY:Festival benéfico de danza
DESCRIPTION:Festival a beneficio de la asociación Talismán.
URL:https://www.sanmartindevaldeiglesias.es/evento/festival-benefico-de-danza/
LOCATION:Teatro municipal\, Calle Fuente 4\, San Martín de Valdeiglesias\, Madrid\, 28680\, España
CATEGORIES:Bienestar social,Danza
END:VEVENT
BEGIN:VEVENT
DTSTART;TZID=Europe/Madrid:20230621T210000
DTEND;TZID=Europe/Madrid:20230621T223000
DTSTAMP:20260419T154206
CREATED:20230622T111149Z
LAST-MODIFIED:20230622T111149Z
UID:22167-1687381200-1687386600@www.sanmartindevaldeiglesias.es
SUMMARY:Actuación: la pianista roja-duplicate-1
DESCRIPTION:Concierto de música en el que la pianista está en el agua\, sobre una balsa. El público se sitúa en la orilla.
URL:https://www.sanmartindevaldeiglesias.es/evento/actuacion-la-pianista-roja-duplicate-1/
LOCATION:Pantano de San Juan. Chiringuito la Martuka\, Carretera del pantano\, 5\, San Martín de Valdeiglesias\, Madrid\, 28680\, España
CATEGORIES:Conciertos
END:VEVENT
BEGIN:VEVENT
DTSTART;TZID=Europe/Madrid:20230623T180000
DTEND;TZID=Europe/Madrid:20230623T193000
DTSTAMP:20260419T154206
CREATED:20230621T073109Z
LAST-MODIFIED:20230621T073109Z
UID:22152-1687543200-1687548600@www.sanmartindevaldeiglesias.es
SUMMARY:Visión Yoga
DESCRIPTION:
URL:https://www.sanmartindevaldeiglesias.es/evento/vision-yoga/
LOCATION:Campo de fútbol
CATEGORIES:Deportes
END:VEVENT
BEGIN:VEVENT
DTSTART;TZID=Europe/Madrid:20230623T220000
DTEND;TZID=Europe/Madrid:20230623T233000
DTSTAMP:20260419T154206
CREATED:20230623T090539Z
LAST-MODIFIED:20230623T090539Z
UID:22171-1687557600-1687563000@www.sanmartindevaldeiglesias.es
SUMMARY:Fiesta de San Juan
DESCRIPTION:Ruta con historia: Conoce la historia de la noche más corta del año. \nSalida de la ruta desde la Plaza del Ayuntamiento. Actividad gratuita.
URL:https://www.sanmartindevaldeiglesias.es/evento/fiesta-de-san-juan/
LOCATION:Plaza Real\, Plaza Real Nº1\, San Martín de Valdeiglesias\, Madrid\, 28680\, España
CATEGORIES:Fiestas
END:VEVENT
BEGIN:VEVENT
DTSTART;TZID=Europe/Madrid:20230624T213000
DTEND;TZID=Europe/Madrid:20230624T223000
DTSTAMP:20260419T154206
CREATED:20230621T073414Z
LAST-MODIFIED:20230621T073414Z
UID:22155-1687642200-1687645800@www.sanmartindevaldeiglesias.es
SUMMARY:Yoga bajo las estrellas
DESCRIPTION:
URL:https://www.sanmartindevaldeiglesias.es/evento/yoga-bajo-las-estrellas/
LOCATION:Campo de fútbol
CATEGORIES:Deportes
END:VEVENT
BEGIN:VEVENT
DTSTART;TZID=Europe/Madrid:20230625T120000
DTEND;TZID=Europe/Madrid:20230625T140000
DTSTAMP:20260419T154206
CREATED:20230526T113502Z
LAST-MODIFIED:20230621T073740Z
UID:22067-1687694400-1687701600@www.sanmartindevaldeiglesias.es
SUMMARY:Concierto fin de curso
DESCRIPTION:
URL:https://www.sanmartindevaldeiglesias.es/evento/concierto-fin-de-curso-5/
LOCATION:Teatro municipal\, Calle Fuente 4\, San Martín de Valdeiglesias\, Madrid\, 28680\, España
CATEGORIES:Conciertos
END:VEVENT
BEGIN:VEVENT
DTSTART;TZID=Europe/Madrid:20230630T170000
DTEND;TZID=Europe/Madrid:20230630T210000
DTSTAMP:20260419T154206
CREATED:20230628T084959Z
LAST-MODIFIED:20230628T091036Z
UID:22206-1688144400-1688158800@www.sanmartindevaldeiglesias.es
SUMMARY:Jornada Padres e Hijos
DESCRIPTION:Horarios de las diferentes actividades: \n\nNatación: Minidelfín a las 17:30 h. Delfín y superdelfín a las 18:30 h. La duración de la actividad es de 45 minutos.\nPádel: grupos desde las 17 a las 19:45 h.\nFútbol (Duración de los partidos: 25 minutos):\n\nAlevín F11 e Infantil B a las 17 h.\nInfantil A e Infantil C a las 17:30 h.\nAlevín A y B a las 18 h.\nBenjamín A y B a las 18:30 h.\nPrebenjamín a las 19 h.\nChupetín y cadete a las 19:30 h.\n\n\nBaloncesto (Duración de los partidos: 40 minutos):\n\nPrebenjamín\, alevín e infantil a las 17 h.\nCadete a las 17:40 h.\n\n\nTenis: A las 17 h. todas las categorías. Duración: 40 minutos.\nJuegos predeportivos: A las 19 h. tods las categorías. Duración: 40 minutos.\nGimnasia rítmica: Todas las categorías a las 19 h. Duración: 1 hora.\n\nLos participantes en este Jornada de Padres e Hijos podrán finalizar la actividad dándose un chapuzón en la piscina municipal de 20 a 21 h.
URL:https://www.sanmartindevaldeiglesias.es/evento/jornada-padres-e-hijos/
LOCATION:Patronato municipal de deportes\, Calle salamanca 17\, San Martín de valdeiglesias\, Madrid\, 28680\, España
CATEGORIES:Deportes
END:VEVENT
END:VCALENDAR