BEGIN:VCALENDAR
VERSION:2.0
PRODID:-//San Martín de Valdeiglesias - ECPv6.15.20//NONSGML v1.0//EN
CALSCALE:GREGORIAN
METHOD:PUBLISH
X-ORIGINAL-URL:https://www.sanmartindevaldeiglesias.es
X-WR-CALDESC:Eventos para San Martín de Valdeiglesias
REFRESH-INTERVAL;VALUE=DURATION:PT1H
X-Robots-Tag:noindex
X-PUBLISHED-TTL:PT1H
BEGIN:VTIMEZONE
TZID:Europe/Madrid
BEGIN:DAYLIGHT
TZOFFSETFROM:+0100
TZOFFSETTO:+0200
TZNAME:CEST
DTSTART:20220327T010000
END:DAYLIGHT
BEGIN:STANDARD
TZOFFSETFROM:+0200
TZOFFSETTO:+0100
TZNAME:CET
DTSTART:20221030T010000
END:STANDARD
BEGIN:DAYLIGHT
TZOFFSETFROM:+0100
TZOFFSETTO:+0200
TZNAME:CEST
DTSTART:20230326T010000
END:DAYLIGHT
BEGIN:STANDARD
TZOFFSETFROM:+0200
TZOFFSETTO:+0100
TZNAME:CET
DTSTART:20231029T010000
END:STANDARD
BEGIN:DAYLIGHT
TZOFFSETFROM:+0100
TZOFFSETTO:+0200
TZNAME:CEST
DTSTART:20240331T010000
END:DAYLIGHT
BEGIN:STANDARD
TZOFFSETFROM:+0200
TZOFFSETTO:+0100
TZNAME:CET
DTSTART:20241027T010000
END:STANDARD
END:VTIMEZONE
BEGIN:VEVENT
DTSTART;TZID=Europe/Madrid:20230804T233000
DTEND;TZID=Europe/Madrid:20230805T020000
DTSTAMP:20260419T182542
CREATED:20230728T122441Z
LAST-MODIFIED:20230731T071621Z
UID:22326-1691191800-1691200800@www.sanmartindevaldeiglesias.es
SUMMARY:Festival Gozadera
DESCRIPTION:Festival de Música en colaboración con Gozadera fm.\nCon la actuación de: \n\nPepe Abril.\nJay M.\nFonty.\nLaura Capulet\nNJuice\n\nPrecio de entradas anticipadas: 10 €. \nPrecio de entrada en taquilla: 15 €.\nVenta de entradas anticipadas en el Ayuntamiento. \nLos menores de 16 años tienen que ir acompañados de un adulto.
URL:https://www.sanmartindevaldeiglesias.es/evento/festival-gozadera/
LOCATION:Plaza de toros
CATEGORIES:Conciertos
END:VEVENT
BEGIN:VEVENT
DTSTART;TZID=Europe/Madrid:20230810T223000
DTEND;TZID=Europe/Madrid:20230810T233000
DTSTAMP:20260419T182542
CREATED:20230802T103536Z
LAST-MODIFIED:20230802T103536Z
UID:22347-1691706600-1691710200@www.sanmartindevaldeiglesias.es
SUMMARY:Cine de verano
DESCRIPTION:Entrada gratuita.
URL:https://www.sanmartindevaldeiglesias.es/evento/cine-de-verano-10/
LOCATION:Plaza de toros
CATEGORIES:Cine
END:VEVENT
BEGIN:VEVENT
DTSTART;TZID=Europe/Madrid:20230811T170000
DTEND;TZID=Europe/Madrid:20230811T200000
DTSTAMP:20260419T182542
CREATED:20230807T101707Z
LAST-MODIFIED:20230807T101707Z
UID:22398-1691773200-1691784000@www.sanmartindevaldeiglesias.es
SUMMARY:Bibliopiscina
DESCRIPTION:La Biblioteca Miguel Hernández se desplazará el día 11 de agosto\, hasta la piscina municipal para ofrecer a los usuarios una tarde de cuentos\, lectura y juegos. \nLa bibliopiscina estará operativa de 5 a 8 de la tarde\, con un cuentacuentos que se celebrará a las 6. \nActividad gratuita para los usuarios de la piscina municipal. \n 
URL:https://www.sanmartindevaldeiglesias.es/evento/bibliopiscina/
LOCATION:Piscina Municipal\, Plaza de los deportes\, San Martín de Valdeiglesias\, Madrid\, 28680\, España
CATEGORIES:Servicios a la ciudadanía
END:VEVENT
BEGIN:VEVENT
DTSTART;VALUE=DATE:20230818
DTEND;VALUE=DATE:20230821
DTSTAMP:20260419T182542
CREATED:20230802T103923Z
LAST-MODIFIED:20230803T122831Z
UID:22349-1692316800-1692575999@www.sanmartindevaldeiglesias.es
SUMMARY:Maratón deportivo
DESCRIPTION:Maratón de pádel\, tenis\, frontenis\, baloncesto\, fútbol 7\, Bodypump y ciclo indoor. \n\nPádel adultos.\nPara mayores de 15 años.\nCategorías: Oro y plata\, tanto en el cuadro femenino como masculino.\nCategoría única mixta.\nPremios categorías Oro:  Campeones: 200 € + vino + diploma. Subcampeones: 100 € + Diploma.\nPremios categorías Plata: Campeones: 2 lomos + vino + bono de pista. Subcampeones: Paletero + bolas + bono de pista.\nPremios categoría mixta. Campeones: Palas + vino + bono de pista. Subcampeón: Vino + queso.\nInscripción: 15 €/persona.  2ª inscripción: 7 €/persona.\nAgua + fruta + entrada a la piscina gratuita para todos los participantes.\nPádel infantil. \nCategorías benjamín (nacidos 2013 – 2014)\, Alevín (nacidos 2011 -2012)\, infantil (nacidos 2099-2010) y cadete (nacidos 2007-2008).\nPremios: Diploma al campeón y subcampeón de cada categoría y medallas para todos los participantes.\nInscripción gratuita.\nPiscina gratuita para todos los participantes.\nTenis y frontenis.\nCategoría única.\nPremios para los campeones: Lomo + bono de pista + diploma.  Subcampeones: Queso + lomo.\nInscripción: 15 €/persona. 2ª inscripción: 7 €/persona.\nAgua + fruta + entrada a la piscina gratuita para todos los participantes.\nFútbol 7.\nCategorías: prebenjamín (nacidos 2015-2016)\, benjamín (nacidos 2013-2014)\, alevín (nacidos 2011-2012)\, infantil (nacidos 2009-2010)\, cadete (nacidos 2007-2008)\, femenino (infantil-cadete).\nPremios:  Trofeos para el campeón y subcampeón de cada categoría. Medallas para todos los participantes.\nInscripción gratuita.\nPiscina gratuita para todos los participantes.\nBaloncesto (menores). \nCategorías: infantil (nacidos 2010-2014) (nacidos 2007-2009).  Menores de 16 años con autorización.\nPremios: Trofeos para el campeón y subcampeón de cada categoría. Medallas para todos los participantes.\nInscripción gratuita.\nPiscina gratuita para todos los participantes.\n\n\nBodyPump. \nViernes 18 de agosto. 23 h. Pista de patinaje.\nInscripción: 5 €.\nRegalo de un neceser para todos los participantes.\n\n\nCiclo indoor.\nSábado 19 de agosto. 23 h. Pista de patinaje. o\nInscripción: 5 €\nRegalo de un neceser para todos los participantes.\n\nInscripciones en el mail deportes@sanmartindevaldeiglesias.es o al whastsapp 681 16 45 04. \nEmpresas colaboradoras: Neumáticos Álvarez\, Resgreen\, valleyglesias\, construcciones Aureliano Castaño\, Valdeiglesias Real Estate y RJ Sports.
URL:https://www.sanmartindevaldeiglesias.es/evento/maraton-deportivo-4/
LOCATION:Patronato municipal de deportes\, Calle salamanca 17\, San Martín de valdeiglesias\, Madrid\, 28680\, España
CATEGORIES:Deportes
END:VEVENT
BEGIN:VEVENT
DTSTART;TZID=Europe/Madrid:20230821T200000
DTEND;TZID=Europe/Madrid:20230821T213000
DTSTAMP:20260419T182542
CREATED:20230802T105211Z
LAST-MODIFIED:20230821T122841Z
UID:22355-1692648000-1692653400@www.sanmartindevaldeiglesias.es
SUMMARY:Baile\, yoga y estiramientos
DESCRIPTION:Baile libre.\nOrganiza ASHRAM. \nBailes\, yoga y estiramientos. \nPara todos los públicos.
URL:https://www.sanmartindevaldeiglesias.es/evento/baile-yoga-y-estiramientos/
LOCATION:Patronato municipal de deportes\, Calle salamanca 17\, San Martín de valdeiglesias\, Madrid\, 28680\, España
CATEGORIES:Danza,Deportes
END:VEVENT
BEGIN:VEVENT
DTSTART;TZID=Europe/Madrid:20230822T210000
DTEND;TZID=Europe/Madrid:20230822T220000
DTSTAMP:20260419T182542
CREATED:20230802T104854Z
LAST-MODIFIED:20230821T121354Z
UID:22353-1692738000-1692741600@www.sanmartindevaldeiglesias.es
SUMMARY:Master Class Baile Moderno
DESCRIPTION:Master Class de baile Moderno impartido por la asociación Aguja y Tacón.
URL:https://www.sanmartindevaldeiglesias.es/evento/master-class-baile-moderno/
LOCATION:Plaza de la Corredera\, Plaza de la Corredera\, San Martín de Valdeiglesias\, Madrid\, 28680\, España
CATEGORIES:Danza
END:VEVENT
BEGIN:VEVENT
DTSTART;TZID=Europe/Madrid:20230822T220000
DTEND;TZID=Europe/Madrid:20230822T230000
DTSTAMP:20260419T182542
CREATED:20230822T122552Z
LAST-MODIFIED:20230822T122634Z
UID:22450-1692741600-1692745200@www.sanmartindevaldeiglesias.es
SUMMARY:Presentación Feria Taurina 2023
DESCRIPTION:Acto de presentación de la Feria Taurina 2023\, conducido por la periodista Beatriz García Gutierrez.
URL:https://www.sanmartindevaldeiglesias.es/evento/presentacion-feria-taurina-2023/
LOCATION:Plaza Real\, Plaza Real Nº1\, San Martín de Valdeiglesias\, Madrid\, 28680\, España
CATEGORIES:Fiestas
END:VEVENT
BEGIN:VEVENT
DTSTART;TZID=Europe/Madrid:20230823T220000
DTEND;TZID=Europe/Madrid:20230823T233000
DTSTAMP:20260419T182542
CREATED:20230802T104520Z
LAST-MODIFIED:20230802T104520Z
UID:22351-1692828000-1692833400@www.sanmartindevaldeiglesias.es
SUMMARY:Yincana nocturna
DESCRIPTION:Yincana nocturna. \nSalida desde la Plaza Real.
URL:https://www.sanmartindevaldeiglesias.es/evento/yincana-nocturna/
LOCATION:Plaza Real\, Plaza Real Nº1\, San Martín de Valdeiglesias\, Madrid\, 28680\, España
CATEGORIES:Fiestas
END:VEVENT
BEGIN:VEVENT
DTSTART;TZID=Europe/Madrid:20230824T220000
DTEND;TZID=Europe/Madrid:20230824T233000
DTSTAMP:20260419T182542
CREATED:20230824T073251Z
LAST-MODIFIED:20230824T073251Z
UID:22463-1692914400-1692919800@www.sanmartindevaldeiglesias.es
SUMMARY:Cine de verano
DESCRIPTION:
URL:https://www.sanmartindevaldeiglesias.es/evento/cine-de-verano-11/
LOCATION:Plaza de toros
CATEGORIES:Cine
END:VEVENT
BEGIN:VEVENT
DTSTART;TZID=Europe/Madrid:20230825T220000
DTEND;TZID=Europe/Madrid:20230825T233000
DTSTAMP:20260419T182542
CREATED:20230825T090631Z
LAST-MODIFIED:20230825T090631Z
UID:22529-1693000800-1693006200@www.sanmartindevaldeiglesias.es
SUMMARY:Gala elección de Misses
DESCRIPTION:Con la actuación del grupo «Soul Machine» a continuación DJ hasta la 5 de la madrugada. \n 
URL:https://www.sanmartindevaldeiglesias.es/evento/gala-eleccion-de-misses/
LOCATION:Plaza de la Corredera\, Plaza de la Corredera\, San Martín de Valdeiglesias\, Madrid\, 28680\, España
CATEGORIES:Igualdad
END:VEVENT
BEGIN:VEVENT
DTSTART;TZID=Europe/Madrid:20230826T210000
DTEND;TZID=Europe/Madrid:20230826T223000
DTSTAMP:20260419T182542
CREATED:20230818T112106Z
LAST-MODIFIED:20230818T112106Z
UID:22444-1693083600-1693089000@www.sanmartindevaldeiglesias.es
SUMMARY:Festival Bandas de Música
DESCRIPTION:Con la participación de las Bandas: \n\nUnión Musical de San Martín de Valdeiglesias (Madrid).\nBanda de Música de Hoyo de Pinares (Ávila).\n\n 
URL:https://www.sanmartindevaldeiglesias.es/evento/festival-bandas-de-musica/
LOCATION:Plaza Real\, Plaza Real Nº1\, San Martín de Valdeiglesias\, Madrid\, 28680\, España
CATEGORIES:Conciertos
END:VEVENT
BEGIN:VEVENT
DTSTART;TZID=Europe/Madrid:20230827T220000
DTEND;TZID=Europe/Madrid:20230827T233000
DTSTAMP:20260419T182542
CREATED:20230803T112934Z
LAST-MODIFIED:20230825T111621Z
UID:22357-1693173600-1693179000@www.sanmartindevaldeiglesias.es
SUMMARY:Tributo a Luli Pampin (aplazado)
DESCRIPTION:Entradas: 10 € venta anticipada\, 12 € en taquilla.  Venta de entradas anticipadas en el bar La Parrilla.
URL:https://www.sanmartindevaldeiglesias.es/evento/tributo-a-luli-pampin/
LOCATION:Plaza de toros
CATEGORIES:Conciertos
END:VEVENT
BEGIN:VEVENT
DTSTART;TZID=Europe/Madrid:20230831T193000
DTEND;TZID=Europe/Madrid:20230831T210000
DTSTAMP:20260419T182542
CREATED:20230828T111937Z
LAST-MODIFIED:20230830T110056Z
UID:22535-1693510200-1693515600@www.sanmartindevaldeiglesias.es
SUMMARY:Fútbol juvenil
DESCRIPTION:Partido de fútbol juvenil entre los equipos  ATLÉTICO VALDEIGLESIAS – TALAVERA DIVISIÓN DE HONOR. En el campo municipal José Rodríguez \nA continuación entrega de trofeos. \nActividad dentro del programa de las  Fiestas Patronales 2023 (.pdf). \n 
URL:https://www.sanmartindevaldeiglesias.es/evento/futbol-juvenil-2/
LOCATION:Campo de fútbol
CATEGORIES:Deportes,Fiestas
END:VEVENT
BEGIN:VEVENT
DTSTART;TZID=Europe/Madrid:20230831T223000
DTEND;TZID=Europe/Madrid:20230901T003000
DTSTAMP:20260419T182542
CREATED:20230807T105331Z
LAST-MODIFIED:20230927T104408Z
UID:22401-1693521000-1693528200@www.sanmartindevaldeiglesias.es
SUMMARY:Concierto: Decai
DESCRIPTION:Entradas: 12 € Venta anticipada. 18 € en taquilla. Venta de entradas anticipadas en el Ayuntamiento. \nActividad dentro del programa de Fiestas Patronales 2023 (.pdf)
URL:https://www.sanmartindevaldeiglesias.es/evento/concierto-decai/
LOCATION:Plaza de toros
CATEGORIES:Conciertos
END:VEVENT
END:VCALENDAR