BEGIN:VCALENDAR
VERSION:2.0
PRODID:-//San Martín de Valdeiglesias - ECPv6.15.20//NONSGML v1.0//EN
CALSCALE:GREGORIAN
METHOD:PUBLISH
X-ORIGINAL-URL:https://www.sanmartindevaldeiglesias.es
X-WR-CALDESC:Eventos para San Martín de Valdeiglesias
REFRESH-INTERVAL;VALUE=DURATION:PT1H
X-Robots-Tag:noindex
X-PUBLISHED-TTL:PT1H
BEGIN:VTIMEZONE
TZID:Europe/Madrid
BEGIN:DAYLIGHT
TZOFFSETFROM:+0100
TZOFFSETTO:+0200
TZNAME:CEST
DTSTART:20220327T010000
END:DAYLIGHT
BEGIN:STANDARD
TZOFFSETFROM:+0200
TZOFFSETTO:+0100
TZNAME:CET
DTSTART:20221030T010000
END:STANDARD
BEGIN:DAYLIGHT
TZOFFSETFROM:+0100
TZOFFSETTO:+0200
TZNAME:CEST
DTSTART:20230326T010000
END:DAYLIGHT
BEGIN:STANDARD
TZOFFSETFROM:+0200
TZOFFSETTO:+0100
TZNAME:CET
DTSTART:20231029T010000
END:STANDARD
BEGIN:DAYLIGHT
TZOFFSETFROM:+0100
TZOFFSETTO:+0200
TZNAME:CEST
DTSTART:20240331T010000
END:DAYLIGHT
BEGIN:STANDARD
TZOFFSETFROM:+0200
TZOFFSETTO:+0100
TZNAME:CET
DTSTART:20241027T010000
END:STANDARD
END:VTIMEZONE
BEGIN:VEVENT
DTSTART;TZID=Europe/Madrid:20231001T100000
DTEND;TZID=Europe/Madrid:20231001T123000
DTSTAMP:20260419T212223
CREATED:20230810T121250Z
LAST-MODIFIED:20230810T124848Z
UID:22416-1696154400-1696163400@www.sanmartindevaldeiglesias.es
SUMMARY:Marcha solidaria
DESCRIPTION:Recorrido: San Martín de Valdeiglesias – Pelayos de la Presa (ida i vuelta)\, por el camino Angosto.  Dificultad: Baja.\nSalida desde la Plaza de la Corredera y llegada en el Vivero de la Asociación Talismán. \nInscripciones y reserva de comida en el vivero hasta el \n\nreserva de comida servida en el Vivero Talismán\, antes del 27 de septiembre\, llamando al 699174176.
URL:https://www.sanmartindevaldeiglesias.es/evento/22416/
LOCATION:Plaza de la Corredera\, Plaza de la Corredera\, San Martín de Valdeiglesias\, Madrid\, 28680\, España
CATEGORIES:Bienestar social,Deportes
END:VEVENT
BEGIN:VEVENT
DTSTART;TZID=Europe/Madrid:20231006T180000
DTEND;TZID=Europe/Madrid:20231006T190000
DTSTAMP:20260419T212223
CREATED:20231002T113140Z
LAST-MODIFIED:20231002T113140Z
UID:22632-1696615200-1696618800@www.sanmartindevaldeiglesias.es
SUMMARY:Cuentacuentos
DESCRIPTION:Con motivo de la Muestra del Libro Infantil y Juvenil\, el viernes 6 de octubre\, habrá un cuentacuentos en la sala infantil. Gratuito.
URL:https://www.sanmartindevaldeiglesias.es/evento/cuentacuentos-19/
LOCATION:Biblioteca Municipal\, C/ Fuente\, 4\, San Martín de Valdeiglesias\, Madrid\, 28680\, España
END:VEVENT
BEGIN:VEVENT
DTSTART;TZID=Europe/Madrid:20231012T120000
DTEND;TZID=Europe/Madrid:20231012T143000
DTSTAMP:20260419T212223
CREATED:20231010T114121Z
LAST-MODIFIED:20231010T114121Z
UID:22849-1697112000-1697121000@www.sanmartindevaldeiglesias.es
SUMMARY:Actos de la festividad del Pilar
DESCRIPTION:Programa de actos: \n\n12 h. Santa Misa.\n13:15 h. Acto homenaje a la bandera y ofrenda a los caídos.  Lugar: Glorieta de la Plaza de Toros.
URL:https://www.sanmartindevaldeiglesias.es/evento/actos-de-la-festividad-del-pilar/
LOCATION:Madrid
CATEGORIES:Fiestas
END:VEVENT
BEGIN:VEVENT
DTSTART;VALUE=DATE:20231016
DTEND;VALUE=DATE:20231023
DTSTAMP:20260419T212223
CREATED:20231011T111026Z
LAST-MODIFIED:20231011T111026Z
UID:22861-1697414400-1698019199@www.sanmartindevaldeiglesias.es
SUMMARY:Semana contra cáncer de mama
DESCRIPTION:PROGRAMA: \n\nLunes\, 16 de octubre: Colocación de lazo rosa en el balcón del Ayuntamiento.\n16\, 17 y 18 de octubre: Taller de cojines solidarios. Lugar: Centro de Ocio de la Tercera Edad. Horario de 17 a 19 h.\nMartes\, 17 de octubre: Audición musical. Lugar: Auditoria de la Escuela Municipal de Música y Danza.\nMiércoles\, 18 de octubre: Proyección del documental: «En el valle de la Luna»\, que relata el octavo Reto Pelayo Vida Jordania 2022. Una historia de trabajo en equipo y de superación personal. Contaremos con la participación de 3 expedicionarias que contarán sus vivencias. Salón de Plenos del Ayuntamiento. 19:30 h.\nJueves\, 19 de octubre:  Danza abierta. Escuela Municipal de Música y Danza. 18 h.\nViernes\, 20 de octubre: «Tú tu belleza y la de tus limones». Centro Los Lavaderos (Plaza de Teodoro Bravo). Colabora: Was qe Wapa´s.\nSábado\, 21 de octubre: Carrera solidaria en bici\, a beneficio de la Asociación Española Contra el Cáncer. Colabora: MTB Valdeiglesias.\nDomingo\, 22 de octubre:\n\n12 h. Mechones solidarios\, con la colaboración de Pin Up\, Agatha Estilistas y B&B peluquería.\n17 h. Marcha solidaria contra el cáncer de mama. Salida desde la Plaza de la Corredera. Se bailará un flash move (el ensayo para este baile será el jueves\, 19 de octubre\, a las  19:30 en el C.P. Virgen de la Nueva.
URL:https://www.sanmartindevaldeiglesias.es/evento/semana-contra-cancer-de-mama/
LOCATION:Madrid
CATEGORIES:Salud
END:VEVENT
BEGIN:VEVENT
DTSTART;TZID=Europe/Madrid:20231017T093000
DTEND;TZID=Europe/Madrid:20231017T133000
DTSTAMP:20260419T212223
CREATED:20231010T113606Z
LAST-MODIFIED:20231010T113606Z
UID:22846-1697535000-1697549400@www.sanmartindevaldeiglesias.es
SUMMARY:Taller eficiencia energética
DESCRIPTION:
URL:https://www.sanmartindevaldeiglesias.es/evento/taller-eficiencia-energetica/
LOCATION:Centro «Los Lavaderos»\, Plaza de Teodoro Bravo\, 15\, San Martín de Valdeiglesias\, Madrid\, 28680\, España
CATEGORIES:CURSOS
END:VEVENT
BEGIN:VEVENT
DTSTART;TZID=Europe/Madrid:20231021T100000
DTEND;TZID=Europe/Madrid:20231021T200000
DTSTAMP:20260419T212223
CREATED:20231018T123910Z
LAST-MODIFIED:20231018T123910Z
UID:22894-1697882400-1697918400@www.sanmartindevaldeiglesias.es
SUMMARY:II Feria del Libro
DESCRIPTION:PROGRAMA:   \n10:00 h. Apertura y bienvenida.\n11:00 h. Taller de marcapáginas (Con la colaboración del AMPA San Martín de Tours).\n11:00 h.  Firma de ejemplares. Obra: «Rota» de la autora Marta Carús. Stand de la Librería Ciudad del Alba.\n12:00 h. Cuentacuentos\, con la colaboración de Librería El Liceo.\n13:00 h. Taller de cómic.\n14:00 h. Cierre de la Feria. \n16:00 h. Apertura de la Feria.\n17:00 h. Presentación y cuentacuentos de «Pepe diente Pocho» de Sonia Blas (Colabora Librería Bazar de San Martín).\n18:00 h. Narración con música para adultos (Colaboración Librería Ciudad del Alba).\n19:00 h. Recital poético para adultos.\n20:00 h. Clausura de la Feria. \nLa feria contará con la presencia de los autores:  Alba Alcaide y Javier Fernández Jiménez. \nEsta actividad ha recibido el premio María Moliner 2023\, otorgado por la dirección general del libro del Ministerio de Cultura.
URL:https://www.sanmartindevaldeiglesias.es/evento/ii-feria-del-libro/
LOCATION:IES Pedro de Tolosa\, C/ Estudios\,\, San Martín de Valdeiglesias\, Madrid\, 28680\, España
CATEGORIES:Exposiciones
END:VEVENT
BEGIN:VEVENT
DTSTART;TZID=Europe/Madrid:20231021T200000
DTEND;TZID=Europe/Madrid:20231021T213000
DTSTAMP:20260419T212223
CREATED:20231003T125701Z
LAST-MODIFIED:20231005T093107Z
UID:22808-1697918400-1697923800@www.sanmartindevaldeiglesias.es
SUMMARY:Teatro: Los enredos de Scapin
DESCRIPTION:Compañía: Morboria Teatro.\nIntérpretes: Eva del Palacio\, Fernando Aguado\, Virginia Sánchez\, Vicente Aguado\, Ana Belén Serrano\, Paúl Hernández\, Luna Aguado\, José Ramón Arriaga\, Trajano del Palacio y Miguel Barón.\nEdad recomendada: Todos los públicos.\nDuración: 120 minutos.\nAutor: Moliére.\nSinopsis: En ausencia de sus padres\, que se hallan de viaje\, Octavio se ha casado en secreto con la joven Jacinta. Y Leandro\, perdidamente enamorado\, se ha prometido con una gitana egipcia que se encuentra de paso en Nápoles. Lamentablemente para los amantes sus padres Arganta y Geronte\, están de regreso y vienen dispuestos a imponer a sus hijos unos matrimonios ya concertados.\nAl final\, como siempre\, el arrebato amoroso de la juventud saldrá victorioso frente la autoridad paterna. \nEspectáculo dentro del abono. \nPrecio de las entradas individuales: Taquilla: 18 €.  Venta anticipada general: 15 €. Venta anticipada con descuento: 11 €.  (Descuento para menores de 14 años\, usuarios de carné joven\, mayores de 65 años\, y personas con discapacidad mayores del 33%). Venta de entradas anticipadas en el centro cultural La Estación. \nCon el apoyo de la Red de Teatros de la Comunidad de Madrid.
URL:https://www.sanmartindevaldeiglesias.es/evento/teatro-los-enredos-de-scapin/
LOCATION:Teatro municipal\, Calle Fuente 4\, San Martín de Valdeiglesias\, Madrid\, 28680\, España
CATEGORIES:Teatro
END:VEVENT
BEGIN:VEVENT
DTSTART;TZID=Europe/Madrid:20231022T103000
DTEND;TZID=Europe/Madrid:20231022T140000
DTSTAMP:20260419T212223
CREATED:20231018T121927Z
LAST-MODIFIED:20231018T121927Z
UID:22891-1697970600-1697983200@www.sanmartindevaldeiglesias.es
SUMMARY:Gimnasia rítmica
DESCRIPTION:Dentro del campeonato de Escuelas de la Comunidad de Madrid\, el polideportivo municipal acogerá una fase clasificatoria  en la categoría individual. \nEntrada gratuita. \n 
URL:https://www.sanmartindevaldeiglesias.es/evento/gimnasia-ritmica-2/
LOCATION:Patronato municipal de deportes\, Calle salamanca 17\, San Martín de valdeiglesias\, Madrid\, 28680\, España
CATEGORIES:Deportes
END:VEVENT
BEGIN:VEVENT
DTSTART;VALUE=DATE:20231027
DTEND;VALUE=DATE:20231030
DTSTAMP:20260419T212223
CREATED:20231023T101257Z
LAST-MODIFIED:20231023T103216Z
UID:22916-1698364800-1698623999@www.sanmartindevaldeiglesias.es
SUMMARY:Autobús Generación D
DESCRIPTION:Autobús itinerante para concienciar sobre la importancia de las competencias digitales. A través de juegos y talleres\, también está equipado con tecnología inmersiva. \nA través de juegos y talleres\, los ciudadanos de todas las edades podrán descubrir cómo les puede ayudar la tecnología en su día a día.  Es una experiencia personalizada\, que se adapta a cada usuario\, apta para todas las edades y es gratuita. \nEste autobús hará parada en San Martín los días 27\, 28 y 29 de octubre de 2023 en el aparcamiento junto a la Plaza de Toros\, en horario de 10:30 a 13:30 y de 16:30 a 20:30 h. El viernes el horario será de 16:30 a 20:30 h. \nInformación y reservas para grupos en el teléfono 900 101 493 o bien en el mail reservas@uneteageneraciond.es. \nEl autobús de la «Generación D» (Generación Digital)\,  es una iniciativa de RTVE\, financiada por la Unión Europea\,  a través de los Fondos Next Generation EU del Plan de Recuperación\, Transformación y Resiliencia.
URL:https://www.sanmartindevaldeiglesias.es/evento/autobus-generacion-d/
LOCATION:Plaza de toros
CATEGORIES:CURSOS
END:VEVENT
BEGIN:VEVENT
DTSTART;TZID=Europe/Madrid:20231031T180000
DTEND;TZID=Europe/Madrid:20231031T203000
DTSTAMP:20260419T212223
CREATED:20231030T092910Z
LAST-MODIFIED:20231030T092910Z
UID:24479-1698775200-1698784200@www.sanmartindevaldeiglesias.es
SUMMARY:Fiesta de Halloween
DESCRIPTION:El CEIP Virgen de la Nueva\, organiza una terrorífica fiesta de Halloween\, en el Castillo de la Coracera. La entrada es gratuita.
URL:https://www.sanmartindevaldeiglesias.es/evento/fiesta-de-halloween-3/
LOCATION:Castillo de la Coracera\, Calle Castillo\, San Martín de Valdeiglesias\, Madrid\, 28680\, España
CATEGORIES:Fiestas
END:VEVENT
END:VCALENDAR