BEGIN:VCALENDAR
VERSION:2.0
PRODID:-//San Martín de Valdeiglesias - ECPv6.15.20//NONSGML v1.0//EN
CALSCALE:GREGORIAN
METHOD:PUBLISH
X-ORIGINAL-URL:https://www.sanmartindevaldeiglesias.es
X-WR-CALDESC:Eventos para San Martín de Valdeiglesias
REFRESH-INTERVAL;VALUE=DURATION:PT1H
X-Robots-Tag:noindex
X-PUBLISHED-TTL:PT1H
BEGIN:VTIMEZONE
TZID:Europe/Madrid
BEGIN:DAYLIGHT
TZOFFSETFROM:+0100
TZOFFSETTO:+0200
TZNAME:CEST
DTSTART:20220327T010000
END:DAYLIGHT
BEGIN:STANDARD
TZOFFSETFROM:+0200
TZOFFSETTO:+0100
TZNAME:CET
DTSTART:20221030T010000
END:STANDARD
BEGIN:DAYLIGHT
TZOFFSETFROM:+0100
TZOFFSETTO:+0200
TZNAME:CEST
DTSTART:20230326T010000
END:DAYLIGHT
BEGIN:STANDARD
TZOFFSETFROM:+0200
TZOFFSETTO:+0100
TZNAME:CET
DTSTART:20231029T010000
END:STANDARD
BEGIN:DAYLIGHT
TZOFFSETFROM:+0100
TZOFFSETTO:+0200
TZNAME:CEST
DTSTART:20240331T010000
END:DAYLIGHT
BEGIN:STANDARD
TZOFFSETFROM:+0200
TZOFFSETTO:+0100
TZNAME:CET
DTSTART:20241027T010000
END:STANDARD
END:VTIMEZONE
BEGIN:VEVENT
DTSTART;TZID=Europe/Madrid:20231104T200000
DTEND;TZID=Europe/Madrid:20231104T213000
DTSTAMP:20260419T224724
CREATED:20231005T093501Z
LAST-MODIFIED:20231005T093501Z
UID:22820-1699128000-1699133400@www.sanmartindevaldeiglesias.es
SUMMARY:Zarzuela: La revoltosa
DESCRIPTION:Compañía: Ópera N ova Producciones.\nIntérpretes: Inés Olabarria\, Carlos Pardo\, Amanda Serna\, Rucaden Dávila\, Elsa Escobar\, Rafael Lara\, Marisol Herreros\, Rafa Cassette\, Mario Villoria\, Olivia Pablos\, Pilar Uceda\, Patricia Dominguez\, Montse Crespo\, Manolo Fernández\, Natalia Belenova.\nEdad recomendada: Mayores de 12 años.\nDuración: 75 minutos.\nAutor: Ruperto Chapí.\nDirección: Carlos Pardo.\nSinopsis: Felipe\, uno de los vecinos del patio\, presume de ser el único que resiste los encantos de Mari Pepa; sin embargo está totalmente enamorado de ella. Igualmente\, Mari Pepa siente celos cuando ve a a Felipe con dos chulapas. Ella flirtea con los hombres de la corrala y las vecinas les tenderán una trampa para darle un escarmiento. \nEspectáculo dentro del abono. \nPrecio de las entradas individuales: Taquilla: 18 €.  Venta anticipada general: 15 €. Venta anticipada con descuento: 11 €.  (Descuento para menores de 14 años\, usuarios de carné joven\, mayores de 65 años\, y personas con discapacidad mayores del 33%). Venta de entradas anticipadas en el centro cultural La Estación. \nCon el apoyo de la Red de Teatros de la Comunidad de Madrid. \n 
URL:https://www.sanmartindevaldeiglesias.es/evento/zarzuela-la-revoltosa/
LOCATION:Teatro municipal\, Calle Fuente 4\, San Martín de Valdeiglesias\, Madrid\, 28680\, España
CATEGORIES:Conciertos
END:VEVENT
BEGIN:VEVENT
DTSTART;TZID=Europe/Madrid:20231105T090000
DTEND;TZID=Europe/Madrid:20231105T150000
DTSTAMP:20260419T224724
CREATED:20231030T091945Z
LAST-MODIFIED:20231030T091945Z
UID:24476-1699174800-1699196400@www.sanmartindevaldeiglesias.es
SUMMARY:XVI SMV Bike Trasierra
DESCRIPTION:Carrera de MTB organizada por el Club MTB Valdeiglesias\,  por el club MTB Valdeiglesias.   Hay tres distancias.  Más información en mtbvaldeiglesias@yahoo.es \n 
URL:https://www.sanmartindevaldeiglesias.es/evento/xvi-smv-bike-trasierra/
LOCATION:Madrid
CATEGORIES:Deportes
END:VEVENT
BEGIN:VEVENT
DTSTART;VALUE=DATE:20231111
DTEND;VALUE=DATE:20231112
DTSTAMP:20260419T224724
CREATED:20231102T100613Z
LAST-MODIFIED:20231102T100613Z
UID:24496-1699660800-1699747199@www.sanmartindevaldeiglesias.es
SUMMARY:Festividad de San Martín de Tours
DESCRIPTION:Programa de actos para celebrar la festividad de San Martín de Tours\, patrón de la localidad. \n\n9:00 h. Misa\, por la Peña de Veteranos de Fútbol.\nA continuación\, tradicional partido de le Peña de Veteranos en el campo municipal José Rodríguez.\n9:30 h.  Diana Floreada con Gigantes y Cabezudos\, amenizada por la Unión Musical de San Martín de Valdeiglesias. Salida desde la Plaza Real.\n10:30 h. Chocolate\, a cargo de la asociación Talismán.  Plaza de la Corredera.\n11:00 h. Procesión del patrón\,  San Martín de Tours\, por las calles de la localidad.\n12:00 h. Misa.\n14:00 h. Patatas con venado\, organizado por la asociación Mujeres en Igualdad. Colabora: Club de Caza de San Martín de Valdeiglesias.  Es necesario llevar plato y cuchara. Lugar: Plaza de la Corredera.\n16:30 h. Tentadero benéfico a favor de la asociación Talismán\, que trabaja por la inserción de personas con discapacidad intelectual.  Reses de la finca Ayuso\, para los promesas del toreo\, SERGIO RODRÍGUEZ\, RAFAEL DE LA CUEVA\, ROBERTO CORDERO y «LIBRILLO». Entrada donativo: 5 €.  La compra de entradas se podrá realizar desde el lunes 6 hasta el viernes 10 de noviembre en el vivero de la asociación (avda. del Ferrocarril)\, y el día 11 en las taquillas de la plaza de toros.\n22:30 h. Tributo al Canto del Loco. Lugar: Plaza de la Corredera.\n00:00 h. Lanzamiento de una pequeña pirotecnia. Plaza de la Corredera.\n00:15 h. NIGT PARTY en la Plaza de Toros. Con la colaboración de la peña «Vamos que no vemos».  Con Christian Millán\, Mario G.\, Peri Corral. Precio de las entradas: 5 € anticipada\, 8 € en taquilla.
URL:https://www.sanmartindevaldeiglesias.es/evento/festividad-de-san-martin-de-tours/
LOCATION:Madrid
CATEGORIES:Fiestas
END:VEVENT
BEGIN:VEVENT
DTSTART;TZID=Europe/Madrid:20231115T080000
DTEND;TZID=Europe/Madrid:20231201T170000
DTSTAMP:20260419T224724
CREATED:20231116T114908Z
LAST-MODIFIED:20231116T130620Z
UID:24564-1700035200-1701450000@www.sanmartindevaldeiglesias.es
SUMMARY:Exposición: Picasso y el linograbado
DESCRIPTION:La Sala de exposiciones de La Estación acogerá esta exposición que recoge 45 linograbados de Picasso. \nEntrada libre. \nFechas: Del 15 de noviembre al 1 de diciembre de 2023.\nCentro Cultural La Estación.\nHorario: De Lunes a viernes de 10 a 15 h.  y por la tarde en el siguiente horario\, martes de 17:45 a 19:45 h. Jueves de 16:30 a 19:30 y viernes de 16 a 20 h. \nMás información:  La Estación acoge una exposición de linograbados de Picasso.
URL:https://www.sanmartindevaldeiglesias.es/evento/exposicion-picasso-y-el-linograbado/
LOCATION:Centro cultural «La Estación»\, Av. del Ferrocarril\, 14B\,\, San Martín de Valdeiglesias\, Madrid\, 28680\, España
CATEGORIES:Exposiciones
END:VEVENT
BEGIN:VEVENT
DTSTART;VALUE=DATE:20231118
DTEND;VALUE=DATE:20231120
DTSTAMP:20260419T224724
CREATED:20231114T091919Z
LAST-MODIFIED:20231115T133542Z
UID:24542-1700265600-1700438399@www.sanmartindevaldeiglesias.es
SUMMARY:XVI RUTA DE LA TAPA
DESCRIPTION:  \nXVI Ruta de la Tapa.  \nDurante los días 18 y 19 de noviembre de 2023\, varios establecimientos de hostelería se unirán para ofrecer una tapa\, elaborada para la ocasión a un precio especial de 3 €\, que incluye tapa + caña o vino o botellón. \nLos establecimientos que se han sumado a esta iniciativa son los siguientes: \n\nBioko\, cervecería (C/ Ramón y Cajal\, 24)\nCafé-Teatro (Plaza del Rucero)\nBar Muñoz  (Corredera Alta\, 7)\nRestaurante Eneldo (Avda. de Madrid\, 42)\nIris pub (Plaza de la Corredera\, 6)\nBar Las Vegas (Plaza de la Corredera\, 9)\nLa Toscana (Plaza del Rucero\, 3)\nBar Poincare (C/ Corredera Alta\, 5)\nRestaurante Valleyglesias (C/ Corredera Alta\, 28)\nBar Casa Pepe (Ctra. de Ávila\, 8)\nZacapadel Sportbar (C/ Cesteros\, 6)\nEl Rey de la Tapa (Plaza de la Corredera)\nLa Parrilla  (Plaza de la Corredera\, 25)\nBar David-Araceli (Plaza del Pilar\, 1)\nBurguer el Castillo (Plaza de Teodoro Bravo)\nBar Zipi (C/ Federico Mayo\, 4)\nHacienda La Coracera (C/ Pilar\, 11)\n\nEsta actividad está organizada por el Ayuntamiento de San Martín de Valdeiglesias junto con los establecimientos de hostelería y  la la colaboración de las empresas Serycon\, cervezas Mahou\, y construcciones Sevillano.
URL:https://www.sanmartindevaldeiglesias.es/evento/xvi-ruta-de-la-tapa/
LOCATION:Madrid
CATEGORIES:Desarrollo económico
END:VEVENT
BEGIN:VEVENT
DTSTART;TZID=Europe/Madrid:20231118T120000
DTEND;TZID=Europe/Madrid:20231118T130000
DTSTAMP:20260419T224724
CREATED:20231102T134722Z
LAST-MODIFIED:20231102T134730Z
UID:24511-1700308800-1700312400@www.sanmartindevaldeiglesias.es
SUMMARY:Animación a la lectura: Anna Kadabra
DESCRIPTION:Dentro de la campaña de fomento de la lectura «Madrid lee en Comunidad» que tiene como objetivo acercar a los niños y niñas a títulos acordes con su edad a través de actividades lúdicas\, la biblioteca municipal Miguel Hernández\, va a albergar el taller: Anna Kadabra.\nEn esta actividad\, una animadora caracterizada como la protagonista del libro de Pedro Mañas\, propondrá a los participantes diferentes juegos y actividades\, que les transformarán en verdaderos magos. \n18 de noviembre. 12 h.\nEdad recomendada: Entre 6 y 8 años.\nNº de plazas: 15.\nInscripciones: biblioteca@sanmartindevaldeiglesias.es\nPlazas limitadas.
URL:https://www.sanmartindevaldeiglesias.es/evento/animacion-a-la-lectura-anna-kadabra/
LOCATION:Biblioteca Municipal\, C/ Fuente\, 4\, San Martín de Valdeiglesias\, Madrid\, 28680\, España
CATEGORIES:Educación
END:VEVENT
BEGIN:VEVENT
DTSTART;TZID=Europe/Madrid:20231118T200000
DTEND;TZID=Europe/Madrid:20231118T213000
DTSTAMP:20260419T224724
CREATED:20231005T093723Z
LAST-MODIFIED:20231005T093723Z
UID:22822-1700337600-1700343000@www.sanmartindevaldeiglesias.es
SUMMARY:Teatro: La Celestina
DESCRIPTION:Compañía:  Secuencia 3 Artes y Comunicación S.L.\nIntérpretes: Anabel Alonso\, José Saiz\, Víctor Sainz\, Claudia Taboada\, Beatriz Grimaldos\, David Huertas.\nEdad recomendada: Adultos.\nDuración: 110 minutos.\nAutoría: Fernando de Rojas.\nDirección: Antonio Castro Guijosa.\nSinopsis: Calisto\, un joven noble apuesto\, penetra en la huerta donde se halla a Melibea\, de quien queda profundamente enamorado.Ante el rechazo de ésta y aconsejado por su criado Sempronio\, decide encomendar su cuidado a Celestina\, para lograr por medio de ella el amor de Melibea. La alcahueta consigue mediante artimañas que Melibea se enamore de Calisto.Los criados de éste intentan explotar un beneficio propio a la pasión de su amo: que había prometido una cadena de oro a Celestina si le ayudaba a rendir la voluntad de Melibea. Cuando esto sucede\, los criados reclaman su parte y ante la negativa de Celestina\, la matan. Son apresados y ejecutados por la justicia. \nEn el último encuentro de Calisto y Melibea\, el joven mancebo al saltar la tapia del huerto de Melibea para socorrer a su criado Sosia cae y muere. Lo que lleva al suicidio de Melibea ante la mirada compungida de su padre Pleberio\, quien finaliza la tragicomedia con unas reflexiones morales y existencialistas. \nEspectáculo dentro del abono. \nPrecio de las entradas individuales: Taquilla: 18 €.  Venta anticipada general: 15 €. Venta anticipada con descuento: 11 €.  (Descuento para menores de 14 años\, usuarios de carné joven\, mayores de 65 años\, y personas con discapacidad mayores del 33%). Venta de entradas anticipadas en el centro cultural La Estación. \nCon el apoyo de la Red de Teatros de la Comunidad de Madrid.
URL:https://www.sanmartindevaldeiglesias.es/evento/teatro-la-celestina/
LOCATION:Teatro municipal\, Calle Fuente 4\, San Martín de Valdeiglesias\, Madrid\, 28680\, España
CATEGORIES:Teatro
END:VEVENT
BEGIN:VEVENT
DTSTART;TZID=Europe/Madrid:20231125T173000
DTEND;TZID=Europe/Madrid:20231125T193000
DTSTAMP:20260419T224724
CREATED:20231121T121802Z
LAST-MODIFIED:20231121T121802Z
UID:24595-1700933400-1700940600@www.sanmartindevaldeiglesias.es
SUMMARY:Marcha contra Violencia de Género
DESCRIPTION:El sábado 25 de noviembre\, Día Internacional para Eliminar la Violencia contra la Mujer\, el Ayuntamiento de San Martín de Valdeiglesias\, organiza una «Marcha contra la violencia e Género». \nSalida a las 17:30 h. desde la Plaza de la Corredera hasta llegar a la Plaza Real\, donde se leerá un manifiesto.
URL:https://www.sanmartindevaldeiglesias.es/evento/marcha-contra-violencia-de-genero/
LOCATION:Madrid
CATEGORIES:Violencia de género
END:VEVENT
BEGIN:VEVENT
DTSTART;TZID=Europe/Madrid:20231125T183000
DTEND;TZID=Europe/Madrid:20231125T203000
DTSTAMP:20260419T224724
CREATED:20231122T110836Z
LAST-MODIFIED:20231122T110836Z
UID:24598-1700937000-1700944200@www.sanmartindevaldeiglesias.es
SUMMARY:Concierto de Santa Cecilia
DESCRIPTION:Concierto de Santa Cecilia por la Unión Musical de San Martín de Valdeiglesias.  Repertorio de música tradicional española.  Organiza Unión Musical de San Martín de Valdeiglesias. Colabora Ayuntamiento de San Martín de Valdeiglesias y Federación Regional de Sociedades Musicales de la Comunidad de Madrid.
URL:https://www.sanmartindevaldeiglesias.es/evento/concierto-de-santa-cecilia/
LOCATION:Teatro municipal\, Calle Fuente 4\, San Martín de Valdeiglesias\, Madrid\, 28680\, España
CATEGORIES:Conciertos
END:VEVENT
BEGIN:VEVENT
DTSTART;TZID=Europe/Madrid:20231129T180000
DTEND;TZID=Europe/Madrid:20231129T210000
DTSTAMP:20260419T224724
CREATED:20231124T135936Z
LAST-MODIFIED:20231124T135936Z
UID:24615-1701280800-1701291600@www.sanmartindevaldeiglesias.es
SUMMARY:Pleno ordinario
DESCRIPTION:Convocatoria ordinaria del pleno del Ayuntamiento de San Martín de Valdeiglesias \n1º convocatoria: 29 de noviembre de 2023\, a las 18 h. \n2º convocatoria: 1 de diciembre de 2023\, a las 18 h.  \nLugar: Salón de plenos del Ayuntamiento. \nORDEN DEL DÍA:  \nA) PARTE RESOLUTIVA:  \n1.- Resolución del acta de la sesión anterior- 27 de septiembre de 2023. \n2.- Expediente 9283/2023. Designación de días de fiesta local para 2024. \n3.- Expediente 5585/2020. Planificación y ordenación del personal. Aprobación de la Relación de Puestos de Trabajo del Ayuntamiento de San Martín de Valdeiglesias. \n4.- Expediente 9001/2023. Organismos dependientes. Aprobación inicial de la disolución del Organismo Autónomo Local (Patronato Municipal de Deportes). \n5.- Expediente 10378/2023. Elaboración y aprobación del presupuesto. Aprobación inicial del Presupuesto General del Ayuntamiento de San Martín de Valdeiglesias. Ejercicio 2024. \n6.- Expediente 358/2023. Disposiciones normativas. Aprobación definitiva de la ORDENANZA MUNICIPAL REGULADORA DE LA CONVIVENCIA CIUDADANA. \n7.- Expediente 11059/2023. Aprobación provisional de la derogación de la ordenanza número 22 de la tasa por uso de instalaciones polideportivas municipales. \n8.- Expediente 8971/2023. Reconocimiento de la compatibilidad de Esmeralda Pradana Pérez. \n9.- Expediente 8969/2023. Reconocimiento de la compatibilidad de Mónica de Francisco Alonso. \n10.- Expediente 11003/2023. Moción del Grupo Municipal del Partido Popular en defensa de la Constitución Española\, la igualdad de los españoles y el respecto al Estado de Derecho y la democracia. \n11.- Dación de cuentas. Expediente 10033/2023. Informes trimestrales morosidad tercer trimestre 2023. \nB) ACTIVIDAD DE CONTROL \n12.- Dación  de cuentas de Decretos 2023-1617 a 2023-2524- 1ª parte. \n13.- Dación de cuentas de Decretos 2023-1617 a 2023-2524- 2ª parte. \nC) RUEGOS Y PREGUNTAS \n14.- Ruegos y preguntas y otros asuntos análogos.
URL:https://www.sanmartindevaldeiglesias.es/evento/pleno-ordinario-43/
LOCATION:Ayuntamiento
CATEGORIES:Pleno
END:VEVENT
END:VCALENDAR