BEGIN:VCALENDAR
VERSION:2.0
PRODID:-//San Martín de Valdeiglesias - ECPv6.15.20//NONSGML v1.0//EN
CALSCALE:GREGORIAN
METHOD:PUBLISH
X-WR-CALNAME:San Martín de Valdeiglesias
X-ORIGINAL-URL:https://www.sanmartindevaldeiglesias.es
X-WR-CALDESC:Eventos para San Martín de Valdeiglesias
REFRESH-INTERVAL;VALUE=DURATION:PT1H
X-Robots-Tag:noindex
X-PUBLISHED-TTL:PT1H
BEGIN:VTIMEZONE
TZID:Europe/Madrid
BEGIN:DAYLIGHT
TZOFFSETFROM:+0100
TZOFFSETTO:+0200
TZNAME:CEST
DTSTART:20220327T010000
END:DAYLIGHT
BEGIN:STANDARD
TZOFFSETFROM:+0200
TZOFFSETTO:+0100
TZNAME:CET
DTSTART:20221030T010000
END:STANDARD
BEGIN:DAYLIGHT
TZOFFSETFROM:+0100
TZOFFSETTO:+0200
TZNAME:CEST
DTSTART:20230326T010000
END:DAYLIGHT
BEGIN:STANDARD
TZOFFSETFROM:+0200
TZOFFSETTO:+0100
TZNAME:CET
DTSTART:20231029T010000
END:STANDARD
BEGIN:DAYLIGHT
TZOFFSETFROM:+0100
TZOFFSETTO:+0200
TZNAME:CEST
DTSTART:20240331T010000
END:DAYLIGHT
BEGIN:STANDARD
TZOFFSETFROM:+0200
TZOFFSETTO:+0100
TZNAME:CET
DTSTART:20241027T010000
END:STANDARD
BEGIN:DAYLIGHT
TZOFFSETFROM:+0100
TZOFFSETTO:+0200
TZNAME:CEST
DTSTART:20250330T010000
END:DAYLIGHT
BEGIN:STANDARD
TZOFFSETFROM:+0200
TZOFFSETTO:+0100
TZNAME:CET
DTSTART:20251026T010000
END:STANDARD
END:VTIMEZONE
BEGIN:VEVENT
DTSTART;TZID=Europe/Madrid:20231115T080000
DTEND;TZID=Europe/Madrid:20231201T170000
DTSTAMP:20260420T001203
CREATED:20231116T114908Z
LAST-MODIFIED:20231116T130620Z
UID:24564-1700035200-1701450000@www.sanmartindevaldeiglesias.es
SUMMARY:Exposición: Picasso y el linograbado
DESCRIPTION:La Sala de exposiciones de La Estación acogerá esta exposición que recoge 45 linograbados de Picasso. \nEntrada libre. \nFechas: Del 15 de noviembre al 1 de diciembre de 2023.\nCentro Cultural La Estación.\nHorario: De Lunes a viernes de 10 a 15 h.  y por la tarde en el siguiente horario\, martes de 17:45 a 19:45 h. Jueves de 16:30 a 19:30 y viernes de 16 a 20 h. \nMás información:  La Estación acoge una exposición de linograbados de Picasso.
URL:https://www.sanmartindevaldeiglesias.es/evento/exposicion-picasso-y-el-linograbado/
LOCATION:Centro cultural «La Estación»\, Av. del Ferrocarril\, 14B\,\, San Martín de Valdeiglesias\, Madrid\, 28680\, España
CATEGORIES:Exposiciones
END:VEVENT
BEGIN:VEVENT
DTSTART;TZID=Europe/Madrid:20231202T100000
DTEND;TZID=Europe/Madrid:20231202T140000
DTSTAMP:20260420T001203
CREATED:20231122T134820Z
LAST-MODIFIED:20231122T134820Z
UID:24611-1701511200-1701525600@www.sanmartindevaldeiglesias.es
SUMMARY:Torneo palas solidarias
DESCRIPTION:
URL:https://www.sanmartindevaldeiglesias.es/evento/torneo-palas-solidarias/
LOCATION:Patronato municipal de deportes\, Calle salamanca 17\, San Martín de valdeiglesias\, Madrid\, 28680\, España
CATEGORIES:Deportes
END:VEVENT
BEGIN:VEVENT
DTSTART;TZID=Europe/Madrid:20231202T113000
DTEND;TZID=Europe/Madrid:20231202T123000
DTSTAMP:20260420T001203
CREATED:20231122T124642Z
LAST-MODIFIED:20231122T124642Z
UID:24601-1701516600-1701520200@www.sanmartindevaldeiglesias.es
SUMMARY:Baile solidario
DESCRIPTION:Clase magistral de bachata. el sábado\, 2 de diciembre de 2023\, de 11:30 a 12 h. en el pabellón municipal de deportes. \nDonativo: adultos 2 € – infantil: 5 €. Los donativos se destinarán a la campaña solidaria para que ningún niño se quede sin juguetes estas Navidades. \nEntre los participantes se sortearán los siguientes premios: 2 vales de 2 cenas en el Café Teatro; 1 vale de 2 raciones para el bar Zipi; 4 entradas para el Bosque Encantado; 4 bonos por 1 clase gratuita para el Café-Teatro.
URL:https://www.sanmartindevaldeiglesias.es/evento/baile-solidario/
LOCATION:Madrid
CATEGORIES:Bienestar social
END:VEVENT
BEGIN:VEVENT
DTSTART;TZID=Europe/Madrid:20231202T180000
DTEND;TZID=Europe/Madrid:20231202T200000
DTSTAMP:20260420T001203
CREATED:20231122T134959Z
LAST-MODIFIED:20231122T134959Z
UID:24613-1701540000-1701547200@www.sanmartindevaldeiglesias.es
SUMMARY:Brazadas solidarias
DESCRIPTION:
URL:https://www.sanmartindevaldeiglesias.es/evento/brazadas-solidarias/
LOCATION:Piscina Climatizada\, C/ Salamanca\, 17\, San Martín de Valdeiglesias\, Comunidad de Madrid\, 28680\, España
CATEGORIES:Deportes
END:VEVENT
BEGIN:VEVENT
DTSTART;TZID=Europe/Madrid:20231202T200000
DTEND;TZID=Europe/Madrid:20231202T213000
DTSTAMP:20260420T001203
CREATED:20231005T093945Z
LAST-MODIFIED:20231005T093945Z
UID:22824-1701547200-1701552600@www.sanmartindevaldeiglesias.es
SUMMARY:Concierto: Luces\, Cámara\, Acción!
DESCRIPTION:Compañía: Strad\, el violinista rebelde.\nIntérpretes:  Jorge Guillén Strad (violín)\, Tania Bernáez Abad (bajo y contrabajo)\, Vicente Hervás (batería y percusión)\, Diego Tarango (batería y percusión)\, Joaquín Alguacil (guitarras).\nEdad recomendada: Todos los públicos.\nDuración: 80 min.\nAutoría: Jorge Guillén.\nSinopsis: Es el espectáculo más divertido de Strad. Una aventura emocionante con el que disfrutar de las más fascinantes bandas sonoras. Este show nace con la pretensión de acercar la música\, a través de un hilo conductor tan especial como la música de cine. Todo ello fusionado con el humor y la arrolladora puesta en escena característica de Strad «El violinista Rebelde». \nEspectáculo dentro del abono. \nPrecio de las entradas individuales: Taquilla: 18 €.  Venta anticipada general: 15 €. Venta anticipada con descuento: 11 €.  (Descuento para menores de 14 años\, usuarios de carné joven\, mayores de 65 años\, y personas con discapacidad mayores del 33%). Venta de entradas anticipadas en el centro cultural La Estación. \nCon el apoyo de la Red de Teatros de la Comunidad de Madrid.
URL:https://www.sanmartindevaldeiglesias.es/evento/concierto-luces-camara-accion/
LOCATION:Teatro municipal\, Calle Fuente 4\, San Martín de Valdeiglesias\, Madrid\, 28680\, España
CATEGORIES:Conciertos
END:VEVENT
BEGIN:VEVENT
DTSTART;TZID=Europe/Madrid:20231206T110000
DTEND;TZID=Europe/Madrid:20231206T123000
DTSTAMP:20260420T001203
CREATED:20231201T123655Z
LAST-MODIFIED:20231201T123655Z
UID:24642-1701860400-1701865800@www.sanmartindevaldeiglesias.es
SUMMARY:Celebración aprobación Constitución
DESCRIPTION:  \nActo conmemorativo del 45 aniversario de la Constitución Española.\nEl Ayuntamiento entregará un ejemplar de nuestra Carga Magna a todos los asistentes.
URL:https://www.sanmartindevaldeiglesias.es/evento/celebracion-aprobacion-constitucion/
LOCATION:Ayuntamiento
CATEGORIES:Servicios a la ciudadanía
END:VEVENT
BEGIN:VEVENT
DTSTART;TZID=Europe/Madrid:20231214T110000
DTEND;TZID=Europe/Madrid:20231214T130000
DTSTAMP:20260420T001203
CREATED:20231211T121938Z
LAST-MODIFIED:20231211T122253Z
UID:24659-1702551600-1702558800@www.sanmartindevaldeiglesias.es
SUMMARY:Taller: Técnicas de narración de cuentos
DESCRIPTION:Taller de técnicas de «Narración de Cuentos.\n14 de diciembre de 11 a 13 h.\nBiblioteca Pública Miguel Hernández.  Biblioteca@sanmartindevaldeiglesias.es
URL:https://www.sanmartindevaldeiglesias.es/evento/taller-tecnicas-de-narracion-de-cuentos/
LOCATION:Biblioteca Municipal\, C/ Fuente\, 4\, San Martín de Valdeiglesias\, Madrid\, 28680\, España
CATEGORIES:CURSOS
END:VEVENT
BEGIN:VEVENT
DTSTART;TZID=Europe/Madrid:20231215T200000
DTEND;TZID=Europe/Madrid:20231215T213000
DTSTAMP:20260420T001203
CREATED:20231214T120847Z
LAST-MODIFIED:20231214T120847Z
UID:24700-1702670400-1702675800@www.sanmartindevaldeiglesias.es
SUMMARY:Concierto de Navidad
DESCRIPTION:A cargo de los alumnos de la Escuela Municipal de Música Maestro Joaquín Rodrigo. Aforo limitado.  Entrada gratuita.
URL:https://www.sanmartindevaldeiglesias.es/evento/concierto-de-navidad-4/
LOCATION:Teatro municipal\, Calle Fuente 4\, San Martín de Valdeiglesias\, Madrid\, 28680\, España
CATEGORIES:Conciertos
END:VEVENT
BEGIN:VEVENT
DTSTART;TZID=Europe/Madrid:20231216T110000
DTEND;TZID=Europe/Madrid:20231216T130000
DTSTAMP:20260420T001203
CREATED:20231213T101540Z
LAST-MODIFIED:20231213T101540Z
UID:24677-1702724400-1702731600@www.sanmartindevaldeiglesias.es
SUMMARY:Ruta Mtb solidaria
DESCRIPTION:Ruta Solidaria: «Juguetes para todos».  Dona un juguete para los niños más necesitados y participa en la ruta. \nSábado 16 de diciembre. 11 horas. Salida desde la Plaza del Ayuntamiento.
URL:https://www.sanmartindevaldeiglesias.es/evento/ruta-mtb-solidaria/
LOCATION:Ayuntamiento
CATEGORIES:Deportes
END:VEVENT
BEGIN:VEVENT
DTSTART;TZID=Europe/Madrid:20231216T200000
DTEND;TZID=Europe/Madrid:20231216T213000
DTSTAMP:20260420T001203
CREATED:20231214T123842Z
LAST-MODIFIED:20231214T123842Z
UID:24708-1702756800-1702762200@www.sanmartindevaldeiglesias.es
SUMMARY:Musical: A quién le importa
DESCRIPTION:Musical: ¡A quién le importa! Comedia musical de los años 80 y 90 \nVenta de entradas en el Centro Cultural La Estación \n 
URL:https://www.sanmartindevaldeiglesias.es/evento/musical-a-quien-le-importa/
LOCATION:Teatro municipal\, Calle Fuente 4\, San Martín de Valdeiglesias\, Madrid\, 28680\, España
CATEGORIES:Música
END:VEVENT
BEGIN:VEVENT
DTSTART;VALUE=DATE:20231218
DTEND;VALUE=DATE:20231220
DTSTAMP:20260420T001203
CREATED:20231128T121531Z
LAST-MODIFIED:20231128T121551Z
UID:24625-1702857600-1703030399@www.sanmartindevaldeiglesias.es
SUMMARY:ITV tractores
DESCRIPTION:
URL:https://www.sanmartindevaldeiglesias.es/evento/itv-tractores/
LOCATION:Madrid
CATEGORIES:Servicios a la ciudadanía
END:VEVENT
BEGIN:VEVENT
DTSTART;TZID=Europe/Madrid:20231218T180000
DTEND;TZID=Europe/Madrid:20231218T193000
DTSTAMP:20260420T001203
CREATED:20231212T094824Z
LAST-MODIFIED:20231212T094824Z
UID:24673-1702922400-1702927800@www.sanmartindevaldeiglesias.es
SUMMARY:Taller: tarjetas de Navidad
DESCRIPTION:Felicita la Navidad. Disfruta confeccionando y escribiendo bonitas postales navideñas. \nInscripciones presencialmente en la biblioteca o por mail: biblioteca@sanmartindevaldeiglesias.es \n18 de diciembre. 18 h. Para todos los públicos. Gratuito.
URL:https://www.sanmartindevaldeiglesias.es/evento/taller-tarjetas-de-navidad/
LOCATION:Biblioteca Municipal\, C/ Fuente\, 4\, San Martín de Valdeiglesias\, Madrid\, 28680\, España
END:VEVENT
BEGIN:VEVENT
DTSTART;TZID=Europe/Madrid:20231221T200000
DTEND;TZID=Europe/Madrid:20231221T213000
DTSTAMP:20260420T001203
CREATED:20231220T111114Z
LAST-MODIFIED:20231220T111114Z
UID:24753-1703188800-1703194200@www.sanmartindevaldeiglesias.es
SUMMARY:Muestra de Villancicos
DESCRIPTION:Muestra de villancicos con la participación de los siguientes grupos: \n\nAsociación Mujeres en Igualdad.\nAsociación de Mujeres Culmanarre\nAsociación Cultural Peña Flamenca.\nCoro Flamenco Los Campanilleros\nAsociación cultural Grupo de Jotas Mª de la Nueva.\nUnión musical de San Martín de Valdeiglesias.\n\nRetirada de entradas (gratuita) en la secretaría de la Escuela Municipal de Música\, en horario de tarde.
URL:https://www.sanmartindevaldeiglesias.es/evento/muestra-de-villancicos-4/
LOCATION:Teatro municipal\, Calle Fuente 4\, San Martín de Valdeiglesias\, Madrid\, 28680\, España
CATEGORIES:Conciertos
END:VEVENT
BEGIN:VEVENT
DTSTART;VALUE=DATE:20231222
DTEND;VALUE=DATE:20240105
DTSTAMP:20260420T001203
CREATED:20231128T094145Z
LAST-MODIFIED:20231222T114146Z
UID:24619-1703203200-1704412799@www.sanmartindevaldeiglesias.es
SUMMARY:Ciudad del hielo
DESCRIPTION:La Ciudad del hielo es un parque temático de actividades de ocio que estará instalado en el aparcamiento junto a la Plaza de Toros\, hasta el 4 de enero. \nHabrá cañones de nieve\, hinchables\, deslizadores\, jumping Navidad\, pista de hielo\, espectáculos\, circuito de renos…   Para disfrutar de las actividades de forma gratuita\, es necesario conseguit actipuntos\, que se logran con los ticket de compra de alguno de los establecimientos comerciales de la localidad adheridos en la campaña. (Ver establecimientos adheridos aquí). 
URL:https://www.sanmartindevaldeiglesias.es/evento/ciudad-del-hielo/
LOCATION:Plaza de toros
CATEGORIES:Fiestas
END:VEVENT
BEGIN:VEVENT
DTSTART;TZID=Europe/Madrid:20231223T120000
DTEND;TZID=Europe/Madrid:20231223T133000
DTSTAMP:20260420T001203
CREATED:20231222T114649Z
LAST-MODIFIED:20231222T114649Z
UID:24765-1703332800-1703338200@www.sanmartindevaldeiglesias.es
SUMMARY:Chapas por juguetes
DESCRIPTION:Torneo solidario de Chapas.  Para participar es necesario aportar un juguete nuevo. \n 
URL:https://www.sanmartindevaldeiglesias.es/evento/chapas-por-juguetes/
LOCATION:Plaza del Rucero\, Plaza del Rucero\, San Martín de Valdeiglesias\, Madrid\, 28680\, España
CATEGORIES:Bienestar social,Deportes
END:VEVENT
BEGIN:VEVENT
DTSTART;TZID=Europe/Madrid:20231224T080000
DTEND;TZID=Europe/Madrid:20231224T140000
DTSTAMP:20260420T001203
CREATED:20231214T121325Z
LAST-MODIFIED:20231214T121325Z
UID:24703-1703404800-1703426400@www.sanmartindevaldeiglesias.es
SUMMARY:Torneo de futsal
DESCRIPTION:Torneo de Futsal benéfico para 4º de la ESO. \nInscripciones hasta el 19 de diciembre.  Inscripción: 20 € por equipo.\nCategoría cadete.\nMáximo 8 equipos.\nInscripciones: 699843305. \n 
URL:https://www.sanmartindevaldeiglesias.es/evento/torneo-de-futsal/
LOCATION:Madrid
CATEGORIES:Deportes
END:VEVENT
BEGIN:VEVENT
DTSTART;TZID=Europe/Madrid:20231229T173000
DTEND;TZID=Europe/Madrid:20231229T190000
DTSTAMP:20260420T001203
CREATED:20231214T124127Z
LAST-MODIFIED:20231222T123445Z
UID:24711-1703871000-1703876400@www.sanmartindevaldeiglesias.es
SUMMARY:Musical: Los sueños de Elsa
DESCRIPTION:Los sueños de Elsa. Tributo a Frozen.\nPúblico infantil y familiar.\nVenta anticipada de entradas en el Centro Cultural La Estación.\nAnticipada general: 12 € – Infantil: 10 € (De 2 a 11 años).\nEntradas en taquilla: 15 €.
URL:https://www.sanmartindevaldeiglesias.es/evento/musical-los-suenos-de-elsa/
LOCATION:Teatro municipal\, Calle Fuente 4\, San Martín de Valdeiglesias\, Madrid\, 28680\, España
CATEGORIES:Conciertos
END:VEVENT
END:VCALENDAR