BEGIN:VCALENDAR
VERSION:2.0
PRODID:-//San Martín de Valdeiglesias - ECPv6.15.20//NONSGML v1.0//EN
CALSCALE:GREGORIAN
METHOD:PUBLISH
X-WR-CALNAME:San Martín de Valdeiglesias
X-ORIGINAL-URL:https://www.sanmartindevaldeiglesias.es
X-WR-CALDESC:Eventos para San Martín de Valdeiglesias
REFRESH-INTERVAL;VALUE=DURATION:PT1H
X-Robots-Tag:noindex
X-PUBLISHED-TTL:PT1H
BEGIN:VTIMEZONE
TZID:Europe/Madrid
BEGIN:DAYLIGHT
TZOFFSETFROM:+0100
TZOFFSETTO:+0200
TZNAME:CEST
DTSTART:20230326T010000
END:DAYLIGHT
BEGIN:STANDARD
TZOFFSETFROM:+0200
TZOFFSETTO:+0100
TZNAME:CET
DTSTART:20231029T010000
END:STANDARD
BEGIN:DAYLIGHT
TZOFFSETFROM:+0100
TZOFFSETTO:+0200
TZNAME:CEST
DTSTART:20240331T010000
END:DAYLIGHT
BEGIN:STANDARD
TZOFFSETFROM:+0200
TZOFFSETTO:+0100
TZNAME:CET
DTSTART:20241027T010000
END:STANDARD
BEGIN:DAYLIGHT
TZOFFSETFROM:+0100
TZOFFSETTO:+0200
TZNAME:CEST
DTSTART:20250330T010000
END:DAYLIGHT
BEGIN:STANDARD
TZOFFSETFROM:+0200
TZOFFSETTO:+0100
TZNAME:CET
DTSTART:20251026T010000
END:STANDARD
END:VTIMEZONE
BEGIN:VEVENT
DTSTART;VALUE=DATE:20240301
DTEND;VALUE=DATE:20240321
DTSTAMP:20260420T043635
CREATED:20240227T122648Z
LAST-MODIFIED:20240229T112013Z
UID:25179-1709251200-1710979199@www.sanmartindevaldeiglesias.es
SUMMARY:Exposición: Tomando conciencia
DESCRIPTION:Del 1 al 20 de marzo 2024.\nInauguración: 1 de marzo a las 12 h.\nCentro Cultural La Estación\nHorario de mañana: De lunes a viernes de 10 a 15 h. y de 17 a 19 h. los jueves.\nPara visitas guiadas\, inscribirse en el teléfono 695 94 34 50.\nOrganiza: Fundación Buen Samaritano\nCon la colaboración de Asociación Talismán y Ayuntamiento de San Martín de Valdeiglesias.
URL:https://www.sanmartindevaldeiglesias.es/evento/exposicion-tomando-conciencia/
LOCATION:Centro cultural «La Estación»\, Av. del Ferrocarril\, 14B\,\, San Martín de Valdeiglesias\, Madrid\, 28680\, España
CATEGORIES:Exposiciones
END:VEVENT
BEGIN:VEVENT
DTSTART;TZID=Europe/Madrid:20240301T170000
DTEND;TZID=Europe/Madrid:20240303T190000
DTSTAMP:20260420T043635
CREATED:20240228T122949Z
LAST-MODIFIED:20240228T122949Z
UID:25182-1709312400-1709492400@www.sanmartindevaldeiglesias.es
SUMMARY:Torneo de mus femenino
DESCRIPTION:Torneo de Mus Femenino\, por parejas\, con motivo de la Semana de la Mujer. \nFechas: 1\, 2 y 3 de marzo de 2024.  17:00  h.\nLugar: Zaca Pádel (C/Cesteros\, 6).\nInscripciones: 91 819 44 38.\nPremios para las tres primeras parejas (Primera\, Segunda y Tercera).
URL:https://www.sanmartindevaldeiglesias.es/evento/torneo-de-mus-femenino/
LOCATION:Zaca Pádel\, C/ Cesteros\, 6\, San Martín de Valdeiglesias\, Madrid\, 28680\, España
CATEGORIES:Igualdad
END:VEVENT
BEGIN:VEVENT
DTSTART;VALUE=DATE:20240302
DTEND;VALUE=DATE:20240304
DTSTAMP:20260420T043635
CREATED:20240212T125135Z
LAST-MODIFIED:20240221T112334Z
UID:25067-1709337600-1709510399@www.sanmartindevaldeiglesias.es
SUMMARY:I Ruta de la Cuchara
DESCRIPTION:I Ruta de la cuchara de San Martín de Valdeiglesias. \n2 y 3 de marzo de 2024.\nVino + plato de cuchara: 3 €\n¡Participa en nuestro concurso! Sube tu foto a Facebook con el local y tu plato favorito\, etiqueta al Ayuntamiento y gana una cena para dos personas.\n¡Suerte! \nEstablecimientos participantes:  \n\n\n\n\nZaca Padel Sportsbar\n\n\n\nValleyglesias\n\n\n\nBurger el Castillo\n\n\n\n\nC/ Cesteros\, 6\nGoogle Maps\nInstagram \n\n\nC/ Corredera Alta\, 28\nWeb: Valleyglesias.com\nGoogle Maps\nFacebook\nTrypadvisor\nInstagram \n\n\nPlaza de Teodoro Bravo\nGoogle Maps \n\n\n\n\nBar Iris\n\n\nBar La Vegas\n\n\nPoincare\n\n\n\nPlaza de la Corredera 6\nGoogle Maps\nPlaza de la Corredera\, 9\nGoogle Maps\nC/ Corredera Alta\, 5\nGoogle Maps\n\n\n\nBar Muñoz\n\n\nZipi Bar\n\n\nLa Parrilla\n\n\n\nC/ Corredera Alta\, 7\nGoogle Maps\nC/ Federico Mayo\, 4\nGoogle Maps\nPlaza de la Corredera\, 25\nGoogle Maps\nWeb: barlaparrilla.com\n\n\n\nEl Rey de la Tapa\n\n\nCervercería Bioko\n\n\n\n\nPlaza de la Corredera\, 27\nGoogle Maps\nC/ Corredera Baja\,\nWeb: biokocerveceria.es\nFacebook \nInstagram
URL:https://www.sanmartindevaldeiglesias.es/evento/i-ruta-de-la-cuchara/
LOCATION:Madrid
CATEGORIES:Desarrollo económico
END:VEVENT
BEGIN:VEVENT
DTSTART;TZID=Europe/Madrid:20240302T190000
DTEND;TZID=Europe/Madrid:20240302T210000
DTSTAMP:20260420T043635
CREATED:20240226T103705Z
LAST-MODIFIED:20240226T103705Z
UID:25161-1709406000-1709413200@www.sanmartindevaldeiglesias.es
SUMMARY:V Gala Pinche
DESCRIPTION:Evento que reconoce el trabajo realizado por personas\, instituciones y asociaciones en favor del municipio.\nTambién se entregarán los premios a los tres establecimientos ganadores de la Ruta de la Tapa\, realizada el pasado mes de noviembre: Restaurante Eneldo\, La Coracera y Casa Pepe. Y se realizará el sorteo entre las personas que participaron en la ruta gastronómica.\nSábado 2 de marzo\, 2024.  Teatro municipal.  19 h. Entrada gratuita hasta completar aforo.
URL:https://www.sanmartindevaldeiglesias.es/evento/v-gala-pinche/
LOCATION:Teatro municipal\, Calle Fuente 4\, San Martín de Valdeiglesias\, Madrid\, 28680\, España
CATEGORIES:Fiestas
END:VEVENT
BEGIN:VEVENT
DTSTART;TZID=Europe/Madrid:20240304T100000
DTEND;TZID=Europe/Madrid:20240304T103000
DTSTAMP:20260420T043635
CREATED:20240304T084810Z
LAST-MODIFIED:20240304T091156Z
UID:25204-1709546400-1709548200@www.sanmartindevaldeiglesias.es
SUMMARY:Pleno extraordinario
DESCRIPTION:El AYUNTAMIENTO  DE SAN MARTÍN DE VALDEIGLESIAS\, convoca pleno\, con las siguientes características:  \n\nConvocatoria extraordinaria a solicitud del Grupo Municipal del Partido Socialista Obrero Español.\nFecha y hora:\n\n1º convocatoria: 4 de marzo de 2024\, a las 10 h.\n2ª convocatoria. 6 de marzo de 2024\, a las 10 h.\n\n\nLugar: Salón de Plenos.\nNo admite participación a distancia.\n\nASUNTOS DE LA CONVOCATORIA: \nPARTE RESOLUTIVA: \n\nExpte. 2459/2024. Solicitud de Pleno Extraordinario Grupo Municipal del PSOE. Homenaje a la Asociación Culmanarre.\n\nACTIVIDAD DE CONTROL: \nNo hay asuntos. \nRUEGOS Y PREGUNTAS: \nNo hay asuntos \nDescargar convocatoria en pdf (550 Kb)
URL:https://www.sanmartindevaldeiglesias.es/evento/pleno-ext-202403/
LOCATION:Ayuntamiento
CATEGORIES:Pleno
END:VEVENT
BEGIN:VEVENT
DTSTART;TZID=Europe/Madrid:20240305T100000
DTEND;TZID=Europe/Madrid:20240305T130000
DTSTAMP:20260420T043635
CREATED:20240221T092634Z
LAST-MODIFIED:20240221T092752Z
UID:25117-1709632800-1709643600@www.sanmartindevaldeiglesias.es
SUMMARY:Sesión informativa: portal de empleo CM
DESCRIPTION:Técnicos de la Oficina de Empleo de Alcorcón II\, se desplazarán el día 5 de marzo al municipio\,  para mostrarles cómo funciona la Oficina Virtual de Empleo de la Comunidad de Madrid. Además se podrán actualizar los datos y se les proporcionará la contraseña de acceso\, en caso de necesitarlo. \nLos técnicos de empleo estarán disponibles desde las 10 de la mañana\, hasta las 13 h.  en el centro Los Lavaderos.
URL:https://www.sanmartindevaldeiglesias.es/evento/sesion-informativa-portal-de-empleo-cm/
LOCATION:Centro «Los Lavaderos»\, Plaza de Teodoro Bravo\, 15\, San Martín de Valdeiglesias\, Madrid\, 28680\, España
CATEGORIES:Desarrollo económico
END:VEVENT
BEGIN:VEVENT
DTSTART;TZID=Europe/Madrid:20240305T180000
DTEND;TZID=Europe/Madrid:20240305T190000
DTSTAMP:20260420T043635
CREATED:20240226T104219Z
LAST-MODIFIED:20240226T104219Z
UID:25163-1709661600-1709665200@www.sanmartindevaldeiglesias.es
SUMMARY:Baile: Bachata Lady Style
DESCRIPTION:Actividad dentro de la Semana de la Mujer. \nBachata Lady Style.  (Taller de baile).\n5 de marzo. 18h.  Escuela Municipal de Música y Danza «Maestro Joaquín Rodrigo».\nEntrada gratuita. \nVer el programa completo de actividades Semana de la Mujer 2024
URL:https://www.sanmartindevaldeiglesias.es/evento/baile-bachata-lady-style/
LOCATION:Escuela Municipal de Música y Danza «Maestro Joaquín Rodrigo»\, General Martinez Benito 4\, San Martín de Valdeiglesias\, Madrid\, 28680\, España
CATEGORIES:Igualdad
END:VEVENT
BEGIN:VEVENT
DTSTART;VALUE=DATE:20240306
DTEND;VALUE=DATE:20240307
DTSTAMP:20260420T043635
CREATED:20240226T104528Z
LAST-MODIFIED:20240226T104528Z
UID:25165-1709683200-1709769599@www.sanmartindevaldeiglesias.es
SUMMARY:Escapada a Chinchón
DESCRIPTION:Excursión organizada por Viajes Arribas\, dentro de las actividades de la Semana de la Mujer.\nPrecio: 55 € por persona.  Incluye comida (cocido madrileño).\nInformación e inscripciones en la Agencia de Viajes. \nver programa completo de actividades Semana de la Mujer 2024.
URL:https://www.sanmartindevaldeiglesias.es/evento/escapada-a-chinchon/
LOCATION:Madrid
CATEGORIES:Igualdad
END:VEVENT
BEGIN:VEVENT
DTSTART;TZID=Europe/Madrid:20240307T110000
DTEND;TZID=Europe/Madrid:20240307T120000
DTSTAMP:20260420T043635
CREATED:20240226T104756Z
LAST-MODIFIED:20240226T104852Z
UID:25167-1709809200-1709812800@www.sanmartindevaldeiglesias.es
SUMMARY:Sevillanas flamencas
DESCRIPTION:Taller de baile: Sevillanas flamencas\, dentro de las actividades de la Semana de la Mujer.\nJueves 7 de marzo 2024.  11 h. Escuela Municipal de Música y Danza.\nEntrada gratuita. \nVer programa de actividades completo Semana de la Mujer 2024
URL:https://www.sanmartindevaldeiglesias.es/evento/sevillanas-flamencas/
LOCATION:Escuela Municipal de Música y Danza «Maestro Joaquín Rodrigo»\, General Martinez Benito 4\, San Martín de Valdeiglesias\, Madrid\, 28680\, España
CATEGORIES:Igualdad
END:VEVENT
BEGIN:VEVENT
DTSTART;TZID=Europe/Madrid:20240308T113000
DTEND;TZID=Europe/Madrid:20240308T130000
DTSTAMP:20260420T043635
CREATED:20240226T105618Z
LAST-MODIFIED:20240308T124343Z
UID:25169-1709897400-1709902800@www.sanmartindevaldeiglesias.es
SUMMARY:Taller: Hábitos saludables\, suelo pélvico
DESCRIPTION:Taller teórico-práctico: Hábitos saludables para tu suelo pélvico.\nViernes\, 8 de marzo. De 11:30 a 13 h.\nOrganizado por Corpórea Fisioterapia y Salud.\nPlazas limitadas. Inscripciones en el teléfono 639 14 72 32. \n  \n  \nVer programa de actividades completo Semana de la Mujer 2024. \n 
URL:https://www.sanmartindevaldeiglesias.es/evento/taller-habitos-saludables-suelo-pelvico/
LOCATION:Fisioterapia y Salud\, Avda. de Madrid\, 18\, San Martín de Valdeiglesias\, Madrid\, 28680\, España
CATEGORIES:Igualdad
END:VEVENT
BEGIN:VEVENT
DTSTART;TZID=Europe/Madrid:20240309T090000
DTEND;TZID=Europe/Madrid:20240309T123000
DTSTAMP:20260420T043635
CREATED:20240226T110259Z
LAST-MODIFIED:20240226T110259Z
UID:25175-1709974800-1709987400@www.sanmartindevaldeiglesias.es
SUMMARY:Marcha mtb
DESCRIPTION:Marcha en bicicleta de montaña\, organizada con motivo de la Semana de la Mujer.\nSábado 9 de marzo 2024.  Salida desde el Castillo de la Coracera.\nOrganiza: Club MTB Valdeiglesias. \nVer programa completo de actividades Semana de la Mujer. 2024. 
URL:https://www.sanmartindevaldeiglesias.es/evento/marcha-mtb/
LOCATION:Castillo de la Coracera\, Calle Castillo\, San Martín de Valdeiglesias\, Madrid\, 28680\, España
CATEGORIES:Igualdad
END:VEVENT
BEGIN:VEVENT
DTSTART;TZID=Europe/Madrid:20240309T120000
DTEND;TZID=Europe/Madrid:20240309T133000
DTSTAMP:20260420T043635
CREATED:20240307T091634Z
LAST-MODIFIED:20240307T094739Z
UID:25233-1709985600-1709991000@www.sanmartindevaldeiglesias.es
SUMMARY:Nombramiento hijo adoptivo
DESCRIPTION:El Ayuntamiento de San Martín de Valdeiglesias\, va a realizar el acto oficial de nombramiento de Hijo Adoptivo de la Villa a título póstumo\, a . Ramón Rodríguez Arribas\, ex magistrado del Tribunal Constitucional. \nEl acto se realizará en el Teatro Municipal. C/Fuente\, 4\, a las 12 h. \nSe podrá asistir al acto\, hasta completar aforo.
URL:https://www.sanmartindevaldeiglesias.es/evento/nombramiento-hijo-adoptivo/
LOCATION:Teatro municipal\, Calle Fuente 4\, San Martín de Valdeiglesias\, Madrid\, 28680\, España
CATEGORIES:Participacion ciudadana
END:VEVENT
BEGIN:VEVENT
DTSTART;TZID=Europe/Madrid:20240309T213000
DTEND;TZID=Europe/Madrid:20240309T230000
DTSTAMP:20260420T043635
CREATED:20240216T092508Z
LAST-MODIFIED:20240226T110508Z
UID:25098-1710019800-1710025200@www.sanmartindevaldeiglesias.es
SUMMARY:Cena de la Mujer
DESCRIPTION:Cena de la Mujer 2024.\nLugar: Restaurante Eneldo.\nPrecio: 35 euros.\nRecogida de entradas en el Ayuntamiento.\nSábado 9 de marzo 2024. 21:30 h. \nVer programa completo de actividades  Semana de la Mujer 2024.
URL:https://www.sanmartindevaldeiglesias.es/evento/cena-de-la-mujer/
LOCATION:Restaurante Eneldo\, Avenida de Madrid 42\, San Martín de Valdeiglesias\, 28680\, España
CATEGORIES:Igualdad
END:VEVENT
BEGIN:VEVENT
DTSTART;TZID=Europe/Madrid:20240315T210000
DTEND;TZID=Europe/Madrid:20240315T233000
DTSTAMP:20260420T043635
CREATED:20240313T131713Z
LAST-MODIFIED:20240313T131713Z
UID:25259-1710536400-1710545400@www.sanmartindevaldeiglesias.es
SUMMARY:Trofeos feria taurina 2023
DESCRIPTION:Reservas: José Luis Carla 600 42 65 13 / WhatsApp 690 69 44 69
URL:https://www.sanmartindevaldeiglesias.es/evento/trofeos-feria-taurina-2023/
LOCATION:Restaurante Eneldo\, Avenida de Madrid 42\, San Martín de Valdeiglesias\, 28680\, España
END:VEVENT
BEGIN:VEVENT
DTSTART;TZID=Europe/Madrid:20240316T120000
DTEND;TZID=Europe/Madrid:20240316T133000
DTSTAMP:20260420T043635
CREATED:20240212T111525Z
LAST-MODIFIED:20240214T115304Z
UID:25058-1710590400-1710595800@www.sanmartindevaldeiglesias.es
SUMMARY:Bolsín Taurino
DESCRIPTION:Ganadería de José Vázquez para los alumnos de las Escuelas de Navas del Rey\, Alejandro Velasco y Manuel Cordero y de la Escuela de Sevilla\, Miguel Losana y Miguel Ángel Martínez. \n \n 
URL:https://www.sanmartindevaldeiglesias.es/evento/bolsin-taurino/
LOCATION:Plaza de toros
CATEGORIES:Fiestas
END:VEVENT
BEGIN:VEVENT
DTSTART;TZID=Europe/Madrid:20240316T200000
DTEND;TZID=Europe/Madrid:20240316T213000
DTSTAMP:20260420T043635
CREATED:20240104T165457Z
LAST-MODIFIED:20240108T125725Z
UID:24795-1710619200-1710624600@www.sanmartindevaldeiglesias.es
SUMMARY:Teatro: Señora Einstein
DESCRIPTION:Compañía: Teatro Defondo \nIntérpretes: Guillermo Berasategui\, David Días\, Gustavo Galindo\, Esperanza García Maroto\, Pedro Santos y Rocío Vidal. \nEdad recomendada: 12 años. \nDuración: 105 minutos. \nAutoría: Vanessa Martínez\, Gustavo Galindo\, Pedro Santos y David Díaz. \nDirección: Vanessa Martínez. \nSINOPSIS:  MilevaMaric necesita explicar su historia como primera esposa de Albert Einstein\, como co-creadora de la Teoría de la Relatividad\, como matemática y física olvidada por el mundo científico. \nMileva está buscando a alguien de su pasado a quien relata esta historia emotiva\, llena de viajes\, descubrimientos\, de amor\, de decisiones difíciles\, aciertos y errores; una vida dedicada a la ciencia\, hasta que su condición de mujer y madre trunca su prometedora carrera. Acompañadnos a conocer a MilevaMaric\, la Señora Einstein\, y su historia de talento\, lucha\, amor y redención. \nPrecio de las entradas:  Anticipada general: 15 € – Anticipada con descuento: 11 €.  Taquilla: 18 €\nDescuentos aplicables a menores de carné joven\, mayores de 65 años y personas con discapacidad de más de un 33%.\nEspectáculo de abono.\nVenta de entradas en el centro cultural La Estación.
URL:https://www.sanmartindevaldeiglesias.es/evento/teatro-senora-einstein/
LOCATION:Teatro municipal\, Calle Fuente 4\, San Martín de Valdeiglesias\, Madrid\, 28680\, España
CATEGORIES:Teatro
END:VEVENT
BEGIN:VEVENT
DTSTART;TZID=Europe/Madrid:20240317T200000
DTEND;TZID=Europe/Madrid:20240317T210000
DTSTAMP:20260420T043635
CREATED:20240305T092046Z
LAST-MODIFIED:20240305T092046Z
UID:25215-1710705600-1710709200@www.sanmartindevaldeiglesias.es
SUMMARY:Concierto: Marchas de procesión
DESCRIPTION:Cartel del concierto Marchas de Procesión. Marzo 2024 \nA cargo de la Unión Musical de San Martín de Valdeiglesias.\n17 de marzo. 20 h.  Iglesia parroquial de San Martín Obispo.
URL:https://www.sanmartindevaldeiglesias.es/evento/concierto-marchas-de-procesion-4/
LOCATION:Iglesia Parroquial\, Plaza Real\, s/n\, San Martín de Valdeiglesias\, Madrid\, 28680\, España
CATEGORIES:Conciertos
END:VEVENT
BEGIN:VEVENT
DTSTART;TZID=Europe/Madrid:20240318T103000
DTEND;TZID=Europe/Madrid:20240318T113000
DTSTAMP:20260420T043635
CREATED:20240311T131907Z
LAST-MODIFIED:20240311T131907Z
UID:25248-1710757800-1710761400@www.sanmartindevaldeiglesias.es
SUMMARY:Taller: Prevención de ictus
DESCRIPTION:
URL:https://www.sanmartindevaldeiglesias.es/evento/taller-prevencion-de-ictus/
LOCATION:Ayuntamiento
CATEGORIES:Salud
END:VEVENT
BEGIN:VEVENT
DTSTART;TZID=Europe/Madrid:20240318T174500
DTEND;TZID=Europe/Madrid:20240318T201500
DTSTAMP:20260420T043635
CREATED:20240315T093146Z
LAST-MODIFIED:20240315T094042Z
UID:25262-1710783900-1710792900@www.sanmartindevaldeiglesias.es
SUMMARY:Donación de Sangre
DESCRIPTION:
URL:https://www.sanmartindevaldeiglesias.es/evento/donacion-sangre-4/
LOCATION:Plaza de la Corredera\, Plaza de la Corredera\, San Martín de Valdeiglesias\, Madrid\, 28680\, España
CATEGORIES:Bienestar social
END:VEVENT
BEGIN:VEVENT
DTSTART;VALUE=DATE:20240322
DTEND;VALUE=DATE:20240408
DTSTAMP:20260420T043635
CREATED:20240318T122647Z
LAST-MODIFIED:20240318T122647Z
UID:25269-1711065600-1712534399@www.sanmartindevaldeiglesias.es
SUMMARY:Exposición: Grabados V. Ruano
DESCRIPTION:  \nHorario: \nLunes a viernes de 10 a 15 h\,  y los jueves también de 17 a 19 h.\nSábados\, domingos y festivos de 11 a 14 h. y de 17 a 20 h.\nEl sábado día 23 y 30 de marzo\, permanecerá cerrado.
URL:https://www.sanmartindevaldeiglesias.es/evento/exposicion-grabados-v-ruano/
LOCATION:Madrid
CATEGORIES:Exposiciones
END:VEVENT
BEGIN:VEVENT
DTSTART;TZID=Europe/Madrid:20240324T000000
DTEND;TZID=Europe/Madrid:20240324T060000
DTSTAMP:20260420T043635
CREATED:20240319T135531Z
LAST-MODIFIED:20240319T135531Z
UID:25287-1711238400-1711260000@www.sanmartindevaldeiglesias.es
SUMMARY:Fiesta joven
DESCRIPTION:Fiesta organizada por la asociación Sierra Oeste Joven\, en colaboración con el Ayuntamiento el Ayuntamiento de San Martín de Valdeiglesias y otras entidades locales. \nCon la actuación de Lewis Menez\, Dj Hugo Horcajo\, y Dj Alex.\nLugar: Plaza de Toros de San Martín de Valdeiglesias.\nCondiciones generales del evento:   Dirigida a mayores de 18 años\, para los socios: precio de las consumiciones más económicas y entrada gratuita.  No están permitidas las consumiciones del exterior.  Se puede hacer socio y obtener entrada para la fiesta a través de las redes sociales de la asociación o física del bar Las Vegas.
URL:https://www.sanmartindevaldeiglesias.es/evento/fiesta-joven/
LOCATION:Plaza de toros
CATEGORIES:Fiestas
END:VEVENT
BEGIN:VEVENT
DTSTART;TZID=Europe/Madrid:20240325T080000
DTEND;TZID=Europe/Madrid:20240325T170000
DTSTAMP:20260420T043635
CREATED:20240325T101454Z
LAST-MODIFIED:20240325T101454Z
UID:25319-1711353600-1711386000@www.sanmartindevaldeiglesias.es
SUMMARY:Pleno ordinario
DESCRIPTION:El Ayuntamiento de San Martín de Valdeiglesias celebrará sesión ordinaria del Pleno\, que se celebrará en el salón de plenos del Ayuntamiento\, el día: \n\n27 de marzo de 2024 a las 18 h. en primeria convocatoria.\n3 de abril de 2024\, a las las 18 h. en segunda convocatoria. \n\nLUGAR: Salón de Plenos del Ayuntamiento. \nParticipación a distancia: No se admite. \nASUNTOS DE LA CONVOCATORIA:  \nA) PARTE RESOLUTIVA:  \n\nAprobación del acta de la sesión anterior: Sesión de 31 de enero de 2024.\nAprobación del acta de la sesión anterior: Sesión de 4 de marzo de 2024.\nExpediente 2090/2024. Cesiones de Bienes. Cesión de terrenos a favor de la Asociación Talismán.\nExpediente 380/2023. Aprobación inicial de la Ordenanza municipal regulador de la limpieza y ornato público\, gestión municipal de residuos y economía circular.\nExpediente 2410/2024. Aprobación del Convenio Colectivo del personal laboral del Ayuntamiento de San Martín de Valdeiglesias.\nExpediente 2411/2024. Aprobación del Acuerdo sobre condiciones laborales del Personal Funcionario del Ayuntamiento de San Martín de Valdeiglesias.\nExpediente 3732/2024. Moción del Grupo Municipal del Partido Popular sobre «Apoyo a los agricultores y ganaderos españoles».\nExpediente 629/2024. Dación de cuentas. Informes trimestrales morosidad 4TT 2023.\nExpediente 1031/2024. Dación de cuentas. Información económico-financiera Ejecuciones trimestrales del presupuesto 2TT y 3TT 2023.\n\nB) ACTIVIDAD DE CONTROL: \nDación de cuentas de Decretos 2024-0182 a 2024-108-1 \nDación de cuentas de Decretos 2024-0182 a 2024-1008-2 \nC) RUEGOS Y PREGUNTAS: \nRuegos\, preguntas y otros asuntos análogos. \nDescargar convocatoria en pdf  \n 
URL:https://www.sanmartindevaldeiglesias.es/evento/pleno-ordinario-45/
LOCATION:Madrid
CATEGORIES:Pleno
END:VEVENT
BEGIN:VEVENT
DTSTART;TZID=Europe/Madrid:20240329T200000
DTEND;TZID=Europe/Madrid:20240329T213000
DTSTAMP:20260420T043635
CREATED:20240425T102719Z
LAST-MODIFIED:20240425T102719Z
UID:25517-1711742400-1711747800@www.sanmartindevaldeiglesias.es
SUMMARY:Pleno extraordinario
DESCRIPTION:El Ayuntamiento de San Martín de Valdeiglesias celebrará sesión extraordinaria del Pleno\, solicitada por más de una cuarta parte del número legal de miembros de la Corporación: \n\n29 de abril de 2024 a las 20 h. en primeria convocatoria.\n3 de mayo de 2024\, a las las 20 h. en segunda convocatoria. \n\nLUGAR: Salón de Plenos del Ayuntamiento. \nParticipación a distancia: No se admite. \nASUNTOS DE LA CONVOCATORIA:  \nA) PARTE RESOLUTIVA:  \n\nExpediente 4951/2024. Examen\, valoración y debate diversos expedientes – Solicitud de Pleno extraordinario.\n\nDescargar convocatoria en .jpg \n 
URL:https://www.sanmartindevaldeiglesias.es/evento/pleno-ordinario-duplicate-1/
LOCATION:Ayuntamiento
CATEGORIES:Pleno
END:VEVENT
END:VCALENDAR