BEGIN:VCALENDAR
VERSION:2.0
PRODID:-//San Martín de Valdeiglesias - ECPv6.15.20//NONSGML v1.0//EN
CALSCALE:GREGORIAN
METHOD:PUBLISH
X-ORIGINAL-URL:https://www.sanmartindevaldeiglesias.es
X-WR-CALDESC:Eventos para San Martín de Valdeiglesias
REFRESH-INTERVAL;VALUE=DURATION:PT1H
X-Robots-Tag:noindex
X-PUBLISHED-TTL:PT1H
BEGIN:VTIMEZONE
TZID:Europe/Madrid
BEGIN:DAYLIGHT
TZOFFSETFROM:+0100
TZOFFSETTO:+0200
TZNAME:CEST
DTSTART:20230326T010000
END:DAYLIGHT
BEGIN:STANDARD
TZOFFSETFROM:+0200
TZOFFSETTO:+0100
TZNAME:CET
DTSTART:20231029T010000
END:STANDARD
BEGIN:DAYLIGHT
TZOFFSETFROM:+0100
TZOFFSETTO:+0200
TZNAME:CEST
DTSTART:20240331T010000
END:DAYLIGHT
BEGIN:STANDARD
TZOFFSETFROM:+0200
TZOFFSETTO:+0100
TZNAME:CET
DTSTART:20241027T010000
END:STANDARD
BEGIN:DAYLIGHT
TZOFFSETFROM:+0100
TZOFFSETTO:+0200
TZNAME:CEST
DTSTART:20250330T010000
END:DAYLIGHT
BEGIN:STANDARD
TZOFFSETFROM:+0200
TZOFFSETTO:+0100
TZNAME:CET
DTSTART:20251026T010000
END:STANDARD
END:VTIMEZONE
BEGIN:VEVENT
DTSTART;VALUE=DATE:20240322
DTEND;VALUE=DATE:20240408
DTSTAMP:20260420T061858
CREATED:20240318T122647Z
LAST-MODIFIED:20240318T122647Z
UID:25269-1711065600-1712534399@www.sanmartindevaldeiglesias.es
SUMMARY:Exposición: Grabados V. Ruano
DESCRIPTION:  \nHorario: \nLunes a viernes de 10 a 15 h\,  y los jueves también de 17 a 19 h.\nSábados\, domingos y festivos de 11 a 14 h. y de 17 a 20 h.\nEl sábado día 23 y 30 de marzo\, permanecerá cerrado.
URL:https://www.sanmartindevaldeiglesias.es/evento/exposicion-grabados-v-ruano/
LOCATION:Madrid
CATEGORIES:Exposiciones
END:VEVENT
BEGIN:VEVENT
DTSTART;VALUE=DATE:20240403
DTEND;VALUE=DATE:20240417
DTSTAMP:20260420T061858
CREATED:20240313T105251Z
LAST-MODIFIED:20240313T105251Z
UID:25256-1712102400-1713311999@www.sanmartindevaldeiglesias.es
SUMMARY:Plazo admisión alumnos 1º ciclo infantil
DESCRIPTION:Proceso de admisión de nuevos alumnos para el curso 24-25.\nEn el municipio hay dos centros que cubren el primer ciclo de Educación Infantil; cada uno con diferentes características: Casa de Niños y Escuela Infantil. \n\nPlazo de presentación de solicitudes: Del 3 al 16 de abril de 2024. \nListas provisionales: 14 de mayo.\nReclamaciones: 16\, 17 y 20 de mayo.\nPublicación listas definitivas: 4 de junio.\nPeriodo de matriculación: del 13 al 28 de junio.\nProceso extraordinario: A partir del 1 de julio.\n\nLas solicitudes se presentarán con carácter general a través de la web de la Comunidad de Madrid.  Enlace al procedimiento. \nLa Casa de Niños organiza una jornada de puertas abiertas el 8 de abril de 2024 (Inscripciones a través del mail cn.sanmartindevaldeiglesias@educa.madrid.org)
URL:https://www.sanmartindevaldeiglesias.es/evento/plazo-admision-alumnos-1o-ciclo-infantil/
LOCATION:Madrid
CATEGORIES:Educación
END:VEVENT
BEGIN:VEVENT
DTSTART;TZID=Europe/Madrid:20240403T200000
DTEND;TZID=Europe/Madrid:20240403T213000
DTSTAMP:20260420T061858
CREATED:20240320T131024Z
LAST-MODIFIED:20240320T131024Z
UID:25302-1712174400-1712179800@www.sanmartindevaldeiglesias.es
SUMMARY:Concierto de violín
DESCRIPTION:Concierto de Abel Cruz\, violinista de la Philharmonisches Orchester Freiburg (Alemania) y antiguo alumno de la Escuela Municipal de Música y Danza. \nPianista acompañante: Javier Linde. \nConcierto homenaje a Belén Villanueva\, antigua profesora de violín de la Escuela Municipal de Música y Danza «Maestro Joaquín Rodrigo».
URL:https://www.sanmartindevaldeiglesias.es/evento/concierto-de-violin/
LOCATION:Escuela Municipal de Música y Danza «Maestro Joaquín Rodrigo»\, General Martinez Benito 4\, San Martín de Valdeiglesias\, Madrid\, 28680\, España
CATEGORIES:Conciertos
END:VEVENT
BEGIN:VEVENT
DTSTART;TZID=Europe/Madrid:20240404T190000
DTEND;TZID=Europe/Madrid:20240404T200000
DTSTAMP:20260420T061858
CREATED:20240320T084225Z
LAST-MODIFIED:20240320T084225Z
UID:25291-1712257200-1712260800@www.sanmartindevaldeiglesias.es
SUMMARY:Encuentro con L. Chacón
DESCRIPTION:Encuentro con la escritora Lucía Chacón\,  autora de las novelas «Siete Agujas» y «Los días que cosemos juntas».\nEl encuentro se realizará en la biblioteca municipal Miguel Hernández. El 4 de de abril 2024\, a las 19 h.
URL:https://www.sanmartindevaldeiglesias.es/evento/encuentro-con-l-chacon/
LOCATION:Biblioteca Municipal\, C/ Fuente\, 4\, San Martín de Valdeiglesias\, Madrid\, 28680\, España
CATEGORIES:Encuentro cultural
END:VEVENT
BEGIN:VEVENT
DTSTART;TZID=Europe/Madrid:20240404T200000
DTEND;TZID=Europe/Madrid:20240516T213000
DTSTAMP:20260420T061858
CREATED:20240321T135249Z
LAST-MODIFIED:20240321T135249Z
UID:25314-1712260800-1715895000@www.sanmartindevaldeiglesias.es
SUMMARY:Curso extensión UNED
DESCRIPTION:El 4 de abril comienza el curso: «Cinco miradas a la modernidad desde la literatura y el cine. Primera parte. La mirada hacia el futuro: la ciencia ficción». \nCurso dirigido a todas las personas interesadas en la literatura y el pensamiento contemporáneos\, organizado por la UNED de San Martín de Valdeiglesias. \nEntre sus objetivos está: \n\nFavorecer la comunicación a través de las relaciones interpersonales y el encuentro intergeneracional.\nProporcionar todos aquellos elementos y recursos necesarios para el enriquecimiento de la cultura general.\nAprender a observar y disfrutar de la literatura\, el cine y las grandes líneas del pensamiento moderno.\nConocer las claves de la cultura occidental\, su evolución y principales producciones narrativas.\n\nFechas:  Del 4 de abril al 16 de mayo de 2024. Jueves de 20 a 21:30 h.  Lugar: La Ciudad del Alba. Librería & Co. C/ Ramón y Cajal\, 24.\nInscripciones e información en el siguiente enlace.
URL:https://www.sanmartindevaldeiglesias.es/evento/curso-extension-uned/
LOCATION:Librería Ciudad del Alba\, C/ Ramón y Cajal\, 24\, San Martín de Valdeiglesias\, Madrid\, 28680\, España
END:VEVENT
BEGIN:VEVENT
DTSTART;TZID=Europe/Madrid:20240410T180000
DTEND;TZID=Europe/Madrid:20240410T190000
DTSTAMP:20260420T061858
CREATED:20240409T124109Z
LAST-MODIFIED:20240409T124109Z
UID:25409-1712772000-1712775600@www.sanmartindevaldeiglesias.es
SUMMARY:Jornada de participación
DESCRIPTION:
URL:https://www.sanmartindevaldeiglesias.es/evento/jornada-de-participacion/
LOCATION:Ayuntamiento
CATEGORIES:Participacion ciudadana
END:VEVENT
BEGIN:VEVENT
DTSTART;VALUE=DATE:20240411
DTEND;VALUE=DATE:20240425
DTSTAMP:20260420T061858
CREATED:20240408T102406Z
LAST-MODIFIED:20240411T072457Z
UID:25365-1712793600-1714003199@www.sanmartindevaldeiglesias.es
SUMMARY:Exposición de libros
DESCRIPTION:Exposición formada por la colección de libros donada por José Manuel del Río.\nDel 11 al 24 de abril de 2024.  Centro Cultural La Estación.\nHorario de visitas de lunes a viernes de 10 a 15 h.  y\, además\, los martes de 17:45 a 19:45 h.  jueves de 17 a 19 h. y Viernes de 16 a 20 h.\nInauguración el jueves 11 de abril\, a las 18 h.
URL:https://www.sanmartindevaldeiglesias.es/evento/exposicion-de-libros/
LOCATION:Centro cultural «La Estación»\, Av. del Ferrocarril\, 14B\,\, San Martín de Valdeiglesias\, Madrid\, 28680\, España
CATEGORIES:Exposiciones
END:VEVENT
BEGIN:VEVENT
DTSTART;TZID=Europe/Madrid:20240413T200000
DTEND;TZID=Europe/Madrid:20240413T213000
DTSTAMP:20260420T061858
CREATED:20240104T170114Z
LAST-MODIFIED:20240108T131529Z
UID:24797-1713038400-1713043800@www.sanmartindevaldeiglesias.es
SUMMARY:Musical: Con la boca abierta
DESCRIPTION:Compañía: Dimensión vocal \nIntérpretes: Luis León\, Shathu Entayla\, Diego Jacobina\, Fernando Palacio y Luis Alonso. \nEdad recomendada: Todos los públicos. \nDuración: 90 minutos. \nAutoría: Dimensión Vocal. \nSINOPSIS: Ganador del Premio Bradway World del Público 2023\, Dimensión Vocal continúa con la 3ª temporada de su espectáculo Con la boca abierta\, una aventura musical 100% a capela. \nPrecio de las entradas:  Anticipada general: 15 € – Anticipada con descuento: 11 € – Entradas en taquilla 18 €. Venta de entradas anticipadas en el Centro Cultural La Estación.\nDescuentos aplicables a menores de 14 años\, mayores de 65 años y personas con discapacidad de más del 33%.\nEspectáculo de abono.\nCon la colaboración de la Red de Teatros de la Comunidad de Madrid.
URL:https://www.sanmartindevaldeiglesias.es/evento/musical-con-la-boca-abierta/
LOCATION:Teatro municipal\, Calle Fuente 4\, San Martín de Valdeiglesias\, Madrid\, 28680\, España
CATEGORIES:Teatro
END:VEVENT
BEGIN:VEVENT
DTSTART;TZID=Europe/Madrid:20240420T110000
DTEND;TZID=Europe/Madrid:20240420T123000
DTSTAMP:20260420T061858
CREATED:20240411T100106Z
LAST-MODIFIED:20240411T100131Z
UID:25429-1713610800-1713616200@www.sanmartindevaldeiglesias.es
SUMMARY:Reunión colonias felinas
DESCRIPTION:Con motivo de la implementación del método CES (Captura\, Esterilización y Suelta) para controlar la población felina en nuestra localidad\, se convoca a todos los voluntarios responsables de las colonias felinas del municipio y urbanizaciones a una reunión en el Salón de Plenos del Ayuntamiento\, el próximo día 20 de abril\, a las 11 de la mañana.  \nEsta reunión es para informar sobre el CES y nombrar a los responsables de cada colonia e informarles de sus responsabilidades  como tal\, así como enumerar las responsabilidades. \nVer bando de la alcaldía convocando la reunión (.pdf)
URL:https://www.sanmartindevaldeiglesias.es/evento/reunion-colonias-felinas/
LOCATION:Ayuntamiento
END:VEVENT
BEGIN:VEVENT
DTSTART;TZID=Europe/Madrid:20240420T110000
DTEND;TZID=Europe/Madrid:20240420T190000
DTSTAMP:20260420T061858
CREATED:20240415T123355Z
LAST-MODIFIED:20240416T114927Z
UID:25440-1713610800-1713639600@www.sanmartindevaldeiglesias.es
SUMMARY:I Ruta del cuento
DESCRIPTION:Sábado 20 de abril 2024 \n\n11 h. Cuento propio con sorpresas. Narrado por alumnos de la asociación Talismán. Lugar:  Vivero de la asociación (avenida de la asociación).\n12 h. Marcelina en la cocina. Narrado por Laura Águeda. Lugar: Bazar San Martín.  (C/ Fuente\, 6).\n13 h. ¿Hay algo más aburrido que una princesa rosa? Narrado por Gloria Sánchez. Lugar: Librería Liceo (Plaza de la Corredera\, 20).\n17 h. La mariquita perezosa. Narrado por Begoña Palacios. Biblioteca Municipal. (C/ Fuente\, 4).\n18 h. El Principito. Lugar: Librería Ciudad del Alba. (C/ Enrique Capdevila\, 24)
URL:https://www.sanmartindevaldeiglesias.es/evento/i-ruta-del-cuento/
LOCATION:Madrid
CATEGORIES:Educación
END:VEVENT
BEGIN:VEVENT
DTSTART;TZID=Europe/Madrid:20240423T180000
DTEND;TZID=Europe/Madrid:20240423T190000
DTSTAMP:20260420T061858
CREATED:20240423T074529Z
LAST-MODIFIED:20240423T074529Z
UID:25502-1713895200-1713898800@www.sanmartindevaldeiglesias.es
SUMMARY:Taller monográfico "Miguel Hernández"
DESCRIPTION:Taller monográfico sobre el poeta Miguel Hernández y la relación que mantuvo con las mujeres que formaron parte de su vida y de su obra.  Explicado por el José Luis Espacia\, antólogo del libro: «Compañera de nuestros días.»
URL:https://www.sanmartindevaldeiglesias.es/evento/taller-monografico-miguel-hernandez/
LOCATION:Biblioteca Municipal\, C/ Fuente\, 4\, San Martín de Valdeiglesias\, Madrid\, 28680\, España
CATEGORIES:Encuentro cultural
END:VEVENT
BEGIN:VEVENT
DTSTART;TZID=Europe/Madrid:20240428T180000
DTEND;TZID=Europe/Madrid:20240428T200000
DTSTAMP:20260420T061858
CREATED:20240222T133446Z
LAST-MODIFIED:20240903T082850Z
UID:25143-1714327200-1714334400@www.sanmartindevaldeiglesias.es
SUMMARY:Corrida de toros. Copa Chenel.
DESCRIPTION:Segundo festejo de Segunda Fase del ciclo de Novilladas de la Comunidad de Madrid\, «Copa Chenel»\, con toros de Buenavista y José Enrique Fraile de Valdefresno para los matadores Rafael de Julia\, Luis David Adame y Miguel Ángel Pacheco. \n \nEntrada general: 20 €\, menores de 26 años: 15 € – Mayores de 65 años: 15 € – Grupos de más de 10 personas: 15 € – Amigos de la FTL: 10 € – Menores de 14 años: gratis.\nVenta de entradas: Por teléfono de lunes a viernes de 10 a 14 h. y de 17 a 20 h.\nEn el Ayuntamiento de San Martín de Valdeiglesias desde el lunes 23 de abril al viernes 26 de abril.\nEn las taquillas de la Plaza de Toros\, el día del espectáculo desde las 11 h de la mañana.
URL:https://www.sanmartindevaldeiglesias.es/evento/corrida-de-toros-copa-chenel-2/
LOCATION:Madrid
CATEGORIES:Fiestas
END:VEVENT
BEGIN:VEVENT
DTSTART;TZID=Europe/Madrid:20240429T080000
DTEND;TZID=Europe/Madrid:20240430T170000
DTSTAMP:20260420T061858
CREATED:20240419T082024Z
LAST-MODIFIED:20240419T082024Z
UID:25472-1714377600-1714496400@www.sanmartindevaldeiglesias.es
SUMMARY:Taller: manejo Tarjeta Virtual Sanitaria
DESCRIPTION:Taller gratuito para aprender a manejar la app  de la Tarjeta Virtual Sanitaria.\nDuración total: 7\,5 h.\nHorario: lunes 29 y martes 30 de abril. Turno de mañana de 9:30 h. a 13:30 h.  Turno de tarde de 16 a 20 h.  Salón de plenos del Ayuntamiento. \nInscripciones en el Ayuntamiento.  Descargar inscripción (.pdf)
URL:https://www.sanmartindevaldeiglesias.es/evento/taller-manejo-tarjeta-virtual-sanitaria/
LOCATION:Ayuntamiento
CATEGORIES:Salud
END:VEVENT
END:VCALENDAR