BEGIN:VCALENDAR
VERSION:2.0
PRODID:-//San Martín de Valdeiglesias - ECPv6.15.20//NONSGML v1.0//EN
CALSCALE:GREGORIAN
METHOD:PUBLISH
X-ORIGINAL-URL:https://www.sanmartindevaldeiglesias.es
X-WR-CALDESC:Eventos para San Martín de Valdeiglesias
REFRESH-INTERVAL;VALUE=DURATION:PT1H
X-Robots-Tag:noindex
X-PUBLISHED-TTL:PT1H
BEGIN:VTIMEZONE
TZID:Europe/Madrid
BEGIN:DAYLIGHT
TZOFFSETFROM:+0100
TZOFFSETTO:+0200
TZNAME:CEST
DTSTART:20230326T010000
END:DAYLIGHT
BEGIN:STANDARD
TZOFFSETFROM:+0200
TZOFFSETTO:+0100
TZNAME:CET
DTSTART:20231029T010000
END:STANDARD
BEGIN:DAYLIGHT
TZOFFSETFROM:+0100
TZOFFSETTO:+0200
TZNAME:CEST
DTSTART:20240331T010000
END:DAYLIGHT
BEGIN:STANDARD
TZOFFSETFROM:+0200
TZOFFSETTO:+0100
TZNAME:CET
DTSTART:20241027T010000
END:STANDARD
BEGIN:DAYLIGHT
TZOFFSETFROM:+0100
TZOFFSETTO:+0200
TZNAME:CEST
DTSTART:20250330T010000
END:DAYLIGHT
BEGIN:STANDARD
TZOFFSETFROM:+0200
TZOFFSETTO:+0100
TZNAME:CET
DTSTART:20251026T010000
END:STANDARD
END:VTIMEZONE
BEGIN:VEVENT
DTSTART;TZID=Europe/Madrid:20240404T200000
DTEND;TZID=Europe/Madrid:20240516T213000
DTSTAMP:20260420T080445
CREATED:20240321T135249Z
LAST-MODIFIED:20240321T135249Z
UID:25314-1712260800-1715895000@www.sanmartindevaldeiglesias.es
SUMMARY:Curso extensión UNED
DESCRIPTION:El 4 de abril comienza el curso: «Cinco miradas a la modernidad desde la literatura y el cine. Primera parte. La mirada hacia el futuro: la ciencia ficción». \nCurso dirigido a todas las personas interesadas en la literatura y el pensamiento contemporáneos\, organizado por la UNED de San Martín de Valdeiglesias. \nEntre sus objetivos está: \n\nFavorecer la comunicación a través de las relaciones interpersonales y el encuentro intergeneracional.\nProporcionar todos aquellos elementos y recursos necesarios para el enriquecimiento de la cultura general.\nAprender a observar y disfrutar de la literatura\, el cine y las grandes líneas del pensamiento moderno.\nConocer las claves de la cultura occidental\, su evolución y principales producciones narrativas.\n\nFechas:  Del 4 de abril al 16 de mayo de 2024. Jueves de 20 a 21:30 h.  Lugar: La Ciudad del Alba. Librería & Co. C/ Ramón y Cajal\, 24.\nInscripciones e información en el siguiente enlace.
URL:https://www.sanmartindevaldeiglesias.es/evento/curso-extension-uned/
LOCATION:Librería Ciudad del Alba\, C/ Ramón y Cajal\, 24\, San Martín de Valdeiglesias\, Madrid\, 28680\, España
END:VEVENT
BEGIN:VEVENT
DTSTART;TZID=Europe/Madrid:20240504T093000
DTEND;TZID=Europe/Madrid:20240504T170000
DTSTAMP:20260420T080445
CREATED:20240422T090828Z
LAST-MODIFIED:20240422T090854Z
UID:25497-1714815000-1714842000@www.sanmartindevaldeiglesias.es
SUMMARY:Marcha de la mujer MTB
DESCRIPTION:Marcha de la Mujer en  MTB\, organizada por el Club Ciclista Valdeiglesias\, el Club MTB Valdeiglesias y el Ayuntamiento de San Martín de Valdeiglesias. \nSalida desde el Castillo de la Coracera para realizar la Ruta Camino del Boquerón. 9:30 h.
URL:https://www.sanmartindevaldeiglesias.es/evento/marcha-de-la-mujer-mtb/
LOCATION:Madrid
CATEGORIES:Deportes
END:VEVENT
BEGIN:VEVENT
DTSTART;TZID=Europe/Madrid:20240504T123000
DTEND;TZID=Europe/Madrid:20240504T133000
DTSTAMP:20260420T080445
CREATED:20240429T112408Z
LAST-MODIFIED:20240429T112408Z
UID:25543-1714825800-1714829400@www.sanmartindevaldeiglesias.es
SUMMARY:Concierto Unión Musical
DESCRIPTION:Concierto de la Unión Musical de San Martín de Valdeiglesias. Bailes y chotis.\nLimonada y dulce tradicional de San Isidro.\nColabora: Asociación Mujeres en Igualdad.\n4 de mayo. 12:30 h. Plaza Real.
URL:https://www.sanmartindevaldeiglesias.es/evento/concierto-union-musical-4/
LOCATION:Plaza Real\, Plaza Real Nº1\, San Martín de Valdeiglesias\, Madrid\, 28680\, España
CATEGORIES:Conciertos
END:VEVENT
BEGIN:VEVENT
DTSTART;TZID=Europe/Madrid:20240511T080000
DTEND;TZID=Europe/Madrid:20240511T170000
DTSTAMP:20260420T080445
CREATED:20240419T085524Z
LAST-MODIFIED:20240508T110742Z
UID:25474-1715414400-1715446800@www.sanmartindevaldeiglesias.es
SUMMARY:X Rally Sprint y concentración de clásicos
DESCRIPTION:Salida a las  14 h. desde la Plaza de Toros.\nLlegada prevista a las 19:30 h. en la Plaza de Toros.\nTrofeo: Álvarez Competición. \nDesde las 15 h. hasta las 19:00 h.\, habrá cuna concentración de coches clásicos en la Plaza de Toros. \n 
URL:https://www.sanmartindevaldeiglesias.es/evento/x-rally-sprint/
LOCATION:Plaza de toros
CATEGORIES:Deportes
END:VEVENT
BEGIN:VEVENT
DTSTART;TZID=Europe/Madrid:20240511T190000
DTEND;TZID=Europe/Madrid:20240511T210000
DTSTAMP:20260420T080445
CREATED:20240507T092012Z
LAST-MODIFIED:20240507T092027Z
UID:25559-1715454000-1715461200@www.sanmartindevaldeiglesias.es
SUMMARY:Teatro: AylollevaStory
DESCRIPTION:Representación de la obra: AylollevaStory\, escrita por Luis María Iglesias Vázquez\, en la que participan actores no profesionales del municipio.\nPrecio de la entrada: 5 € que irán destinados a una obra benéfica en el municipio.
URL:https://www.sanmartindevaldeiglesias.es/evento/teatro-aylollevastory/
LOCATION:Teatro municipal\, Calle Fuente 4\, San Martín de Valdeiglesias\, Madrid\, 28680\, España
CATEGORIES:Teatro
END:VEVENT
BEGIN:VEVENT
DTSTART;TZID=Europe/Madrid:20240515T100000
DTEND;TZID=Europe/Madrid:20240515T110000
DTSTAMP:20260420T080445
CREATED:20240513T085057Z
LAST-MODIFIED:20240513T085407Z
UID:25597-1715767200-1715770800@www.sanmartindevaldeiglesias.es
SUMMARY:Pleno extraordinario
DESCRIPTION:El Ayuntamiento de San Martín de Valdeiglesias convoca Pleno extraordinario para llevar a cabo\, entre otros\, el sorteo de los miembros de las mesas electorales para las Elecciones al Parlamento Europeo de 9 de junio de 2024. \nFecha y hora: \n1ª Convocatoria: 15 de mayo de 2024\, a las 10:00h.  \n2º convocatoria: 17 de mayo de 2024\, a las 10:00 h. \nLugar: Salón de Plenos. \nASUNTOS DE LA CONVOCATORIA: \n\nSorteo miembros Mesas Electorales Elecciones al Parlamento Europeo de 9 de junio de 2024.\nAsunto incluido por Urgencia. Expediente 5155/2024. Convenios. Aprobación de convenio interadministrativo de Colaboración entre los Ayuntamientos de San Martín de Valdeiglesias\, Navas del Rey\, Cadalso de los Vidrios y Pelayos de la Presa para la prestación conjunta de los Servicios de Policía Local.\n\nDescargar convocatoria (.pdf)
URL:https://www.sanmartindevaldeiglesias.es/evento/pleno-extraordinario-23/
LOCATION:Ayuntamiento
CATEGORIES:Pleno
END:VEVENT
BEGIN:VEVENT
DTSTART;TZID=Europe/Madrid:20240516T080000
DTEND;TZID=Europe/Madrid:20240531T170000
DTSTAMP:20260420T080445
CREATED:20240514T125307Z
LAST-MODIFIED:20240514T125307Z
UID:25617-1715846400-1717174800@www.sanmartindevaldeiglesias.es
SUMMARY:Exposición de acuarelas
DESCRIPTION:Acuarelas de Antonio Amores. \nDel 16 al 31 de mayo de 2024.\nCentro Cultural La Estación.\nHorario de Lunes a Viernes de 10 a 15 h  y de 17 a 20 h.  Inauguración: jueves 16\, a las 18 h.
URL:https://www.sanmartindevaldeiglesias.es/evento/exposicion-de-acuarelas/
LOCATION:Centro cultural «La Estación»\, Av. del Ferrocarril\, 14B\,\, San Martín de Valdeiglesias\, Madrid\, 28680\, España
CATEGORIES:Exposiciones
END:VEVENT
BEGIN:VEVENT
DTSTART;TZID=Europe/Madrid:20240516T090000
DTEND;TZID=Europe/Madrid:20240516T130000
DTSTAMP:20260420T080445
CREATED:20240422T081352Z
LAST-MODIFIED:20240422T081352Z
UID:25484-1715850000-1715864400@www.sanmartindevaldeiglesias.es
SUMMARY:Expedición DNI
DESCRIPTION:Teléfono de cita previa para la renovación del DNI: 918 194 422. \n 
URL:https://www.sanmartindevaldeiglesias.es/evento/expedicion-dni-5/
LOCATION:Ayuntamiento
CATEGORIES:Servicios a la ciudadanía
END:VEVENT
BEGIN:VEVENT
DTSTART;TZID=Europe/Madrid:20240517T080000
DTEND;TZID=Europe/Madrid:20240517T170000
DTSTAMP:20260420T080445
CREATED:20240517T115619Z
LAST-MODIFIED:20240517T115619Z
UID:25634-1715932800-1715965200@www.sanmartindevaldeiglesias.es
SUMMARY:Hermandad de la Salud
DESCRIPTION:El 19 de mayo\, la Hermandad de la Salud\, celebra su festividad\, con el siguiente programa de actividades. \n8:30 h.  Pasacalles con la Unión Musical de San Martín de Valdeiglesias. \n9:00 h. Chocolate en la Plaza de la Corredera. \n11:00 h. Procesión de la Virgen de la Salud. \n13:00 h. Cabildo en la Escuela Municipal de Música. \n19:00 h. Procesión. Traslado de la Virgen de la Salud desde la iglesia hasta su ermita en la carretera M-957.
URL:https://www.sanmartindevaldeiglesias.es/evento/hermandad-de-la-salud/
LOCATION:Madrid
CATEGORIES:Fiestas
END:VEVENT
BEGIN:VEVENT
DTSTART;TZID=Europe/Madrid:20240518T090000
DTEND;TZID=Europe/Madrid:20240518T150000
DTSTAMP:20260420T080445
CREATED:20240517T111933Z
LAST-MODIFIED:20240517T112512Z
UID:25625-1716022800-1716044400@www.sanmartindevaldeiglesias.es
SUMMARY:Baloncesto: fase zonal.
DESCRIPTION:
URL:https://www.sanmartindevaldeiglesias.es/evento/25625/
LOCATION:Patronato municipal de deportes\, Calle salamanca 17\, San Martín de valdeiglesias\, Madrid\, 28680\, España
CATEGORIES:Deportes
END:VEVENT
BEGIN:VEVENT
DTSTART;TZID=Europe/Madrid:20240518T124500
DTEND;TZID=Europe/Madrid:20240518T173000
DTSTAMP:20260420T080445
CREATED:20240514T102027Z
LAST-MODIFIED:20240514T102027Z
UID:25604-1716036300-1716053400@www.sanmartindevaldeiglesias.es
SUMMARY:Encuentro de viento metal
DESCRIPTION:Con la participación de los alumnos de las Escuelas de Música Banda de Cebreros\, Pedro Bernardo\, Villa del Prado\, Nombela y San Martín de Valdeiglesias. \nProfesores: Álvaro López\, Sergio Rosado y Carlos Gómez.\n18 de mayo de 2024. 12:45 h.  Escuela de Música.
URL:https://www.sanmartindevaldeiglesias.es/evento/encuentro-de-viento-metal/
LOCATION:Escuela Municipal de Música y Danza «Maestro Joaquín Rodrigo»\, General Martinez Benito 4\, San Martín de Valdeiglesias\, Madrid\, 28680\, España
CATEGORIES:Conciertos
END:VEVENT
BEGIN:VEVENT
DTSTART;TZID=Europe/Madrid:20240520T174500
DTEND;TZID=Europe/Madrid:20240520T201500
DTSTAMP:20260420T080445
CREATED:20240517T114341Z
LAST-MODIFIED:20240517T114341Z
UID:25631-1716227100-1716236100@www.sanmartindevaldeiglesias.es
SUMMARY:Donación de sangre
DESCRIPTION:
URL:https://www.sanmartindevaldeiglesias.es/evento/donacion-de-sangre-6/
LOCATION:Plaza de la Corredera\, Plaza de la Corredera\, San Martín de Valdeiglesias\, Madrid\, 28680\, España
CATEGORIES:Salud
END:VEVENT
BEGIN:VEVENT
DTSTART;TZID=Europe/Madrid:20240524T200000
DTEND;TZID=Europe/Madrid:20240524T213000
DTSTAMP:20260420T080445
CREATED:20240521T101539Z
LAST-MODIFIED:20240521T101539Z
UID:25642-1716580800-1716586200@www.sanmartindevaldeiglesias.es
SUMMARY:Concierto: Encuentro de música actual
DESCRIPTION:I Encuentro de aulas de Música Actual\, con la participación de alumnos de las Escuelas  de música de Villa del Prado\, Chapinería y San Martín de Valdeiglesias. \n \nTeatro municipal.  Entrada gratuita hasta completar aforo. \n 
URL:https://www.sanmartindevaldeiglesias.es/evento/concierto-encuentro-de-musica-actual/
LOCATION:Teatro municipal\, Calle Fuente 4\, San Martín de Valdeiglesias\, Madrid\, 28680\, España
CATEGORIES:Conciertos
END:VEVENT
BEGIN:VEVENT
DTSTART;TZID=Europe/Madrid:20240527T190000
DTEND;TZID=Europe/Madrid:20240527T210000
DTSTAMP:20260420T080445
CREATED:20240521T102856Z
LAST-MODIFIED:20240521T102856Z
UID:25647-1716836400-1716843600@www.sanmartindevaldeiglesias.es
SUMMARY:Audición de violín
DESCRIPTION:Audición del aula de VIOLÍN de la Escuela Municipal de Música y Danza. Ofrecido por alumnos de la Escuela. \nAuditorio de la Escuela Municipal de Música. 19 h. Entrada libre hasta completar aforo.
URL:https://www.sanmartindevaldeiglesias.es/evento/audicion-de-violin-4/
LOCATION:Escuela Municipal de Música y Danza «Maestro Joaquín Rodrigo»\, General Martinez Benito 4\, San Martín de Valdeiglesias\, Madrid\, 28680\, España
CATEGORIES:Conciertos
END:VEVENT
BEGIN:VEVENT
DTSTART;TZID=Europe/Madrid:20240529T180000
DTEND;TZID=Europe/Madrid:20240529T200000
DTSTAMP:20260420T080445
CREATED:20240527T085816Z
LAST-MODIFIED:20240527T085816Z
UID:25720-1717005600-1717012800@www.sanmartindevaldeiglesias.es
SUMMARY:Pleno ordinario
DESCRIPTION:El AYUNTAMIENTO  DE SAN MARTÍN DE VALDEIGLESIAS\, convoca pleno\, con las siguientes características:  \n\nConvocatoria ordinaria.\nFecha y hora:\n\n1º convocatoria: 29 de mayo de 2024\, a las 18 h.\n2ª convocatoria: 31 de mayo de 2024\, a las 18 h.\n\n\nLugar: Salón de Plenos.\nNo admite participación a distancia.\n\nASUNTOS DE LA CONVOCATORIA: \nPARTE RESOLUTIVA: \n\nAprobación del acta de la sesión anterior: Sesión de 27 de marzo de 2024.\nAprobación del ata de la sesión anterior: Sesión de 29 de abril de 2024.\nAprobación del acta de la sesión anterior: Sesión de 15 de mayo de 2024.\nExpediente 5547/2024. Aprobación del Reglamento Orgánico Municipal del Ayuntamiento de San Martín de Valdeiglesias.\n\nACTIVIDAD DE CONTROL: \n  \nRUEGOS Y PREGUNTAS: \n  \nDescargar convocatoria en pdf (550 Kb)
URL:https://www.sanmartindevaldeiglesias.es/evento/pleno-ordinario-46/
LOCATION:Ayuntamiento
CATEGORIES:Pleno
END:VEVENT
BEGIN:VEVENT
DTSTART;TZID=Europe/Madrid:20240529T190000
DTEND;TZID=Europe/Madrid:20240529T203000
DTSTAMP:20260420T080445
CREATED:20240521T104136Z
LAST-MODIFIED:20240521T104136Z
UID:25649-1717009200-1717014600@www.sanmartindevaldeiglesias.es
SUMMARY:Audición de piano
DESCRIPTION:Audición ofrecida por alumnos y profesores del aula de piano de la Escuela Municipal de Música y Danza. \n29 de mayo de 2024. 19 h. Entrada libre hasta completar aforo.
URL:https://www.sanmartindevaldeiglesias.es/evento/audicion-de-piano-5/
LOCATION:Escuela Municipal de Música y Danza «Maestro Joaquín Rodrigo»\, General Martinez Benito 4\, San Martín de Valdeiglesias\, Madrid\, 28680\, España
CATEGORIES:Conciertos
END:VEVENT
END:VCALENDAR