BEGIN:VCALENDAR
VERSION:2.0
PRODID:-//San Martín de Valdeiglesias - ECPv6.15.20//NONSGML v1.0//EN
CALSCALE:GREGORIAN
METHOD:PUBLISH
X-ORIGINAL-URL:https://www.sanmartindevaldeiglesias.es
X-WR-CALDESC:Eventos para San Martín de Valdeiglesias
REFRESH-INTERVAL;VALUE=DURATION:PT1H
X-Robots-Tag:noindex
X-PUBLISHED-TTL:PT1H
BEGIN:VTIMEZONE
TZID:Europe/Madrid
BEGIN:DAYLIGHT
TZOFFSETFROM:+0100
TZOFFSETTO:+0200
TZNAME:CEST
DTSTART:20230326T010000
END:DAYLIGHT
BEGIN:STANDARD
TZOFFSETFROM:+0200
TZOFFSETTO:+0100
TZNAME:CET
DTSTART:20231029T010000
END:STANDARD
BEGIN:DAYLIGHT
TZOFFSETFROM:+0100
TZOFFSETTO:+0200
TZNAME:CEST
DTSTART:20240331T010000
END:DAYLIGHT
BEGIN:STANDARD
TZOFFSETFROM:+0200
TZOFFSETTO:+0100
TZNAME:CET
DTSTART:20241027T010000
END:STANDARD
BEGIN:DAYLIGHT
TZOFFSETFROM:+0100
TZOFFSETTO:+0200
TZNAME:CEST
DTSTART:20250330T010000
END:DAYLIGHT
BEGIN:STANDARD
TZOFFSETFROM:+0200
TZOFFSETTO:+0100
TZNAME:CET
DTSTART:20251026T010000
END:STANDARD
END:VTIMEZONE
BEGIN:VEVENT
DTSTART;VALUE=DATE:20240607
DTEND;VALUE=DATE:20240712
DTSTAMP:20260420T111209
CREATED:20240605T112841Z
LAST-MODIFIED:20240605T112841Z
UID:25793-1717718400-1720742399@www.sanmartindevaldeiglesias.es
SUMMARY:Exposición: Historia de los ingenios musicales
DESCRIPTION:
URL:https://www.sanmartindevaldeiglesias.es/evento/exposicion-historia-de-los-ingenios-musicales/
LOCATION:Centro cultural «La Estación»\, Av. del Ferrocarril\, 14B\,\, San Martín de Valdeiglesias\, Madrid\, 28680\, España
END:VEVENT
BEGIN:VEVENT
DTSTART;TZID=Europe/Madrid:20240706T210000
DTEND;TZID=Europe/Madrid:20240706T230000
DTSTAMP:20260420T111209
CREATED:20240621T100200Z
LAST-MODIFIED:20240621T100200Z
UID:25956-1720299600-1720306800@www.sanmartindevaldeiglesias.es
SUMMARY:XXX Festival de Bandas de Música
DESCRIPTION:Con la participación de los grupos: \n\nAsociación cultural Villa de Cobeja (Toledo).\nUnión Musical de San Martín de Valdeiglesias.\n\n 
URL:https://www.sanmartindevaldeiglesias.es/evento/xxx-festival-de-bandas-de-musica/
LOCATION:Plaza Real\, Plaza Real Nº1\, San Martín de Valdeiglesias\, Madrid\, 28680\, España
CATEGORIES:Conciertos
END:VEVENT
BEGIN:VEVENT
DTSTART;TZID=Europe/Madrid:20240708T093000
DTEND;TZID=Europe/Madrid:20240708T123000
DTSTAMP:20260420T111209
CREATED:20240607T113222Z
LAST-MODIFIED:20240607T113222Z
UID:25839-1720431000-1720441800@www.sanmartindevaldeiglesias.es
SUMMARY:Expedición DNI
DESCRIPTION:El 8 de julio\, una unidad móvil de la Policía Nacional se desplazará hasta el municipio para renovar el DNI a los ciudadanos que lo necesiten. \nEs necesario solicitar cita previa llamando al teléfono 918 194 422 en horario de atención al público de 8 a 14 h. \n Ver información sobre documentación a aportar y pago de tasas.
URL:https://www.sanmartindevaldeiglesias.es/evento/expedicion-dni-6/
LOCATION:Ayuntamiento
CATEGORIES:Servicios a la ciudadanía
END:VEVENT
BEGIN:VEVENT
DTSTART;VALUE=DATE:20240712
DTEND;VALUE=DATE:20240715
DTSTAMP:20260420T111209
CREATED:20240621T112649Z
LAST-MODIFIED:20240621T112649Z
UID:25960-1720742400-1721001599@www.sanmartindevaldeiglesias.es
SUMMARY:Maratón fútbol 7
DESCRIPTION:Organizado por el club de fútbol Atlético Valdeiglesias. \nCampo municipal de fútbol «José Rodríguez». \n 
URL:https://www.sanmartindevaldeiglesias.es/evento/maraton-futbol-7-2/
LOCATION:Campo de fútbol
CATEGORIES:Deportes
END:VEVENT
BEGIN:VEVENT
DTSTART;TZID=Europe/Madrid:20240712T210000
DTEND;TZID=Europe/Madrid:20240712T220000
DTSTAMP:20260420T111209
CREATED:20240621T112350Z
LAST-MODIFIED:20240621T112350Z
UID:25958-1720818000-1720821600@www.sanmartindevaldeiglesias.es
SUMMARY:Concierto clásicos en verano
DESCRIPTION:Concierto dentro del ciclo «Clásicos en Verano» de la Comunidad de Madrid. \nIglesia parroquial.  21 h. \nEntrada gratuita.
URL:https://www.sanmartindevaldeiglesias.es/evento/concierto-clasicos-en-verano-3/
LOCATION:Iglesia Parroquial\, Plaza Real\, s/n\, San Martín de Valdeiglesias\, Madrid\, 28680\, España
CATEGORIES:Conciertos
END:VEVENT
BEGIN:VEVENT
DTSTART;TZID=Europe/Madrid:20240718T180000
DTEND;TZID=Europe/Madrid:20240718T200000
DTSTAMP:20260420T111209
CREATED:20240621T113024Z
LAST-MODIFIED:20240621T113024Z
UID:25962-1721325600-1721332800@www.sanmartindevaldeiglesias.es
SUMMARY:Bibliopiscina
DESCRIPTION:La biblioteca municipal se desplaza hasta la piscina para ofrecer lecturas refrescantes y cuentacuentos para los más pequeños. \nCuentacuentos a las 18:30 h.
URL:https://www.sanmartindevaldeiglesias.es/evento/bibliopiscina-2/
LOCATION:Piscina Municipal\, Plaza de los deportes\, San Martín de Valdeiglesias\, Madrid\, 28680\, España
CATEGORIES:Encuentro cultural
END:VEVENT
BEGIN:VEVENT
DTSTART;VALUE=DATE:20240719
DTEND;VALUE=DATE:20240722
DTSTAMP:20260420T111209
CREATED:20240621T114236Z
LAST-MODIFIED:20240621T114236Z
UID:25966-1721347200-1721606399@www.sanmartindevaldeiglesias.es
SUMMARY:Maratón deportivo
DESCRIPTION:Maratón deportivo en las instalaciones municipales. \nVer programación a parte. \n 
URL:https://www.sanmartindevaldeiglesias.es/evento/maraton-deportivo-5/
LOCATION:Patronato municipal de deportes\, Calle salamanca 17\, San Martín de valdeiglesias\, Madrid\, 28680\, España
CATEGORIES:Deportes
END:VEVENT
BEGIN:VEVENT
DTSTART;TZID=Europe/Madrid:20240719T210000
DTEND;TZID=Europe/Madrid:20240719T223000
DTSTAMP:20260420T111209
CREATED:20240621T114012Z
LAST-MODIFIED:20240716T123125Z
UID:25964-1721422800-1721428200@www.sanmartindevaldeiglesias.es
SUMMARY:Arte vivo en la plaza
DESCRIPTION:Actividad dentro del ciclo Escenas de Verano de la Comunidad de Madrid. Con la participación de los artistas contemporáneos: María Eugenia Diego Salvador\, Paula Mira\, Verónica Ruth Frías\, Chema Perona (ChePe) y Ander Yarza\, que realizarán performances que durarán 90 minutos. \nDe 21 a 22:30 h. \nPlaza de la Corredera.
URL:https://www.sanmartindevaldeiglesias.es/evento/arte-vivo-en-la-plaza/
LOCATION:Plaza de la Corredera\, Plaza de la Corredera\, San Martín de Valdeiglesias\, Madrid\, 28680\, España
CATEGORIES:Exposiciones
END:VEVENT
BEGIN:VEVENT
DTSTART;TZID=Europe/Madrid:20240720T180000
DTEND;TZID=Europe/Madrid:20240720T210000
DTSTAMP:20260420T111209
CREATED:20240621T114439Z
LAST-MODIFIED:20240716T122845Z
UID:25968-1721498400-1721509200@www.sanmartindevaldeiglesias.es
SUMMARY:Mercadillo 2ª mano
DESCRIPTION:Plaza de Toros. 18 h. \nActividad dentro de la Semana del Mayor. (Ver programación completa).
URL:https://www.sanmartindevaldeiglesias.es/evento/mercadillo-2a-mano/
LOCATION:Plaza de toros
CATEGORIES:Bienestar social
END:VEVENT
BEGIN:VEVENT
DTSTART;TZID=Europe/Madrid:20240722T110000
DTEND;TZID=Europe/Madrid:20240722T200000
DTSTAMP:20260420T111209
CREATED:20240621T120354Z
LAST-MODIFIED:20240716T122525Z
UID:25970-1721646000-1721678400@www.sanmartindevaldeiglesias.es
SUMMARY:Piscina gratuita
DESCRIPTION:Con motivo de la Semana del Mayor\, la piscina municipal será gratuita para los mayores de 65 años. \nVer programa completo de la Semana del Mayor.   \n  \n 
URL:https://www.sanmartindevaldeiglesias.es/evento/piscina-gratuita-2/
LOCATION:Piscina Municipal\, Plaza de los deportes\, San Martín de Valdeiglesias\, Madrid\, 28680\, España
CATEGORIES:Bienestar social
END:VEVENT
BEGIN:VEVENT
DTSTART;TZID=Europe/Madrid:20240722T200000
DTEND;TZID=Europe/Madrid:20240722T210000
DTSTAMP:20260420T111209
CREATED:20240716T123453Z
LAST-MODIFIED:20240716T123453Z
UID:26001-1721678400-1721682000@www.sanmartindevaldeiglesias.es
SUMMARY:Yoga para mayores
DESCRIPTION:Sesión de yoga\, especialmente diseñada para las personas mayores.\nOrganizado por ASHRAM San Martín de Valdeiglesias. RedGFU.\nEn el exterior del Centro de Ocio y de la Tercera Edad (Avda. Félix Rodríguez de la Fuente).  20 h. \nEs necesario llevar ropa cómoda y\, a ser posible\, esterilla.
URL:https://www.sanmartindevaldeiglesias.es/evento/yoga-para-mayores/
LOCATION:Centro de ocio de la Tercera Edad\, Avda. Félix Rodríguez de la Fuente\,\, San Martín de Valdeiglesias\, Madrid\, 28680\, España
CATEGORIES:Bienestar social
END:VEVENT
BEGIN:VEVENT
DTSTART;TZID=Europe/Madrid:20240723T180000
DTEND;TZID=Europe/Madrid:20240723T210000
DTSTAMP:20260420T111209
CREATED:20240621T121713Z
LAST-MODIFIED:20240716T122646Z
UID:25974-1721757600-1721768400@www.sanmartindevaldeiglesias.es
SUMMARY:Torneo petanca mixto
DESCRIPTION:Con motivo de la Semana del Mayor el Ayuntamiento\, en colaboración con el club de petanca\, organiza un torneo de petanca mixto. \nParque de La Estación. \nVer programación completa de la Semana del Mayor.
URL:https://www.sanmartindevaldeiglesias.es/evento/torneo-petanca-mixto/
LOCATION:Parque de La Estación\, Avda. del Ferrocarril 14C\, San Martín de Valdeiglesias\, Madrid\, 28680\, España
CATEGORIES:Bienestar social,Deportes
END:VEVENT
BEGIN:VEVENT
DTSTART;TZID=Europe/Madrid:20240724T190000
DTEND;TZID=Europe/Madrid:20240724T220000
DTSTAMP:20260420T111209
CREATED:20240719T094114Z
LAST-MODIFIED:20240719T094717Z
UID:26010-1721847600-1721858400@www.sanmartindevaldeiglesias.es
SUMMARY:Pleno ordinario
DESCRIPTION:El Ayuntamiento de San Martín de Valdeiglesias convoca pleno ordinario el día 24 de julio de 2024\, a las 19 h. \ncon el siguiente ORDEN DEL DÍA: \nA) PARTE RESOLUTIVA: \n\nToma de razón. Expediente 6860/2024. Cargos Públicos (Nombramiento o Cese).Renuncia Concejal Don Pablo Luis Lastras Ortiz.\nAprobación del acta de la sesión anterior – Sesión de 29 de mayo de 2024\nExpediente 6431/2024. Fiestas (Planificación\, Organización o Celebración).Designación festivos locales 2025\nExpediente 6815/2024. Reconocimiento Extrajudicial de Créditos. Facturas 2022 -Canal Isabel II – Contador baja definitiva\nExpediente 5479/2024. Aprobación definitiva de la Cuenta General del Ayuntamiento 2023.\nExpediente 6739/2023. Cargos Públicos (Dedicaciones\, Retribuciones e Indemnizaciones).\nModificación del Acuerdo del Pleno el régimen de dedicaciones y las indemnizaciones de los miembros de la corporación.\nExpediente 380/2023. Disposiciones Normativas (Aprobación\, Modificación o Derogación).\nAprobación definitiva de la modificación de la Ordenanza Reguladora nº3de Limpieza y Ornato y Gestión Municipal de Residuos Urbanos.\nExpediente 6807/2024. Disposiciones Normativas (Aprobación\, Modificación o Derogación). Aprobación inicial Ordenanza núm. 11 reguladora de la tasa por ocupación de terrenos de uso público por mesas y sillas con finalidad lucrativa.\nExpediente 6433/2024. Adhesión Convenio Marco de Colaboración entre la Comunidad de Madrid y la Federación de Municipios de Madrid para la incorporación de Municipios a la RED ITINER.\nDación de cuentas. Expediente 5024/2024. Plan de Tesorería.\nINFORMESTRIMESTRALES DE MOROSIDAD PRIMER TRIMESTRE 2024.\nDación de cuentas. Expediente 5041/2024. Información Económico-Financiera. EJECUCIONES TRIMESTRALES DEL PRESUPUESTO PRIMER TRIMESTRE 2024\n\nB) ACTIVIDAD DE CONTROL: \n12.- Dación de cuentas de Decretos 2024-1552 a 2024-1923 \nC) RUEGOS Y PREGUNTAS: \n13. Ruegos\, preguntas y otros asuntos análogos. \n  \nDescartar convocatoria en pdf. \n 
URL:https://www.sanmartindevaldeiglesias.es/evento/pleno-ordinario-47/
LOCATION:Ayuntamiento
CATEGORIES:Pleno
END:VEVENT
BEGIN:VEVENT
DTSTART;TZID=Europe/Madrid:20240724T210000
DTEND;TZID=Europe/Madrid:20240724T220000
DTSTAMP:20260420T111209
CREATED:20240621T121956Z
LAST-MODIFIED:20240724T080316Z
UID:25976-1721854800-1721858400@www.sanmartindevaldeiglesias.es
SUMMARY:Ruta turística
DESCRIPTION:Ruta turística teatralizada. \nActividad dentro de la Semana del Mayor. \nGratuita. \nPlaza Real. 21 h. \nVer programación completa de la Semana del Mayor.
URL:https://www.sanmartindevaldeiglesias.es/evento/ruta-turistica/
LOCATION:Plaza Real\, Plaza Real Nº1\, San Martín de Valdeiglesias\, Madrid\, 28680\, España
CATEGORIES:Bienestar social
END:VEVENT
BEGIN:VEVENT
DTSTART;TZID=Europe/Madrid:20240726T210000
DTEND;TZID=Europe/Madrid:20240726T223000
DTSTAMP:20260420T111209
CREATED:20240716T124434Z
LAST-MODIFIED:20240716T124602Z
UID:26003-1722027600-1722033000@www.sanmartindevaldeiglesias.es
SUMMARY:Concierto: Clásicos en verano
DESCRIPTION:Concierto Cantar a la Guitarra\, por la compañía Collegium Musicum Madrid. \nIntérpretes: Manuel Minguillón (guitarra)\, Sergio Suárez (violín)\, Isabel Juárez (viola)\, Guillermo Turina (Violonchelo). \nPROGRAMA: \nFernando Ferandiere (1740-1816)\nCuarteto 4 Re Mayor (Allegro con brio – Minueto Allegro – Rondo Allegretto) \nCuarteto 5 en Re menor (Fuga – Minué Andante Amoroso) \nRondo Allegro  (Cuarteto 3 Si menor) \nCuarteto 6 en re menor (Allegro – Adagio – Allegro final) \nCuarteto 8 en Mi menor (Adagio. Un poco Andante – Minueto Alemán vivo) \nRondo Cómodo (Cuarteto 2 en Fa Mayor) \nNotas al programa:  En el concierto se interpretarán obras procedentes del fondo inédito de partituras d Fernando Ferandiere\, propiedad de la Casa de Navascués (Navarra)\,  auténtico pionero de la guitarra de cámara\, a finales del siglo XVIII. \nEntrada gratuita hasta completar aforo. \nConcierto dentro del ciclo Clásicos en Verano\, impulsado por la Comunidad de Madrid. \nEste concierto también forma parte de los actos programados con motivo de la Semana del Mayor. 
URL:https://www.sanmartindevaldeiglesias.es/evento/concierto-clasicos-en-verano-4/
LOCATION:Iglesia Parroquial\, Plaza Real\, s/n\, San Martín de Valdeiglesias\, Madrid\, 28680\, España
CATEGORIES:Bienestar social,Conciertos
END:VEVENT
BEGIN:VEVENT
DTSTART;TZID=Europe/Madrid:20240726T223000
DTEND;TZID=Europe/Madrid:20240726T233000
DTSTAMP:20260420T111209
CREATED:20240724T080925Z
LAST-MODIFIED:20240724T080925Z
UID:26020-1722033000-1722036600@www.sanmartindevaldeiglesias.es
SUMMARY:Presentación cartel taurino
DESCRIPTION:Acto de presentación del cartel con el que se anunciará a los participantes de la Feria 2024. \nLugar: Glorieta de la Plaza de Toros. \nEl acto será presentado por la periodista taurina Beatriz García. \nViernes\, 26 de julio. 22:30 h. \nLugar: Glorieta junto a la plaza de toros. \n 
URL:https://www.sanmartindevaldeiglesias.es/evento/presentacion-cartel-taurino/
LOCATION:Plaza de toros
CATEGORIES:Fiestas
END:VEVENT
BEGIN:VEVENT
DTSTART;TZID=Europe/Madrid:20240727T210000
DTEND;TZID=Europe/Madrid:20240727T230000
DTSTAMP:20260420T111209
CREATED:20240621T122225Z
LAST-MODIFIED:20240716T122410Z
UID:25978-1722114000-1722121200@www.sanmartindevaldeiglesias.es
SUMMARY:Tributo a Manolo Escobar
DESCRIPTION:Concierto tributo a Manolo Escobar. \nRetirada de invitaciones en el Ayuntamiento. (Plaza Real\, 1\, De lunes a viernes en horario de 8 a 15 h.). \nVer programación completa de la Semana del Mayor
URL:https://www.sanmartindevaldeiglesias.es/evento/tributo-a-manolo-escobar/
LOCATION:Plaza de toros
CATEGORIES:Bienestar social,Conciertos
END:VEVENT
END:VCALENDAR