BEGIN:VCALENDAR
VERSION:2.0
PRODID:-//San Martín de Valdeiglesias - ECPv6.15.20//NONSGML v1.0//EN
CALSCALE:GREGORIAN
METHOD:PUBLISH
X-WR-CALNAME:San Martín de Valdeiglesias
X-ORIGINAL-URL:https://www.sanmartindevaldeiglesias.es
X-WR-CALDESC:Eventos para San Martín de Valdeiglesias
REFRESH-INTERVAL;VALUE=DURATION:PT1H
X-Robots-Tag:noindex
X-PUBLISHED-TTL:PT1H
BEGIN:VTIMEZONE
TZID:Europe/Madrid
BEGIN:DAYLIGHT
TZOFFSETFROM:+0100
TZOFFSETTO:+0200
TZNAME:CEST
DTSTART:20240331T010000
END:DAYLIGHT
BEGIN:STANDARD
TZOFFSETFROM:+0200
TZOFFSETTO:+0100
TZNAME:CET
DTSTART:20241027T010000
END:STANDARD
BEGIN:DAYLIGHT
TZOFFSETFROM:+0100
TZOFFSETTO:+0200
TZNAME:CEST
DTSTART:20250330T010000
END:DAYLIGHT
BEGIN:STANDARD
TZOFFSETFROM:+0200
TZOFFSETTO:+0100
TZNAME:CET
DTSTART:20251026T010000
END:STANDARD
BEGIN:DAYLIGHT
TZOFFSETFROM:+0100
TZOFFSETTO:+0200
TZNAME:CEST
DTSTART:20260329T010000
END:DAYLIGHT
BEGIN:STANDARD
TZOFFSETFROM:+0200
TZOFFSETTO:+0100
TZNAME:CET
DTSTART:20261025T010000
END:STANDARD
END:VTIMEZONE
BEGIN:VEVENT
DTSTART;VALUE=DATE:20250321
DTEND;VALUE=DATE:20250415
DTSTAMP:20260420T132904
CREATED:20250318T135356Z
LAST-MODIFIED:20250331T113110Z
UID:27745-1742515200-1744675199@www.sanmartindevaldeiglesias.es
SUMMARY:Exposición: Rebelde
DESCRIPTION:Joaquín Ortiz\, vecino de San Martín de Valdeiglesias conocido por crear objetos de decoración a partir de materiales reciclados dándoles una segunda vida\,  nos mostrará sus últimos trabajos en una exposición temporal que lleva el título de «Rebelde». \nFechas: Del 21 de marzo al 14 de abril de 2025. \nHorario de lunes a viernes de 10 a 14:30 y de 17 a 19 h.  Sábados y domingos de 11 a 13:30 h.   \nInauguración: 21 de marzo de 2025\, a las 13h. \nCentro cultural La Estación.  
URL:https://www.sanmartindevaldeiglesias.es/evento/exposicion-rebelde/
LOCATION:Centro cultural «La Estación»\, Av. del Ferrocarril\, 14B\,\, San Martín de Valdeiglesias\, Madrid\, 28680\, España
CATEGORIES:Exposiciones
END:VEVENT
BEGIN:VEVENT
DTSTART;TZID=Europe/Madrid:20250403T173000
DTEND;TZID=Europe/Madrid:20250403T183000
DTSTAMP:20260420T132904
CREATED:20250402T082009Z
LAST-MODIFIED:20250402T085001Z
UID:27843-1743701400-1743705000@www.sanmartindevaldeiglesias.es
SUMMARY:Club de lectura juvenil
DESCRIPTION:Reunión del club de lectura juvenil\, impulsado por la biblioteca municipal.\nEdad recomendada: 10 – 18 años.
URL:https://www.sanmartindevaldeiglesias.es/evento/club-de-lectura-juvenil/
LOCATION:Biblioteca Municipal\, C/ Fuente\, 4\, San Martín de Valdeiglesias\, Madrid\, 28680\, España
CATEGORIES:Encuentro cultural
END:VEVENT
BEGIN:VEVENT
DTSTART;TZID=Europe/Madrid:20250404T173000
DTEND;TZID=Europe/Madrid:20250404T183000
DTSTAMP:20260420T132904
CREATED:20250402T085455Z
LAST-MODIFIED:20250402T085455Z
UID:27850-1743787800-1743791400@www.sanmartindevaldeiglesias.es
SUMMARY:Club de lectura. Adultos
DESCRIPTION:Reunión del club de lectura dirigido a personas adultas\, impulsado por la Biblioteca municipal. \nEdad recomendada: Mayores de 18 años.  Gratuito.
URL:https://www.sanmartindevaldeiglesias.es/evento/club-de-lectura-adultos/
LOCATION:Biblioteca Municipal\, C/ Fuente\, 4\, San Martín de Valdeiglesias\, Madrid\, 28680\, España
CATEGORIES:Encuentro cultural
END:VEVENT
BEGIN:VEVENT
DTSTART;TZID=Europe/Madrid:20250405T180000
DTEND;TZID=Europe/Madrid:20250405T193000
DTSTAMP:20260420T132904
CREATED:20250331T101832Z
LAST-MODIFIED:20250331T101949Z
UID:27815-1743876000-1743881400@www.sanmartindevaldeiglesias.es
SUMMARY:VI Gala Pinche
DESCRIPTION:Entrega de galardones a personas o instituciones que han destacado durante el año. \nSábado\, 5 de abril en el Teatro Municipal\, a las 18:00 horas.\nApertura de puertas a las 17.30h. Entrada gratuita\, aforo limitado.
URL:https://www.sanmartindevaldeiglesias.es/evento/vi-gala-pinche/
LOCATION:Teatro municipal\, Calle Fuente 4\, San Martín de Valdeiglesias\, Madrid\, 28680\, España
CATEGORIES:Participacion ciudadana
END:VEVENT
BEGIN:VEVENT
DTSTART;TZID=Europe/Madrid:20250406T200000
DTEND;TZID=Europe/Madrid:20250406T210000
DTSTAMP:20260420T132904
CREATED:20250317T102458Z
LAST-MODIFIED:20250317T102458Z
UID:27735-1743969600-1743973200@www.sanmartindevaldeiglesias.es
SUMMARY:Concierto: Marchas de procesión
DESCRIPTION:Concierto  organizado por la Unión Musical de San Martín de Valdeiglesias\, en colaboración con el Ayuntamiento de San Martín de Valdeiglesias\, preludio de la Semana Santa. \nTemática: Marchas de procesión. \nIntérprete:  Unión Musical de San Martín de Valdeiglesias. \nDirector: Sergio Redondo. \nEntrada gratuita.
URL:https://www.sanmartindevaldeiglesias.es/evento/concierto-marchas-de-procesion-5/
LOCATION:Iglesia Parroquial\, Plaza Real\, s/n\, San Martín de Valdeiglesias\, Madrid\, 28680\, España
CATEGORIES:Conciertos
END:VEVENT
BEGIN:VEVENT
DTSTART;TZID=Europe/Madrid:20250407T173000
DTEND;TZID=Europe/Madrid:20250407T183000
DTSTAMP:20260420T132904
CREATED:20250402T085908Z
LAST-MODIFIED:20250402T085908Z
UID:27852-1744047000-1744050600@www.sanmartindevaldeiglesias.es
SUMMARY:Detective en la biblioteca
DESCRIPTION:Actividad de animación a la lectura dirigida a niños. \nResuelve el misterio de la biblioteca mediante pruebas y acertijos. \nEdad recomendada: 10 años. \n \n 
URL:https://www.sanmartindevaldeiglesias.es/evento/detective-en-la-biblioteca/
LOCATION:Biblioteca Municipal\, C/ Fuente\, 4\, San Martín de Valdeiglesias\, Madrid\, 28680\, España
CATEGORIES:Encuentro cultural
END:VEVENT
BEGIN:VEVENT
DTSTART;TZID=Europe/Madrid:20250410T173000
DTEND;TZID=Europe/Madrid:20250410T183000
DTSTAMP:20260420T132904
CREATED:20250402T090241Z
LAST-MODIFIED:20250402T090241Z
UID:27854-1744306200-1744309800@www.sanmartindevaldeiglesias.es
SUMMARY:Taller escritura juvenil
DESCRIPTION:Si te gusta escribir relatos alucinantes\,  versos que conmueven o cuentos locos… No lo dudes ¡Ven a la biblioteca! \nTaller de escritura creativa. Edad recomendada: desde los 7 años.
URL:https://www.sanmartindevaldeiglesias.es/evento/taller-escritura-juvenil/
LOCATION:Biblioteca Municipal\, C/ Fuente\, 4\, San Martín de Valdeiglesias\, Madrid\, 28680\, España
CATEGORIES:Encuentro cultural
END:VEVENT
BEGIN:VEVENT
DTSTART;VALUE=DATE:20250411
DTEND;VALUE=DATE:20250422
DTSTAMP:20260420T132904
CREATED:20250415T114401Z
LAST-MODIFIED:20250415T114401Z
UID:27941-1744329600-1745279999@www.sanmartindevaldeiglesias.es
SUMMARY:Semana Santa
DESCRIPTION:Ir al programa de actividades para disfrutar de la Semana Santa en San Martín de Valdeiglesias.
URL:https://www.sanmartindevaldeiglesias.es/evento/semana-santa-2/
LOCATION:Madrid
CATEGORIES:Fiestas
END:VEVENT
BEGIN:VEVENT
DTSTART;VALUE=DATE:20250412
DTEND;VALUE=DATE:20250413
DTSTAMP:20260420T132904
CREATED:20250320T123825Z
LAST-MODIFIED:20250320T123825Z
UID:27763-1744416000-1744502399@www.sanmartindevaldeiglesias.es
SUMMARY:Torneo Fútbol 7 benjamín
DESCRIPTION:Torneo de fútbol 7\, categoría benjamín\, organizado por el Club de Fútbol Atlético Valdeiglesias. \nEquipos participantes: Trival Valderas\,  Escuela de Fútbol de Carabanchel\,  Club Deportivo Móstoles\, Club Deportivo Móstoles\, Club Deportivo Colegios Diocesanos\, Getafe Club de Fútbol\, Real Ávila\, Club Élite Talavera\, Club de Fútbol de Fuenlabrada\, Rayo Majadahonda… \nEn el campo de Fútbol José Rodríguez. \nComienzo del torneo: 9:30 h. \n 
URL:https://www.sanmartindevaldeiglesias.es/evento/torneo-futbol-7-benjamin/
LOCATION:Campo de fútbol
CATEGORIES:Deportes
END:VEVENT
BEGIN:VEVENT
DTSTART;TZID=Europe/Madrid:20250412T090000
DTEND;TZID=Europe/Madrid:20250412T160000
DTSTAMP:20260420T132904
CREATED:20250305T114934Z
LAST-MODIFIED:20250305T114934Z
UID:27674-1744448400-1744473600@www.sanmartindevaldeiglesias.es
SUMMARY:Trasierra Trail. Carrera
DESCRIPTION:  \n \nCarrera de montaña organizada por la concejalía de Deportes del Ayuntamiento de San Martin de Valdeiglesias. \nHay dos modalidades: carrera de 22 kms. para los más preparados\, y de 12 Kms. \nLas inscripciones se realizan  través de la web compratudorsal.com\,  tienen un coste de 22 € y 18 €\, dependiendo de la modalidad\, aunque\, a partir del 15 marzo\, subirán de precio hasta los 30 € y los 26 €\, respectivamente. \nEl precio incluye: Avituallamiento durante la carrera y al finalizar la misma\, asistencia médica\, bolsa de corredor\, servicio de piscina y sauna durante el día siguiente a la carrera\, reportaje aéreo de la carrera\, vídeos y fotos. \nHay premios en metálico para la 1º\, 2º y 3º categoría. \n Mapa del recorrido: \nRecorrido. Tramo de 20 kms. Ver en Wikiloc. \nRecorrido 12 Kms.
URL:https://www.sanmartindevaldeiglesias.es/evento/trasierra-trail-carrera/
LOCATION:Madrid
CATEGORIES:Deportes
END:VEVENT
BEGIN:VEVENT
DTSTART;TZID=Europe/Madrid:20250412T200000
DTEND;TZID=Europe/Madrid:20250412T213000
DTSTAMP:20260420T132904
CREATED:20250108T124710Z
LAST-MODIFIED:20250108T124710Z
UID:27221-1744488000-1744493400@www.sanmartindevaldeiglesias.es
SUMMARY:Teatro: Goteras
DESCRIPTION:Goteras\nMic Producciones y Producciones 099.  \nIntérpretes: Fernando Albizu\, Gonzalo Ramos\, Gloria Albalate. \nEdad recomendada: A partir de 16 años. \nDuración: 90 minutos. \nAutoría: Marc de la Varga. \nSinopsis:  Toni es un joven dramaturgo con un futuro prometedor. Una noche cualquiera\, aparecen unas goteras en su techo. Lo que debería ser un simple accidente doméstico\, se acaba transformando en el momento más importante de su vida\, cuando descubre que su vecino es él mismo treinta años más tarde. Las cosas en el futuro no parecen haber ido como Toni se imaginaba y las dos réplicas intentarán modificar aquello que ha fallado en el presente\, para conseguir así el mejor futuro posible. \nPrecio de las entradas:  \n\nVenta anticipada  general 15 €.  Venta anticipada con descuento: 11 €.  Descuentos para menores hasta los 14 años\, usuarios del carné joven\,  mayores de 65 años y personas con discapacidad de más del 33 %.\nVenta anticipada en el centro cultural La Estación. Teléfono 91 861 24 20.\nEntradas en taquilla: 18 €.  (Precio único).\n\nEspectáculo dentro del abono teatro de la temporada.   \nCon el apoyo de la Red de Teatros de la Comunidad de Madrid.
URL:https://www.sanmartindevaldeiglesias.es/evento/teatro-goteras/
LOCATION:Teatro municipal\, Calle Fuente 4\, San Martín de Valdeiglesias\, Madrid\, 28680\, España
CATEGORIES:Teatro
END:VEVENT
BEGIN:VEVENT
DTSTART;TZID=Europe/Madrid:20250415T093000
DTEND;TZID=Europe/Madrid:20250415T130000
DTSTAMP:20260420T132904
CREATED:20250401T112426Z
LAST-MODIFIED:20250401T112426Z
UID:27832-1744709400-1744722000@www.sanmartindevaldeiglesias.es
SUMMARY:Oficina de empleo móvil
DESCRIPTION:La oficina de empleo móvil de la Comunidad de Madrid visitará en San Martín en las próximas fechas: \n\nMartes 15 de abril 2025 de 9:30 h. a 13 h. (debido a la feria de atracciones\, se atenderá a los ciudadanos en el interior del hogar del pensionista).  \n\nTrámites que se pueden realizar: Inscripción y renovación de la demanda de empleo\, información sobre ofertas y cursos de formación\, orientación laboral…
URL:https://www.sanmartindevaldeiglesias.es/evento/oficina-de-empleo-movil-duplicate-1-3/
LOCATION:Centro de ocio de la Tercera Edad\, Avda. Félix Rodríguez de la Fuente\,\, San Martín de Valdeiglesias\, Madrid\, 28680\, España
CATEGORIES:Desarrollo económico
END:VEVENT
BEGIN:VEVENT
DTSTART;TZID=Europe/Madrid:20250423T170000
DTEND;TZID=Europe/Madrid:20250423T180000
DTSTAMP:20260420T132904
CREATED:20250402T091559Z
LAST-MODIFIED:20250402T091559Z
UID:27856-1745427600-1745431200@www.sanmartindevaldeiglesias.es
SUMMARY:El Quijote. Lectura
DESCRIPTION:La biblioteca municipal celebra el día del libro con la lectura de El Quijote\, desde una mirada divertida y desenfadada. \n«- Paréceme\, Sancho\, que tienes mucho miedo. \n– Sí tengo -respondió Sancho-\, más ¿en qué lo echa de ver vuestra merced ahora más que nunca? \n– En que ahora más que nunca hueles\, y no a ámbar -respondió don Quijote. « \n  \nEdad recomendada: todos los públicos. \n 
URL:https://www.sanmartindevaldeiglesias.es/evento/el-quijote-lectura/
LOCATION:Biblioteca Municipal\, C/ Fuente\, 4\, San Martín de Valdeiglesias\, Madrid\, 28680\, España
CATEGORIES:Encuentro cultural
END:VEVENT
BEGIN:VEVENT
DTSTART;VALUE=DATE:20250424
DTEND;VALUE=DATE:20250510
DTSTAMP:20260420T132904
CREATED:20250422T111022Z
LAST-MODIFIED:20250422T111349Z
UID:27951-1745452800-1746835199@www.sanmartindevaldeiglesias.es
SUMMARY:Exposición acuarelas
DESCRIPTION:Exposición de Acuarelas de Antonio Amores.\nDel 24 de abril al 9 de mayo 2025.\nHorario de visita de lunes a viernes de 10 a 15 h y de 17 a 20 h.\nInauguración el jueves 24\, a las 18 h.
URL:https://www.sanmartindevaldeiglesias.es/evento/exposicion-acuarelas/
LOCATION:Centro cultural «La Estación»\, Av. del Ferrocarril\, 14B\,\, San Martín de Valdeiglesias\, Madrid\, 28680\, España
CATEGORIES:Exposiciones
END:VEVENT
BEGIN:VEVENT
DTSTART;TZID=Europe/Madrid:20250424T173000
DTEND;TZID=Europe/Madrid:20250424T183000
DTSTAMP:20260420T132904
CREATED:20250402T092926Z
LAST-MODIFIED:20250402T092926Z
UID:27858-1745515800-1745519400@www.sanmartindevaldeiglesias.es
SUMMARY:Cuentacuentos
DESCRIPTION:Cuentos bombáticos Con: Inma Muñoz\n\n\n\n\n\n¿Sabes qué es un libro bombático?. ¿Sobre qué tratará?. ¿Será divertido o será un tostón?. ¿Te atreves a descubrirlo? No te pierdas esta sesión de cuentos… ¡bombática! \nEdad recomendada: Desde los 3 años.
URL:https://www.sanmartindevaldeiglesias.es/evento/cuentacuentos-25/
LOCATION:Biblioteca Municipal\, C/ Fuente\, 4\, San Martín de Valdeiglesias\, Madrid\, 28680\, España
CATEGORIES:Encuentro cultural
END:VEVENT
BEGIN:VEVENT
DTSTART;TZID=Europe/Madrid:20250427T180000
DTEND;TZID=Europe/Madrid:20250427T200000
DTSTAMP:20260420T132904
CREATED:20250305T113008Z
LAST-MODIFIED:20250409T083338Z
UID:27669-1745776800-1745784000@www.sanmartindevaldeiglesias.es
SUMMARY:Corrida de toros
DESCRIPTION:Festejo de la fase clasificatoria de la Copa Chenel\, impulsado por la Comunidad de Madrid y la Fundación Toro de Lidia. \nToros de la Condesa de Sobral y de José Luis Pereda para los Matadores: \n\nRubén Piñar\nRuiz Muñoz\nAlejandro Peñaranda.\n\nVenta de entradas: \n\nEn el Ayuntamiento de San Martín de Valdeiglesias\, una semana antes.\nEn las taquillas de la plaza de toros. El día del festejo de 11 a 14 h y desde las 15:30 h. hasta el inicio de éste.\n\nPrecio de las entradas:  General:  15 € – Menores de 26 años\, mayores de 65 años\, amigos de la Fundación Toro de Lidia y grupos de más de 10 personas: 10 €.  Menores de 18 años: gratis. \nComienzo del festejo: 18 h.
URL:https://www.sanmartindevaldeiglesias.es/evento/corrida-de-toros-3/
LOCATION:Plaza de toros
CATEGORIES:Fiestas
END:VEVENT
BEGIN:VEVENT
DTSTART;TZID=Europe/Madrid:20250429T200000
DTEND;TZID=Europe/Madrid:20250429T213000
DTSTAMP:20260420T132904
CREATED:20250424T112833Z
LAST-MODIFIED:20250424T112833Z
UID:27966-1745956800-1745962200@www.sanmartindevaldeiglesias.es
SUMMARY:Audición: flauta travesera
DESCRIPTION:  \n\n29 abril 2025. Audición del aula de flauta travesera y flauta de pico.  Auditorio de la Escuela de Música. 20 h.\n\n  \n\n9 mayo 2025. Orquesta infantil y viento metal (trompeta\, trombón\, bombardino\, tuba). Auditorio de la Escuela de Música. 19 h.\n12 mayo 2025. Música actual. Auditorio de la Escuela de Música. 19 h.\n13 mayo 2025. Audición de las aulas de clarinete y percusión. Auditorio de la Escuela de Música. 20 h.\n14 mayo 2025.  Audición del aula de percusión. Auditorio de la Escuela de Música. 20 h.\n20 mayo 2025. Audición del aula de piano. Auditorio de la Escuela de Música. 20 h.\n26 mayo 2025. Audición del aula de violín. Auditorio de la Escuela de Música. 19 h.\n28 mayo 2025. Técnica de Canto. Auditorio de la Escuela de Música. 20 h.\n30 mayo 2025. Audición de guitarra. Auditorio de la Escuela de Música. 19 h.\n4 junio 2025.  Audición del aula de iniciación. Teatro Municipal. 20 h.\n18 junio 2025.  Concierto de fin de curso. Teatro Municipal. 20 h.\n\nLa asistencia a las audiciones es gratuita.
URL:https://www.sanmartindevaldeiglesias.es/evento/audicion-flauta-travesera/
LOCATION:Escuela Municipal de Música y Danza «Maestro Joaquín Rodrigo»\, General Martinez Benito 4\, San Martín de Valdeiglesias\, Madrid\, 28680\, España
CATEGORIES:Conciertos
END:VEVENT
END:VCALENDAR