BEGIN:VCALENDAR
VERSION:2.0
PRODID:-//San Martín de Valdeiglesias - ECPv6.15.20//NONSGML v1.0//EN
CALSCALE:GREGORIAN
METHOD:PUBLISH
X-ORIGINAL-URL:https://www.sanmartindevaldeiglesias.es
X-WR-CALDESC:Eventos para San Martín de Valdeiglesias
REFRESH-INTERVAL;VALUE=DURATION:PT1H
X-Robots-Tag:noindex
X-PUBLISHED-TTL:PT1H
BEGIN:VTIMEZONE
TZID:Europe/Madrid
BEGIN:DAYLIGHT
TZOFFSETFROM:+0100
TZOFFSETTO:+0200
TZNAME:CEST
DTSTART:20240331T010000
END:DAYLIGHT
BEGIN:STANDARD
TZOFFSETFROM:+0200
TZOFFSETTO:+0100
TZNAME:CET
DTSTART:20241027T010000
END:STANDARD
BEGIN:DAYLIGHT
TZOFFSETFROM:+0100
TZOFFSETTO:+0200
TZNAME:CEST
DTSTART:20250330T010000
END:DAYLIGHT
BEGIN:STANDARD
TZOFFSETFROM:+0200
TZOFFSETTO:+0100
TZNAME:CET
DTSTART:20251026T010000
END:STANDARD
BEGIN:DAYLIGHT
TZOFFSETFROM:+0100
TZOFFSETTO:+0200
TZNAME:CEST
DTSTART:20260329T010000
END:DAYLIGHT
BEGIN:STANDARD
TZOFFSETFROM:+0200
TZOFFSETTO:+0100
TZNAME:CET
DTSTART:20261025T010000
END:STANDARD
END:VTIMEZONE
BEGIN:VEVENT
DTSTART;VALUE=DATE:20250424
DTEND;VALUE=DATE:20250510
DTSTAMP:20260420T145010
CREATED:20250422T111022Z
LAST-MODIFIED:20250422T111349Z
UID:27951-1745452800-1746835199@www.sanmartindevaldeiglesias.es
SUMMARY:Exposición acuarelas
DESCRIPTION:Exposición de Acuarelas de Antonio Amores.\nDel 24 de abril al 9 de mayo 2025.\nHorario de visita de lunes a viernes de 10 a 15 h y de 17 a 20 h.\nInauguración el jueves 24\, a las 18 h.
URL:https://www.sanmartindevaldeiglesias.es/evento/exposicion-acuarelas/
LOCATION:Centro cultural «La Estación»\, Av. del Ferrocarril\, 14B\,\, San Martín de Valdeiglesias\, Madrid\, 28680\, España
CATEGORIES:Exposiciones
END:VEVENT
BEGIN:VEVENT
DTSTART;VALUE=DATE:20250501
DTEND;VALUE=DATE:20250505
DTSTAMP:20260420T145010
CREATED:20250404T112843Z
LAST-MODIFIED:20250506T082541Z
UID:27872-1746057600-1746403199@www.sanmartindevaldeiglesias.es
SUMMARY:Feria Flamenca
DESCRIPTION:Del 1 al 4 de mayo.  Plaza de Toros de San Martín de Valdeiglesias (Aplazado debido a las lluvias) \nJueves\, 1 mayo 2025.  \n\n21:00 h. Inauguración\n22:30 h. Espectáculo raza\, pureza y arte de Rocío Durán.\nHasta las 4.30 h. Música\, sevillanas y flamenco.\n\nViernes\, 2 mayo 2025.  \n\n12:00 h. Apertura de Feria\n13:30 h. Actuación escuela de baile Gemma Flamenco.\n14:00 – 20:00 h. Música\, sevillanas\, flamenco.\n20:00 h. Concurso de vestido flamenco.\n22:30 h. Actuación del grupo Los Requiebros.\n00 a 4:30 h. Música\, sevillanas\, flamenco.\n\nSábado\, 3 mayo 2025.  \n\n12:00 h. Apertura de la Feria\n12:30 h. Actuación del grupo flamenco Arte & Compás de El Tiemblo.\n13:00 h. Actuación de la asociación Talismán.\n14:30 – 17:00 h. Música\, flamenco\, sevillanas.\n19:00 h. Escuela de baile de Robledo de Chavela.\n21:00 h. Concurso de Sevillanas\, por parejas.\n23:00 h. Actuación de flamenco ATR3S\n00:30 – 4:30 h. Música\, sevillanas\, flamenco.\n\nDomingo\, 4 mayo 2025.  \n\n12:00 h. Apertura Feria\n12:30 h. Actuación Peña flamenca San Martín de Valdeiglesias.\n13:30 – 15:30 h. Música\, sevillanas\, flamenco…\n16:00 h. Actuación de Jonathan España: Los penúltimos acordes de España.\n18:30 h. Clausura de la Feria.
URL:https://www.sanmartindevaldeiglesias.es/evento/feria-flamenca-6/
LOCATION:Plaza de toros
CATEGORIES:Fiestas
END:VEVENT
BEGIN:VEVENT
DTSTART;VALUE=DATE:20250502
DTEND;VALUE=DATE:20250503
DTSTAMP:20260420T145010
CREATED:20250430T080858Z
LAST-MODIFIED:20250430T080907Z
UID:28004-1746144000-1746230399@www.sanmartindevaldeiglesias.es
SUMMARY:Cristo de la Humildad
DESCRIPTION:La hermandad del Cristo de la Humildad\, celebra su día con la realización del siguiente programa de actos: \nVIERNES\, 2 de MAYO 2025.  \n\n8:30 h. Diana floreada acompañados por la Unión Musical de San Martín de Valdeiglesias\, a continuación chocolate para todos en la Plaza de la Corredera.\n11:00 h. Procesión con la imagen del Cristo\, por las calles de la localidad.\n12:00 h. Misa.\n18:00 h. Procesión desde la iglesia parroquial hasta la ermita de la Sangre.
URL:https://www.sanmartindevaldeiglesias.es/evento/cristo-de-la-humildad/
LOCATION:Madrid
CATEGORIES:Fiestas
END:VEVENT
BEGIN:VEVENT
DTSTART;TZID=Europe/Madrid:20250508T181500
DTEND;TZID=Europe/Madrid:20250508T190000
DTSTAMP:20260420T145010
CREATED:20250505T091649Z
LAST-MODIFIED:20250505T091649Z
UID:28008-1746728100-1746730800@www.sanmartindevaldeiglesias.es
SUMMARY:Club de lectura
DESCRIPTION:Club de lectura juvenil\, dirigido a los jóvenes entre los 10 y 18 años. \nInscripciones en la biblioteca. \nJueves\, 8 de mayo\, 18:15 h.  
URL:https://www.sanmartindevaldeiglesias.es/evento/club-de-lectura-2/
LOCATION:Biblioteca Municipal\, C/ Fuente\, 4\, San Martín de Valdeiglesias\, Madrid\, 28680\, España
CATEGORIES:Encuentro cultural
END:VEVENT
BEGIN:VEVENT
DTSTART;TZID=Europe/Madrid:20250509T190000
DTEND;TZID=Europe/Madrid:20250509T203000
DTSTAMP:20260420T145010
CREATED:20250424T113006Z
LAST-MODIFIED:20250424T113049Z
UID:27969-1746817200-1746822600@www.sanmartindevaldeiglesias.es
SUMMARY:Audición: orquesta infantil
DESCRIPTION:  \n\n9 mayo 2025. Orquesta infantil y viento metal (trompeta\, trombón\, bombardino\, tuba). Auditorio de la Escuela de Música. 19 h.\n\n  \n\n12 mayo 2025. Música actual. Auditorio de la Escuela de Música. 19 h.\n13 mayo 2025. Audición de las aulas de clarinete y percusión. Auditorio de la Escuela de Música. 20 h.\n14 mayo 2025.  Audición del aula de percusión. Auditorio de la Escuela de Música. 20 h.\n20 mayo 2025. Audición del aula de piano. Auditorio de la Escuela de Música. 20 h.\n26 mayo 2025. Audición del aula de violín. Auditorio de la Escuela de Música. 19 h.\n28 mayo 2025. Técnica de Canto. Auditorio de la Escuela de Música. 20 h.\n30 mayo 2025. Audición de guitarra. Auditorio de la Escuela de Música. 19 h.\n4 junio 2025.  Audición del aula de iniciación. Teatro Municipal. 20 h.\n18 junio 2025.  Concierto de fin de curso. Teatro Municipal. 20 h.\n\nLa asistencia a las audiciones es gratuita.
URL:https://www.sanmartindevaldeiglesias.es/evento/audicion-flauta-travesera-duplicate-1/
LOCATION:Escuela Municipal de Música y Danza «Maestro Joaquín Rodrigo»\, General Martinez Benito 4\, San Martín de Valdeiglesias\, Madrid\, 28680\, España
CATEGORIES:Conciertos
END:VEVENT
BEGIN:VEVENT
DTSTART;TZID=Europe/Madrid:20250510T180000
DTEND;TZID=Europe/Madrid:20250510T190000
DTSTAMP:20260420T145010
CREATED:20250508T112037Z
LAST-MODIFIED:20250508T112037Z
UID:28038-1746900000-1746903600@www.sanmartindevaldeiglesias.es
SUMMARY:Concierto de San Isidro
DESCRIPTION:Concierto de la Unión Musical de San Martín de Valdeiglesias\, para celebrar la proximidad del día de de San Isidro\, patrón de los agricultores. \nHabrá limonada y dulces típicos para todos. \nCon la participación de la asociación Ecos de Amistad y Mujeres en Igualdad. \nSábado 10 de mayo 2025.  18 h. Escuela Municipal de Música y Danza.
URL:https://www.sanmartindevaldeiglesias.es/evento/concierto-de-san-isidro/
LOCATION:Escuela Municipal de Música y Danza «Maestro Joaquín Rodrigo»\, General Martinez Benito 4\, San Martín de Valdeiglesias\, Madrid\, 28680\, España
CATEGORIES:Conciertos
END:VEVENT
BEGIN:VEVENT
DTSTART;TZID=Europe/Madrid:20250512T093000
DTEND;TZID=Europe/Madrid:20250512T130000
DTSTAMP:20260420T145010
CREATED:20250410T164119Z
LAST-MODIFIED:20250410T164218Z
UID:27918-1747042200-1747054800@www.sanmartindevaldeiglesias.es
SUMMARY:DNI
DESCRIPTION:Renovación/Expedición del DNI en San Martín de Valdeiglesias.  Un equipo de Atención Rural de la Policía se desplaza a San Martín de forma periódica para renovar/expedir el DNI a los ciudadanos\, ahorrando desplazamientos. \nPróximo día: 12 de mayo de 2025\, a partir de las 9:30 h. Recogida el 14 de mayo 2025. Es necesario concertar cita previa en el teléfono 918 194 422.  Información sobre documentación necesaria y tasas.
URL:https://www.sanmartindevaldeiglesias.es/evento/dni-duplicate-1-2/
LOCATION:Ayuntamiento
CATEGORIES:Servicios a la ciudadanía
END:VEVENT
BEGIN:VEVENT
DTSTART;TZID=Europe/Madrid:20250512T190000
DTEND;TZID=Europe/Madrid:20250512T203000
DTSTAMP:20260420T145010
CREATED:20250424T113403Z
LAST-MODIFIED:20250424T113403Z
UID:27972-1747076400-1747081800@www.sanmartindevaldeiglesias.es
SUMMARY:Audición: Música actual
DESCRIPTION:12 mayo 2025. Música actual. Auditorio de la Escuela de Música. 19 h.\n\n  \n\n13 mayo 2025. Audición de las aulas de clarinete y percusión. Auditorio de la Escuela de Música. 20 h.\n14 mayo 2025.  Audición del aula de percusión. Auditorio de la Escuela de Música. 20 h.\n20 mayo 2025. Audición del aula de piano. Auditorio de la Escuela de Música. 20 h.\n26 mayo 2025. Audición del aula de violín. Auditorio de la Escuela de Música. 19 h.\n28 mayo 2025. Técnica de Canto. Auditorio de la Escuela de Música. 20 h.\n30 mayo 2025. Audición de guitarra. Auditorio de la Escuela de Música. 19 h.\n4 junio 2025.  Audición del aula de iniciación. Teatro Municipal. 20 h.\n18 junio 2025.  Concierto de fin de curso. Teatro Municipal. 20 h.\n\nLa asistencia a las audiciones es gratuita.
URL:https://www.sanmartindevaldeiglesias.es/evento/audicion-musica-actual/
LOCATION:Escuela Municipal de Música y Danza «Maestro Joaquín Rodrigo»\, General Martinez Benito 4\, San Martín de Valdeiglesias\, Madrid\, 28680\, España
CATEGORIES:Conciertos
END:VEVENT
BEGIN:VEVENT
DTSTART;TZID=Europe/Madrid:20250513T121500
DTEND;TZID=Europe/Madrid:20250513T133000
DTSTAMP:20260420T145010
CREATED:20250512T092520Z
LAST-MODIFIED:20250512T092520Z
UID:28067-1747138500-1747143000@www.sanmartindevaldeiglesias.es
SUMMARY:Jardín terapéutico
DESCRIPTION:Los jardines terapéuticos son espacios diseñados para satisfacer las necesidades físicas\, psicológicas y espirituales\,  promoviendo el bienestar psíquico y emocional a través del contacto directo con la naturaleza. \nEl nuevo espacio está situado junto al centro de Ocio y de la Tercera Edad y cerca del centro de Salud\, que ha puesto en marcha el Ayuntamiento\, en colaboración con la asociación Talismán. \nLa primera sesión para realizar actividades de bajo impacto\, se realizará el 13 de mayo 2025\, a las 12:15 h.  Las inscripciones se realizan llamando al teléfono 601 35 03 19. \nLa creación del jardín terapéutico ha sido financiada por la consejería de Sanidad de la Comunidad de Madrid\, a través de una subvención para la realización de actividades para promover la salud en el ámbito municipal.
URL:https://www.sanmartindevaldeiglesias.es/evento/jardin-terapeutico/
LOCATION:Centro de ocio de la Tercera Edad\, Avda. Félix Rodríguez de la Fuente\,\, San Martín de Valdeiglesias\, Madrid\, 28680\, España
CATEGORIES:Salud
END:VEVENT
BEGIN:VEVENT
DTSTART;TZID=Europe/Madrid:20250513T200000
DTEND;TZID=Europe/Madrid:20250513T213000
DTSTAMP:20260420T145010
CREATED:20250424T113557Z
LAST-MODIFIED:20250424T113557Z
UID:27974-1747166400-1747171800@www.sanmartindevaldeiglesias.es
SUMMARY:Audición: Clarinete y saxofón
DESCRIPTION:  \n\n13 mayo 2025. Audición de las aulas de clarinete y percusión. Auditorio de la Escuela de Música. 20 h.\n\n  \n\n14 mayo 2025.  Audición del aula de percusión. Auditorio de la Escuela de Música. 20 h.\n20 mayo 2025. Audición del aula de piano. Auditorio de la Escuela de Música. 20 h.\n26 mayo 2025. Audición del aula de violín. Auditorio de la Escuela de Música. 19 h.\n28 mayo 2025. Técnica de Canto. Auditorio de la Escuela de Música. 20 h.\n30 mayo 2025. Audición de guitarra. Auditorio de la Escuela de Música. 19 h.\n4 junio 2025.  Audición del aula de iniciación. Teatro Municipal. 20 h.\n18 junio 2025.  Concierto de fin de curso. Teatro Municipal. 20 h.\n\nLa asistencia a las audiciones es gratuita.
URL:https://www.sanmartindevaldeiglesias.es/evento/audicion-clarinete-y-saxofon/
LOCATION:Escuela Municipal de Música y Danza «Maestro Joaquín Rodrigo»\, General Martinez Benito 4\, San Martín de Valdeiglesias\, Madrid\, 28680\, España
CATEGORIES:Conciertos
END:VEVENT
BEGIN:VEVENT
DTSTART;TZID=Europe/Madrid:20250514T200000
DTEND;TZID=Europe/Madrid:20250514T213000
DTSTAMP:20260420T145010
CREATED:20250424T113811Z
LAST-MODIFIED:20250424T113811Z
UID:27976-1747252800-1747258200@www.sanmartindevaldeiglesias.es
SUMMARY:Audición: Percusión
DESCRIPTION:  \n\n14 mayo 2025.  Audición del aula de percusión. Auditorio de la Escuela de Música. 20 h.\n\n  \n\n20 mayo 2025. Audición del aula de piano. Auditorio de la Escuela de Música. 20 h.\n26 mayo 2025. Audición del aula de violín. Auditorio de la Escuela de Música. 19 h.\n28 mayo 2025. Técnica de Canto. Auditorio de la Escuela de Música. 20 h.\n30 mayo 2025. Audición de guitarra. Auditorio de la Escuela de Música. 19 h.\n4 junio 2025.  Audición del aula de iniciación. Teatro Municipal. 20 h.\n18 junio 2025.  Concierto de fin de curso. Teatro Municipal. 20 h.\n\nLa asistencia a las audiciones es gratuita.
URL:https://www.sanmartindevaldeiglesias.es/evento/audicion-percusion-3/
LOCATION:Escuela Municipal de Música y Danza «Maestro Joaquín Rodrigo»\, General Martinez Benito 4\, San Martín de Valdeiglesias\, Madrid\, 28680\, España
CATEGORIES:Conciertos
END:VEVENT
BEGIN:VEVENT
DTSTART;VALUE=DATE:20250515
DTEND;VALUE=DATE:20250531
DTSTAMP:20260420T145010
CREATED:20250509T112752Z
LAST-MODIFIED:20250509T113512Z
UID:28059-1747267200-1748649599@www.sanmartindevaldeiglesias.es
SUMMARY:Exposición de pintura
DESCRIPTION:El centro cultural La Estación acogerá una exposición de la artista Gema Pinares (Baeza). \nEsta pintora\, licenciada en Bellas Artes\,  ofrece una experiencia emocional y visual de aproximación al retrato\,  pero también a lo típicamente español\, el mundo taurino\, la espiritualidad y el costumbrismo vistos desde  una óptica profundamente personal. \nLa exposición estará abierta al público desde el 15 al 30 de mayo de 2025.\nHorario de lunes a viernes de 10 a 15 h. y de 17 a 20 h.\nInauguración: jueves 15 mayo\, a las 18 h. \n  \nEntrada libre. \n 
URL:https://www.sanmartindevaldeiglesias.es/evento/exposicion-de-pintura-6/
LOCATION:Centro cultural «La Estación»\, Av. del Ferrocarril\, 14B\,\, San Martín de Valdeiglesias\, Madrid\, 28680\, España
CATEGORIES:Exposiciones
END:VEVENT
BEGIN:VEVENT
DTSTART;VALUE=DATE:20250516
DTEND;VALUE=DATE:20250519
DTSTAMP:20260420T145010
CREATED:20250506T083309Z
LAST-MODIFIED:20250514T105243Z
UID:28028-1747353600-1747612799@www.sanmartindevaldeiglesias.es
SUMMARY:Feria Flamenca
DESCRIPTION:16\, 17 y 18 mayo 2025. Plaza de Toros de San Martín de Valdeiglesias \n\nViernes\, 16 mayo 2025.\n18:00 h. Inauguración\, a continuación: Música\, sevillanas\, flamenco…\n22:30 h. Actuación del grupo «Los Requiebros». Música para todos\, bailoteo\, rumbeo\, flamenquito.\n04:30 h. Clausura de la Feria. \n\nSábado\, 17 mayo 2025. \n12:00 h. Apertura de la Feria.\n12:30 h. Actuación de la asociación Talismán.\n13:00 h. Actuación Escuela de Baile Gemma Flamenco.\n14:00 h. – 17:30 h. Música\, sevillanas\, flamenco…\n17:30 h.  Actuación grupo flamenco Arte & Compás de El Tiemblo (Ávila).\n18:30 h. Actuación Ballet Roble Arte\, Javier Sánchez\, de Robledo de Chavela.\n20:00 h. Concurso al Mejor Traje de Flamenca.  Premio: 100 €.\n22:00 h. Concurso de Baile por parejas. 1º Premio: 150€ \, 2º Premio: 100 €\,  3º Premio: 50 €.\n22:30 h. – 00:00 h.  Música para todos: bailoteo\, rumbeo\, flamenquito.\n00:00 h. Actuación de Jonathan España «Los penúltimos acordes de España».\n02:00 h. – 4:30 h. Música para todos: bailoteo\, rumbeo\, flamenquito.\n04:30 h. Clausura de la Feria.\n\n\nDomingo\, 18 mayo 2025. \n12:00 h. Apertura de la Feria.\n13:00 h. Actuación Peña Flamenca San Martín de Valdeiglesias.\n14:00 h. – 17:30 h. Música\, sevillanas\, flamenco…\n17:30 h. Espectáculo de raza\, pureza y arte de Rocío Durán.\n22:00 h. Clausura de la Feria.\n\nEntrada gratuita. \n 
URL:https://www.sanmartindevaldeiglesias.es/evento/feria-flamenca-7/
LOCATION:Plaza de toros
CATEGORIES:Desarrollo económico,Fiestas
END:VEVENT
BEGIN:VEVENT
DTSTART;TZID=Europe/Madrid:20250517T203000
DTEND;TZID=Europe/Madrid:20250517T220000
DTSTAMP:20260420T145010
CREATED:20250515T150430Z
LAST-MODIFIED:20250515T150430Z
UID:28085-1747513800-1747519200@www.sanmartindevaldeiglesias.es
SUMMARY:Matina y Gospel Libertad
DESCRIPTION:Matina Y Gospel Libertad es un grupo dirigido por Matina\, compositora e Intérprete e integrado por aficionados a la música gospel.   A todos les une su pasión por la música como forma de vivir y comunicar la fe cristiana. \nEste coro góspel realizará un concierto benéfico\, en la iglesia parroquial de San Martín Obispo\, el próximo 17 de mayo a las 20:30 h.\nToda la recaudación se destinará a la restauración de la iluminación interior de la iglesia y de los salones parroquiales. \nLas entradas están a la venta a un precio de 12 €\, en el Ayuntamiento de San Martín de Valdeiglesias\,  a través de la página matinaygospellibertad.com y a través de Elcorteingles.es. \nBizum: 626 68 03 06. \nTambién hay Fila 0.
URL:https://www.sanmartindevaldeiglesias.es/evento/matina-y-gospel-libertad/
LOCATION:Iglesia Parroquial\, Plaza Real\, s/n\, San Martín de Valdeiglesias\, Madrid\, 28680\, España
CATEGORIES:Conciertos
END:VEVENT
BEGIN:VEVENT
DTSTART;TZID=Europe/Madrid:20250519T090000
DTEND;TZID=Europe/Madrid:20250519T103000
DTSTAMP:20260420T145010
CREATED:20250512T100606Z
LAST-MODIFIED:20250512T114046Z
UID:28070-1747645200-1747650600@www.sanmartindevaldeiglesias.es
SUMMARY:Marcha saludable
DESCRIPTION:El Centro de Salud de la localidad organiza la II Marcha Saludable\, para promover la vida activa. \nSon 3\,5 kms. que puedes realizar con los profesionales del Centro de Salud. \nFecha: 19 mayo 2025. \nHora: 9:00 h. \nInscripciones gratuitas en el Centro de Salud. \nSalida: Centro de atención e información de la Seguridad Social. \n \n 
URL:https://www.sanmartindevaldeiglesias.es/evento/marcha-saludable/
LOCATION:Parque junto Servicios Sociales\, Ctra. de Toledo\, San Martín de Valdeiglesias\, 28680\, España
CATEGORIES:Salud
END:VEVENT
BEGIN:VEVENT
DTSTART;TZID=Europe/Madrid:20250520T200000
DTEND;TZID=Europe/Madrid:20250520T213000
DTSTAMP:20260420T145010
CREATED:20250424T113939Z
LAST-MODIFIED:20250424T113939Z
UID:27978-1747771200-1747776600@www.sanmartindevaldeiglesias.es
SUMMARY:Audición de piano
DESCRIPTION:  \n\n20 mayo 2025. Audición del aula de piano. Auditorio de la Escuela de Música. 20 h.\n\n  \n\n26 mayo 2025. Audición del aula de violín. Auditorio de la Escuela de Música. 19 h.\n28 mayo 2025. Técnica de Canto. Auditorio de la Escuela de Música. 20 h.\n30 mayo 2025. Audición de guitarra. Auditorio de la Escuela de Música. 19 h.\n4 junio 2025.  Audición del aula de iniciación. Teatro Municipal. 20 h.\n18 junio 2025.  Concierto de fin de curso. Teatro Municipal. 20 h.\n\nLa asistencia a las audiciones es gratuita.
URL:https://www.sanmartindevaldeiglesias.es/evento/audicion-de-piano-6/
LOCATION:Escuela Municipal de Música y Danza «Maestro Joaquín Rodrigo»\, General Martinez Benito 4\, San Martín de Valdeiglesias\, Madrid\, 28680\, España
CATEGORIES:Conciertos
END:VEVENT
BEGIN:VEVENT
DTSTART;TZID=Europe/Madrid:20250526T190000
DTEND;TZID=Europe/Madrid:20250526T203000
DTSTAMP:20260420T145010
CREATED:20250424T114209Z
LAST-MODIFIED:20250424T114209Z
UID:27980-1748286000-1748291400@www.sanmartindevaldeiglesias.es
SUMMARY:Audición de violín
DESCRIPTION:26 mayo 2025. Audición del aula de violín. Auditorio de la Escuela de Música. 19 h.\n\n  \n\n28 mayo 2025. Técnica de Canto. Auditorio de la Escuela de Música. 20 h.\n30 mayo 2025. Audición de guitarra. Auditorio de la Escuela de Música. 19 h.\n4 junio 2025.  Audición del aula de iniciación. Teatro Municipal. 20 h.\n18 junio 2025.  Concierto de fin de curso. Teatro Municipal. 20 h.\n\nLa asistencia a las audiciones es gratuita.
URL:https://www.sanmartindevaldeiglesias.es/evento/audicion-de-violin-5/
LOCATION:Escuela Municipal de Música y Danza «Maestro Joaquín Rodrigo»\, General Martinez Benito 4\, San Martín de Valdeiglesias\, Madrid\, 28680\, España
CATEGORIES:Conciertos
END:VEVENT
BEGIN:VEVENT
DTSTART;TZID=Europe/Madrid:20250528T200000
DTEND;TZID=Europe/Madrid:20250528T213000
DTSTAMP:20260420T145010
CREATED:20250424T114629Z
LAST-MODIFIED:20250424T114629Z
UID:27982-1748462400-1748467800@www.sanmartindevaldeiglesias.es
SUMMARY:Audición técnicas de canto
DESCRIPTION:28 mayo 2025. Técnica de Canto. Auditorio de la Escuela de Música. 20 h.\n\n  \n\n30 mayo 2025. Audición de guitarra. Auditorio de la Escuela de Música. 19 h.\n4 junio 2025.  Audición del aula de iniciación. Teatro Municipal. 20 h.\n18 junio 2025.  Concierto de fin de curso. Teatro Municipal. 20 h.\n\nLa asistencia a las audiciones es gratuita.
URL:https://www.sanmartindevaldeiglesias.es/evento/audicion-tecnicas-de-canto-3/
LOCATION:Escuela Municipal de Música y Danza «Maestro Joaquín Rodrigo»\, General Martinez Benito 4\, San Martín de Valdeiglesias\, Madrid\, 28680\, España
CATEGORIES:Conciertos
END:VEVENT
BEGIN:VEVENT
DTSTART;TZID=Europe/Madrid:20250530T173000
DTEND;TZID=Europe/Madrid:20250530T190000
DTSTAMP:20260420T145010
CREATED:20250505T092102Z
LAST-MODIFIED:20250505T092459Z
UID:28010-1748626200-1748631600@www.sanmartindevaldeiglesias.es
SUMMARY:Club de lectura adulto
DESCRIPTION:Dirigido a personas mayores de 18 años. \nInscripciones en la biblioteca municipal. \nViernes\, 30 mayo\, 17:30 h.
URL:https://www.sanmartindevaldeiglesias.es/evento/club-de-lectura-adulto/
LOCATION:Biblioteca Municipal\, C/ Fuente\, 4\, San Martín de Valdeiglesias\, Madrid\, 28680\, España
CATEGORIES:Encuentro cultural
END:VEVENT
BEGIN:VEVENT
DTSTART;TZID=Europe/Madrid:20250530T190000
DTEND;TZID=Europe/Madrid:20250530T203000
DTSTAMP:20260420T145010
CREATED:20250424T114825Z
LAST-MODIFIED:20250424T114825Z
UID:27984-1748631600-1748637000@www.sanmartindevaldeiglesias.es
SUMMARY:Audición de guitarra
DESCRIPTION:  \n\n30 mayo 2025. Audición de guitarra. Auditorio de la Escuela de Música. 19 h.\n\n  \n\n4 junio 2025.  Audición del aula de iniciación. Teatro Municipal. 20 h.\n18 junio 2025.  Concierto de fin de curso. Teatro Municipal. 20 h.\n\nLa asistencia a las audiciones es gratuita.
URL:https://www.sanmartindevaldeiglesias.es/evento/audicion-de-guitarra-3/
LOCATION:Escuela Municipal de Música y Danza «Maestro Joaquín Rodrigo»\, General Martinez Benito 4\, San Martín de Valdeiglesias\, Madrid\, 28680\, España
CATEGORIES:Conciertos
END:VEVENT
BEGIN:VEVENT
DTSTART;VALUE=DATE:20250531
DTEND;VALUE=DATE:20250602
DTSTAMP:20260420T145010
CREATED:20250404T113233Z
LAST-MODIFIED:20250514T115302Z
UID:27877-1748649600-1748822399@www.sanmartindevaldeiglesias.es
SUMMARY:IV Feria del Vino
DESCRIPTION:  \n \n31  mayo – 1 junio de 2025. Plaza de Toros.   \nLa elaboración de vino en el municipio cuenta con una arraigada tradición que se remonta al siglo XI y se ha reflejado en la literatura de autores universales como Miguel de Cervantes o César Manrique. En este contexto\, el Ayuntamiento organiza la Feria del Vino\, que este año alcanzará su cuarta edición para que sea un punto de encuentro entre las bodegas productoras\, apoyar al sector agrario y la diversificación de la economía local. \nPROGRAMA de la Feria: \n\nSábado 31 mayo 2025.   \nHorario de 12  a 15 h. y de 18 a 20 h.\n12:00 h. Acto inauguración.\n12:30 h. Actuación de alumnos de la Escuela Municipal de Música y Danza\, «Maestro Joaquín Rodrigo».\n12:30 h. Cata impartida por la sumiller Yolanda Ruiz\, con vinos de las bodegas San Esteban\, Cardeña y Mariscalas.  Gratuito.  Inscripciones a través del correo electrónico  gloria.duran@sanmartindevaldeiglesias.es.\n13:20 h.  Cata con vinos de la Bodega Valdenoches.\n\nDe 15:00 a 18:00 h.  Cierre de la Feria. \n18:00 h. Apertura de la Feria.\n18:30 h. Cata con vinos de la Bodega «Mariscalas».\n20:00 h. Clausura de la feria. \n\nDomingo 1 de junio 2025.\n12:00 h. Apertura de la Feria.\n12:30 h. Cata con vinos de la bodega «Juliana de la Rosa».\n15:00 h. Clausura de la Feria. \n\n\n\n\nEmpresas participantes en la Feria\n\n\n\n\nHorno panadería Conejo. Elaboración de «Las Palmeritas» de Morata de Tajuña»\nWeb: lapalmeritademorata.es\n\n\n\n\n\nBodega Valdenoches. San Martín de Valdeiglesias (Madrid)\nWeb: bodegavaldenoches.com\n\n\nBodega San Esteban Patromartir. Cenicientos (Madrid)\nweb: bodegacenicientos.com\n\n\nBodegas Cardeña. Navas del Rey (Madrid).\nWeb: vinosypureza.com\n\n\nBodega SamPedro. Villa del Prado (Madrid).\n\n\nBodega  Juliana de la Rosa. Villa del Prado (Madrid)\nWeb: vinosjuliana.com\n\n\nBodega  Valleyglesias. San Martín de Valdeiglesias (Madrid)\nWeb: valleyglesias.com\n\n\nFinca Mariscalas (Bodega Aumestquet Garrido). Cadalso de los Vidrios (Madrid).\nWeb: fincamariscales.com\n\n\nBodega invitadas:  Vinos Daniel Ramos.\nWeb: Vinos Daniel Ramos \n\n\n\n\nInstituciones y asociaciones colaboradoras\n\n\n\n\n \n\n\n\n\n\nCon el patrocinio de:\n\n\n\n  \n  \n 
URL:https://www.sanmartindevaldeiglesias.es/evento/iv-feria-del-vino/
LOCATION:Plaza de toros
CATEGORIES:Desarrollo económico
END:VEVENT
END:VCALENDAR